Workbook

Sheet Oerth demographics
AU1: Total
AA2: Sub-Total | AC2: =SUM(AC10:AC64) -> 5587709.7 | AD2: =SUM(AD10:AD64) -> 8848411.6 | AE2: =SUM(AE10:AE64) -> 4665214 | AF2: =SUM(AF10:AF64) -> 2497376.5 | AG2: =SUM(AG10:AG64) -> 104542.28 | AH2: =SUM(AH10:AH100) -> 429529.56 | AI2: =SUM(AI10:AI100) -> 562353.94 | AJ2: =SUM(AJ10:AJ100) -> 2500 | AK2: =SUM(AK10:AK100) -> 505049.1 | AL2: =SUM(AL10:AL100) -> 103611 | AM2: =SUM(AM10:AM100) -> 934483 | AN2: =SUM(AN10:AN100) -> 716523.6 | AO2: =SUM(AO10:AO100) -> 1489615.1 | ... AT2: =SUM(AT10:AT100) -> 331890.8
AB3: =SUM(AB10:AB100) -> 21877554 | AH3: =AH2+AI2 -> 991883.5 | AJ3: =AJ2+AK2+AL2+AM2 -> 1545643.1 | AN3: =AN2 -> 716523.6 | AO3: =AO2 -> 1489615.1
AA4: Total | AB4: =AB3 -> 21877554 | AH4: =AH2 -> 429529.56 | AI4: =AI2 -> 562353.94 | AJ4: =AJ2 -> 2500 | AK4: =AK2 -> 505049.1 | AL4: =AL2 -> 103611 | AM4: =AM2 -> 934483 | AN4: =AN2 -> 716523.6 | AO4: =AO2 -> 1489615.1 | ... AT4: =AT2 -> 331890.8 | AU4: =SUM(AB4:AT4) -> 28882630
AA5: Percentage | AB5: =AB4/$AU$4 -> 0.75746406 | AH5: =AH4/$AU$4 -> 0.014871553 | AI5: =AI4/$AU$4 -> 0.019470316 | AJ5: =AJ4/$AU$4 -> 8.6557214e-05 | AK5: =AK4/$AU$4 -> 0.017486257 | AL5: =AL4/$AU$4 -> 0.0035873118 | AM5: =AM4/$AU$4 -> 0.032354498 | AN5: =AN4/$AU$4 -> 0.024808115 | AO5: =AO4/$AU$4 -> 0.051574773 | ... AT5: =AT4/$AU$4 -> 0.011491017
A7: Numbers from LGG. | J7: Percentages
K8: Dwarf | M8: Elf
B9: Country | C9: Total pop | D9: Suel | E9: Oeridian | F9: Bakluni | G9: Flan | H9: Other | I9: Human Tot | J9: Human | K9: Mountain | L9: Hill | M9: Unspec elf | N9: Valley | O9: High | P9: Grey | Q9: Sylvan | R9: Gnome | S9: Halfling | T9: Half-elf | U9: Half-orc | V9: Orc | W9: Goblinoids | X9: Other | Z9: Total | AB9: Human | AC9: Suel | AD9: Oeridian | AE9: Bakluni | AF9: Flan | AG9: Other | AH9: Mountain | AI9: Hill | AJ9: Valley | AK9: High | AL9: Grey | AM9: Sylvan | AN9: Gnome | AO9: Halfling | AP9: Half-elf | AQ9: Half-orc | AR9: Orc | AS9: Goblinoids | AT9: Other
B10: Ahlissa | C10: 3836100 | D10: 0.35 | E10: 0.55 | G10: 0.1 | I10: =SUM(D10:H10) -> 1 | J10: 0.79 | L10: 0.02 | O10: =0.05*0.1 -> 0.005 | Q10: =0.05*0.9 -> 0.045 | R10: 0.02 | S10: 0.09 | T10: 0.01 | U10: 0.01 | X10: 0.01 | Z10: =SUM(J10:X10) -> 1 | AB10: =$C10*J10 -> 3030519 | AC10: =D10*$J10*$C10 -> 1060681.6 | AD10: =E10*$J10*$C10 -> 1666785.5 | AE10: =F10*$J10*$C10 -> 0 | AF10: =G10*$J10*$C10 -> 303051.9 | AG10: =H10*$J10*$C10 -> 0 | AH10: =$C10*K10 -> 0 | AI10: =$C10*L10 -> 76722 | AJ10: =$C10*N10 -> 0 | AK10: =$C10*O10 -> 19180.5 | AL10: =$C10*P10 -> 0 | AM10: =$C10*Q10 -> 172624.5 | AN10: =$C10*R10 -> 76722 | AO10: =$C10*S10 -> 345249 | AP10: =$C10*T10 -> 38361 | AQ10: =$C10*U10 -> 38361 | ... AT10: =$C10*X10 -> 38361
B11: Bandit kingdoms | C11: 475200 | D11: 0.2 | E11: 0.4 | F11: 0.1 | G11: 0.3 | I11: =SUM(D11:H11) -> 1 | J11: 0.79 | L11: 0.01 | O11: 0.015 | Q11: 0.015 | R11: 0.02 | S11: 0.05 | T11: 0.01 | U11: 0.09 | X11: 0 | Z11: =SUM(J11:X11) -> 1 | AB11: =$C11*J11 -> 375408 | AC11: =D11*$J11*$C11 -> 75081.6 | AD11: =E11*$J11*$C11 -> 150163.2 | AE11: =F11*$J11*$C11 -> 37540.8 | AF11: =G11*$J11*$C11 -> 112622.4 | AG11: =H11*$J11*$C11 -> 0 | AH11: =$C11*K11 -> 0 | AI11: =$C11*L11 -> 4752 | AJ11: =$C11*N11 -> 0 | AK11: =$C11*O11 -> 7128 | AL11: =$C11*P11 -> 0 | AM11: =$C11*Q11 -> 7128 | AN11: =$C11*R11 -> 9504 | AO11: =$C11*S11 -> 23760 | AP11: =$C11*T11 -> 4752 | AQ11: =$C11*U11 -> 42768 | ... AT11: =$C11*X11 -> 0
B12: Bissel | C12: 123880 | D12: 0.35 | E12: 0.45 | F12: 0.2 | I12: =SUM(D12:H12) -> 1 | J12: 0.82 | K12: 0.057 | L12: 0.043 | Q12: 0.02 | R12: 0.02 | S12: 0.02 | T12: 0.01 | X12: 0.01 | Z12: =SUM(J12:X12) -> 1 | AB12: =$C12*J12 -> 101581.6 | AC12: =D12*$J12*$C12 -> 35553.56 | AD12: =E12*$J12*$C12 -> 45711.72 | AE12: =F12*$J12*$C12 -> 20316.32 | AF12: =G12*$J12*$C12 -> 0 | AG12: =H12*$J12*$C12 -> 0 | AH12: =$C12*K12 -> 7061.16 | AI12: =$C12*L12 -> 5326.84 | AJ12: =$C12*N12 -> 0 | AK12: =$C12*O12 -> 0 | AL12: =$C12*P12 -> 0 | AM12: =$C12*Q12 -> 2477.6 | AN12: =$C12*R12 -> 2477.6 | AO12: =$C12*S12 -> 2477.6 | AP12: =$C12*T12 -> 1238.8 | AQ12: =$C12*U12 -> 0 | ... AT12: =$C12*X12 -> 1238.8
B13: Blackmoor | C13: 110000 | D13: 0.12 | E13: 0.3 | F13: 0.08 | G13: 0.5 | I13: =SUM(D13:H13) -> 1 | J13: 0.37 | O13: 0.05 | Q13: 0.05 | R13: 0.07 | S13: 0.18 | T13: 0.02 | U13: 0.05 | V13: 0.2 | X13: 0.01 | Z13: =SUM(J13:X13) -> 1 | AB13: =$C13*J13 -> 40700 | AC13: =D13*$J13*$C13 -> 4884 | AD13: =E13*$J13*$C13 -> 12210 | AE13: =F13*$J13*$C13 -> 3256 | AF13: =G13*$J13*$C13 -> 20350 | AG13: =H13*$J13*$C13 -> 0 | AH13: =$C13*K13 -> 0 | AI13: =$C13*L13 -> 0 | AJ13: =$C13*N13 -> 0 | AK13: =$C13*O13 -> 5500 | AL13: =$C13*P13 -> 0 | AM13: =$C13*Q13 -> 5500 | AN13: =$C13*R13 -> 7700 | AO13: =$C13*S13 -> 19800 | AP13: =$C13*T13 -> 2200 | AQ13: =$C13*U13 -> 5500 | ... AT13: =$C13*X13 -> 1100
B14: Bone march | C14: 310000 | D14: 0.12 | E14: 0.8 | G14: 0.08 | I14: =SUM(D14:H14) -> 1 | J14: 0.37 | L14: 0.01 | O14: 0.035 | Q14: 0.035 | R14: 0.1 | S14: 0.18 | T14: 0.03 | U14: 0.04 | V14: 0.2 | Z14: =SUM(J14:X14) -> 1 | AB14: =$C14*J14 -> 114700 | AC14: =D14*$J14*$C14 -> 13764 | AD14: =E14*$J14*$C14 -> 91760 | AE14: =F14*$J14*$C14 -> 0 | AF14: =G14*$J14*$C14 -> 9176 | AG14: =H14*$J14*$C14 -> 0 | AH14: =$C14*K14 -> 0 | AI14: =$C14*L14 -> 3100 | AJ14: =$C14*N14 -> 0 | AK14: =$C14*O14 -> 10850 | AL14: =$C14*P14 -> 0 | AM14: =$C14*Q14 -> 10850 | AN14: =$C14*R14 -> 31000 | AO14: =$C14*S14 -> 55800 | AP14: =$C14*T14 -> 9300 | AQ14: =$C14*U14 -> 12400 | ... AT14: =$C14*X14 -> 0
B15: Bright lands | C15: 26500 | D15: 0.15 | E15: 0.1 | F15: 0.05 | G15: 0.7 | I15: =SUM(D15:H15) -> 1 | J15: 0.79 | L15: 0.2 | X15: 0.01 | Z15: =SUM(J15:X15) -> 1 | AB15: =$C15*J15 -> 20935 | AC15: =D15*$J15*$C15 -> 3140.25 | AD15: =E15*$J15*$C15 -> 2093.5 | AE15: =F15*$J15*$C15 -> 1046.75 | AF15: =G15*$J15*$C15 -> 14654.5 | AG15: =H15*$J15*$C15 -> 0 | AH15: =$C15*K15 -> 0 | AI15: =$C15*L15 -> 5300 | AJ15: =$C15*N15 -> 0 | AK15: =$C15*O15 -> 0 | AL15: =$C15*P15 -> 0 | AM15: =$C15*Q15 -> 0 | AN15: =$C15*R15 -> 0 | AO15: =$C15*S15 -> 0 | AP15: =$C15*T15 -> 0 | AQ15: =$C15*U15 -> 0 | ... AT15: =$C15*X15 -> 265
B16: Celene | C16: 140000 | D16: 0.8 | E16: 0.12 | G16: 0.08 | I16: =SUM(D16:H16) -> 1 | J16: 0.09 | P16: =0.79*0.55 -> 0.4345 | Q16: =0.79*0.45 -> 0.3555 | R16: 0.03 | S16: 0.02 | T16: 0.05 | X16: 0.02 | Z16: =SUM(J16:X16) -> 1 | AB16: =$C16*J16 -> 12600 | AC16: =D16*$J16*$C16 -> 10080 | AD16: =E16*$J16*$C16 -> 1512 | AE16: =F16*$J16*$C16 -> 0 | AF16: =G16*$J16*$C16 -> 1008 | AG16: =H16*$J16*$C16 -> 0 | AH16: =$C16*K16 -> 0 | AI16: =$C16*L16 -> 0 | AJ16: =$C16*N16 -> 0 | AK16: =$C16*O16 -> 0 | AL16: =$C16*P16 -> 60830 | AM16: =$C16*Q16 -> 49770 | AN16: =$C16*R16 -> 4200 | AO16: =$C16*S16 -> 2800 | AP16: =$C16*T16 -> 7000 | AQ16: =$C16*U16 -> 0 | ... AT16: =$C16*X16 -> 2800
B17: Dyvers | C17: 128000 | D17: 0.12 | E17: 0.7 | F17: 0.06 | G17: 0.08 | H17: 0.04 | I17: =SUM(D17:H17) -> 1 | J17: 0.79 | L17: 0.02 | O17: 0.015 | Q17: 0.015 | R17: 0.08 | S17: 0.06 | T17: 0.01 | U17: 0.01 | Z17: =SUM(J17:X17) -> 1 | AB17: =$C17*J17 -> 101120 | AC17: =D17*$J17*$C17 -> 12134.4 | AD17: =E17*$J17*$C17 -> 70784 | AE17: =F17*$J17*$C17 -> 6067.2 | AF17: =G17*$J17*$C17 -> 8089.6 | AG17: =H17*$J17*$C17 -> 4044.8 | AH17: =$C17*K17 -> 0 | AI17: =$C17*L17 -> 2560 | AJ17: =$C17*N17 -> 0 | AK17: =$C17*O17 -> 1920 | AL17: =$C17*P17 -> 0 | AM17: =$C17*Q17 -> 1920 | AN17: =$C17*R17 -> 10240 | AO17: =$C17*S17 -> 7680 | AP17: =$C17*T17 -> 1280 | AQ17: =$C17*U17 -> 1280 | ... AT17: =$C17*X17 -> 0
B18: Ekbir | C18: 1960000 | F18: 1 | I18: =SUM(D18:H18) -> 1 | J18: 0.96 | O18: 0.005 | Q18: 0.005 | S18: 0.02 | X18: 0.01 | Z18: =SUM(J18:X18) -> 1 | AB18: =$C18*J18 -> 1881600 | AC18: =D18*$J18*$C18 -> 0 | AD18: =E18*$J18*$C18 -> 0 | AE18: =F18*$J18*$C18 -> 1881600 | AF18: =G18*$J18*$C18 -> 0 | AG18: =H18*$J18*$C18 -> 0 | AH18: =$C18*K18 -> 0 | AI18: =$C18*L18 -> 0 | AJ18: =$C18*N18 -> 0 | AK18: =$C18*O18 -> 9800 | AL18: =$C18*P18 -> 0 | AM18: =$C18*Q18 -> 9800 | AN18: =$C18*R18 -> 0 | AO18: =$C18*S18 -> 39200 | AP18: =$C18*T18 -> 0 | AQ18: =$C18*U18 -> 0 | ... AT18: =$C18*X18 -> 19600
B19: Frost barbarians | C19: 144500 | D19: 1 | I19: =SUM(D19:H19) -> 1 | J19: 0.96 | K19: 0.01 | L19: 0.01 | S19: 0.01 | X19: 0.01 | Z19: =SUM(J19:X19) -> 1 | AB19: =$C19*J19 -> 138720 | AC19: =D19*$J19*$C19 -> 138720 | AD19: =E19*$J19*$C19 -> 0 | AE19: =F19*$J19*$C19 -> 0 | AF19: =G19*$J19*$C19 -> 0 | AG19: =H19*$J19*$C19 -> 0 | AH19: =$C19*K19 -> 1445 | AI19: =$C19*L19 -> 1445 | AJ19: =$C19*N19 -> 0 | AK19: =$C19*O19 -> 0 | AL19: =$C19*P19 -> 0 | AM19: =$C19*Q19 -> 0 | AN19: =$C19*R19 -> 0 | AO19: =$C19*S19 -> 1445 | AP19: =$C19*T19 -> 0 | AQ19: =$C19*U19 -> 0 | ... AT19: =$C19*X19 -> 1445
B20: Furyondy | C20: 1481800 | D20: 0.12 | E20: 0.75 | F20: 0.08 | G20: 0.05 | I20: =SUM(D20:H20) -> 1 | J20: 0.79 | L20: 0.03 | O20: =0.4*0.09 -> 0.036 | Q20: =0.6*0.09 -> 0.054 | R20: 0.02 | S20: 0.05 | T20: 0.01 | U20: 0.01 | Z20: =SUM(J20:X20) -> 1 | AB20: =$C20*J20 -> 1170622 | AC20: =D20*$J20*$C20 -> 140474.64 | AD20: =E20*$J20*$C20 -> 877966.5 | AE20: =F20*$J20*$C20 -> 93649.76 | AF20: =G20*$J20*$C20 -> 58531.1 | AG20: =H20*$J20*$C20 -> 0 | AH20: =$C20*K20 -> 0 | AI20: =$C20*L20 -> 44454 | AJ20: =$C20*N20 -> 0 | AK20: =$C20*O20 -> 53344.8 | AL20: =$C20*P20 -> 0 | AM20: =$C20*Q20 -> 80017.2 | AN20: =$C20*R20 -> 29636 | AO20: =$C20*S20 -> 74090 | AP20: =$C20*T20 -> 14818 | AQ20: =$C20*U20 -> 14818 | ... AT20: =$C20*X20 -> 0
B21: Geoff | C21: 70000 | D21: 0.3 | E21: 0.25 | G21: 0.45 | I21: =SUM(D21:H21) -> 1 | J21: 0.79 | L21: 0.03 | O21: =0.1*0.09 -> 0.009 | Q21: =0.9*0.09 -> 0.081 | R21: 0.02 | S21: 0.05 | T21: 0.01 | U21: 0.01 | Z21: =SUM(J21:X21) -> 1 | AB21: =$C21*J21 -> 55300 | AC21: =D21*$J21*$C21 -> 16590 | AD21: =E21*$J21*$C21 -> 13825 | AE21: =F21*$J21*$C21 -> 0 | AF21: =G21*$J21*$C21 -> 24885 | AG21: =H21*$J21*$C21 -> 0 | AH21: =$C21*K21 -> 0 | AI21: =$C21*L21 -> 2100 | AJ21: =$C21*N21 -> 0 | AK21: =$C21*O21 -> 630 | AL21: =$C21*P21 -> 0 | AM21: =$C21*Q21 -> 5670 | AN21: =$C21*R21 -> 1400 | AO21: =$C21*S21 -> 3500 | AP21: =$C21*T21 -> 700 | AQ21: =$C21*U21 -> 700 | ... AT21: =$C21*X21 -> 0
B22: Gran March | C22: 254600 | D22: 0.5 | E22: 0.4 | G22: 0.1 | I22: =SUM(D22:H22) -> 1 | J22: 0.79 | L22: 0.05 | Q22: 0.08 | R22: 0.02 | S22: 0.03 | T22: 0.01 | U22: 0.01 | X22: 0.01 | Z22: =SUM(J22:X22) -> 1 | AB22: =$C22*J22 -> 201134 | AC22: =D22*$J22*$C22 -> 100567 | AD22: =E22*$J22*$C22 -> 80453.6 | AE22: =F22*$J22*$C22 -> 0 | AF22: =G22*$J22*$C22 -> 20113.4 | AG22: =H22*$J22*$C22 -> 0 | AH22: =$C22*K22 -> 0 | AI22: =$C22*L22 -> 12730 | AJ22: =$C22*N22 -> 0 | AK22: =$C22*O22 -> 0 | AL22: =$C22*P22 -> 0 | AM22: =$C22*Q22 -> 20368 | AN22: =$C22*R22 -> 5092 | AO22: =$C22*S22 -> 7638 | AP22: =$C22*T22 -> 2546 | AQ22: =$C22*U22 -> 2546 | ... AT22: =$C22*X22 -> 2546
B23: Greyhawk domain | C23: 160000 | D23: 0.34 | E23: 0.42 | F23: 0.08 | G23: 0.1 | H23: 0.06 | I23: =SUM(D23:H23) -> 1 | J23: 0.79 | L23: 0.02 | Q23: 0.03 | R23: 0.05 | S23: 0.09 | T23: 0.01 | U23: 0.01 | Z23: =SUM(J23:X23) -> 1 | AB23: =$C23*J23 -> 126400 | AC23: =D23*$J23*$C23 -> 42976 | AD23: =E23*$J23*$C23 -> 53088 | AE23: =F23*$J23*$C23 -> 10112 | AF23: =G23*$J23*$C23 -> 12640 | AG23: =H23*$J23*$C23 -> 7584 | AH23: =$C23*K23 -> 0 | AI23: =$C23*L23 -> 3200 | AJ23: =$C23*N23 -> 0 | AK23: =$C23*O23 -> 0 | AL23: =$C23*P23 -> 0 | AM23: =$C23*Q23 -> 4800 | AN23: =$C23*R23 -> 8000 | AO23: =$C23*S23 -> 14400 | AP23: =$C23*T23 -> 1600 | AQ23: =$C23*U23 -> 1600 | ... AT23: =$C23*X23 -> 0
B24: Highfolk | C24: 46000 | D24: 0.15 | E24: 0.85 | I24: =SUM(D24:H24) -> 1 | J24: 0.09 | L24: 0.01 | O24: =0.79*0.6 -> 0.474 | Q24: =0.79*0.4 -> 0.316 | R24: 0.02 | S24: 0.03 | T24: 0.05 | U24: 0.01 | Z24: =SUM(J24:X24) -> 1 | AB24: =$C24*J24 -> 4140 | AC24: =D24*$J24*$C24 -> 621 | AD24: =E24*$J24*$C24 -> 3519 | AE24: =F24*$J24*$C24 -> 0 | AF24: =G24*$J24*$C24 -> 0 | AG24: =H24*$J24*$C24 -> 0 | AH24: =$C24*K24 -> 0 | AI24: =$C24*L24 -> 460 | AJ24: =$C24*N24 -> 0 | AK24: =$C24*O24 -> 21804 | AL24: =$C24*P24 -> 0 | AM24: =$C24*Q24 -> 14536 | AN24: =$C24*R24 -> 920 | AO24: =$C24*S24 -> 1380 | AP24: =$C24*T24 -> 2300 | AQ24: =$C24*U24 -> 460 | ... AT24: =$C24*X24 -> 0
B25: Ice barbarians | C25: 158800 | D25: 1 | I25: =SUM(D25:H25) -> 1 | J25: 0.96 | K25: =0.02*0.65 -> 0.013 | L25: =0.02*0.35 -> 0.007 | S25: 0.01 | X25: 0.01 | Z25: =SUM(J25:X25) -> 1 | AB25: =$C25*J25 -> 152448 | AC25: =D25*$J25*$C25 -> 152448 | AD25: =E25*$J25*$C25 -> 0 | AE25: =F25*$J25*$C25 -> 0 | AF25: =G25*$J25*$C25 -> 0 | AG25: =H25*$J25*$C25 -> 0 | AH25: =$C25*K25 -> 2064.4 | AI25: =$C25*L25 -> 1111.6 | AJ25: =$C25*N25 -> 0 | AK25: =$C25*O25 -> 0 | AL25: =$C25*P25 -> 0 | AM25: =$C25*Q25 -> 0 | AN25: =$C25*R25 -> 0 | AO25: =$C25*S25 -> 1588 | AP25: =$C25*T25 -> 0 | AQ25: =$C25*U25 -> 0 | ... AT25: =$C25*X25 -> 1588
B26: Irongate | C26: 71000 | D26: 0.15 | E26: 0.85 | I26: =SUM(D26:H26) -> 1 | J26: 0.83 | L26: 0.15 | S26: 0.01 | X26: 0.01 | Z26: =SUM(J26:X26) -> 1 | AB26: =$C26*J26 -> 58930 | AC26: =D26*$J26*$C26 -> 8839.5 | AD26: =E26*$J26*$C26 -> 50090.5 | AE26: =F26*$J26*$C26 -> 0 | AF26: =G26*$J26*$C26 -> 0 | AG26: =H26*$J26*$C26 -> 0 | AH26: =$C26*K26 -> 0 | AI26: =$C26*L26 -> 10650 | AJ26: =$C26*N26 -> 0 | AK26: =$C26*O26 -> 0 | AL26: =$C26*P26 -> 0 | AM26: =$C26*Q26 -> 0 | AN26: =$C26*R26 -> 0 | AO26: =$C26*S26 -> 710 | AP26: =$C26*T26 -> 0 | AQ26: =$C26*U26 -> 0 | ... AT26: =$C26*X26 -> 710
B27: Iuz, empire of | C27: 700000 | D27: 0.1 | E27: 0.7 | F27: 0.08 | G27: 0.12 | I27: =SUM(D27:H27) -> 1 | J27: 0.25 | R27: 0.02 | S27: 0.05 | U27: 0.03 | V27: 0.45 | W27: 0.1 | X27: 0.1 | Z27: =SUM(J27:X27) -> 1 | AB27: =$C27*J27 -> 175000 | AC27: =D27*$J27*$C27 -> 17500 | AD27: =E27*$J27*$C27 -> 122500 | AE27: =F27*$J27*$C27 -> 14000 | AF27: =G27*$J27*$C27 -> 21000 | AG27: =H27*$J27*$C27 -> 0 | AH27: =$C27*K27 -> 0 | AI27: =$C27*L27 -> 0 | AJ27: =$C27*N27 -> 0 | AK27: =$C27*O27 -> 0 | AL27: =$C27*P27 -> 0 | AM27: =$C27*Q27 -> 0 | AN27: =$C27*R27 -> 14000 | AO27: =$C27*S27 -> 35000 | AP27: =$C27*T27 -> 0 | AQ27: =$C27*U27 -> 21000 | ... AT27: =$C27*X27 -> 70000
B28: Keoland | C28: 1800000 | D28: 0.5 | E28: 0.4 | G28: 0.1 | I28: =SUM(D28:H28) -> 1 | J28: 0.75 | L28: 0.01 | O28: =0.08*0.4 -> 0.032 | Q28: =0.08*0.6 -> 0.048 | R28: 0.06 | S28: 0.05 | T28: 0.02 | X28: 0.03 | Z28: =SUM(J28:X28) -> 1 | AB28: =$C28*J28 -> 1350000 | AC28: =D28*$J28*$C28 -> 675000 | AD28: =E28*$J28*$C28 -> 540000 | AE28: =F28*$J28*$C28 -> 0 | AF28: =G28*$J28*$C28 -> 135000 | AG28: =H28*$J28*$C28 -> 0 | AH28: =$C28*K28 -> 0 | AI28: =$C28*L28 -> 18000 | AJ28: =$C28*N28 -> 0 | AK28: =$C28*O28 -> 57600 | AL28: =$C28*P28 -> 0 | AM28: =$C28*Q28 -> 86400 | AN28: =$C28*R28 -> 108000 | AO28: =$C28*S28 -> 90000 | AP28: =$C28*T28 -> 36000 | AQ28: =$C28*U28 -> 0 | ... AT28: =$C28*X28 -> 54000
B29: Ket | C29: 275000 | D29: 0.08 | E29: 0.12 | F29: 0.8 | I29: =SUM(D29:H29) -> 1 | J29: 0.96 | K29: =0.02*0.3 -> 0.006 | L29: =0.02*0.7 -> 0.014 | S29: 0.01 | X29: 0.01 | Z29: =SUM(J29:X29) -> 1 | AB29: =$C29*J29 -> 264000 | AC29: =D29*$J29*$C29 -> 21120 | AD29: =E29*$J29*$C29 -> 31680 | AE29: =F29*$J29*$C29 -> 211200 | AF29: =G29*$J29*$C29 -> 0 | AG29: =H29*$J29*$C29 -> 0 | AH29: =$C29*K29 -> 1650 | AI29: =$C29*L29 -> 3850 | AJ29: =$C29*N29 -> 0 | AK29: =$C29*O29 -> 0 | AL29: =$C29*P29 -> 0 | AM29: =$C29*Q29 -> 0 | AN29: =$C29*R29 -> 0 | AO29: =$C29*S29 -> 2750 | AP29: =$C29*T29 -> 0 | AQ29: =$C29*U29 -> 0 | ... AT29: =$C29*X29 -> 2750
B30: Lendore isles | C30: 41000 | D30: 0.85 | E30: 0.15 | I30: =SUM(D30:H30) -> 1 | J30: 0.01 | O30: =0.97*0.7 -> 0.679 | P30: =0.97*0.3 -> 0.291 | T30: 0.02 | Z30: =SUM(J30:X30) -> 1 | AB30: =$C30*J30 -> 410 | AC30: =D30*$J30*$C30 -> 348.5 | AD30: =E30*$J30*$C30 -> 61.5 | AE30: =F30*$J30*$C30 -> 0 | AF30: =G30*$J30*$C30 -> 0 | AG30: =H30*$J30*$C30 -> 0 | AH30: =$C30*K30 -> 0 | AI30: =$C30*L30 -> 0 | AJ30: =$C30*N30 -> 0 | AK30: =$C30*O30 -> 27839 | AL30: =$C30*P30 -> 11931 | AM30: =$C30*Q30 -> 0 | AN30: =$C30*R30 -> 0 | AO30: =$C30*S30 -> 0 | AP30: =$C30*T30 -> 820 | AQ30: =$C30*U30 -> 0 | ... AT30: =$C30*X30 -> 0
B31: Lordship of the isles | C31: 266000 | D31: 0.8 | E31: 0.12 | H31: 0.08 | I31: =SUM(D31:H31) -> 1 | J31: 0.79 | L31: 0.03 | O31: 0.09 | R31: 0.02 | S31: 0.05 | T31: 0.01 | U31: 0.01 | Z31: =SUM(J31:X31) -> 1 | AB31: =$C31*J31 -> 210140 | AC31: =D31*$J31*$C31 -> 168112 | AD31: =E31*$J31*$C31 -> 25216.8 | AE31: =F31*$J31*$C31 -> 0 | AF31: =G31*$J31*$C31 -> 0 | AG31: =H31*$J31*$C31 -> 16811.2 | AH31: =$C31*K31 -> 0 | AI31: =$C31*L31 -> 7980 | AJ31: =$C31*N31 -> 0 | AK31: =$C31*O31 -> 23940 | AL31: =$C31*P31 -> 0 | AM31: =$C31*Q31 -> 0 | AN31: =$C31*R31 -> 5320 | AO31: =$C31*S31 -> 13300 | AP31: =$C31*T31 -> 2660 | AQ31: =$C31*U31 -> 2660 | ... AT31: =$C31*X31 -> 0
B32: North kingdom | C32: 2618200 | D32: 0.1 | E32: 0.5 | G32: 0.4 | I32: =SUM(D32:H32) -> 1 | J32: 0.83 | S32: 0.02 | U32: 0.01 | V32: 0.09 | W32: 0.03 | X32: 0.02 | Z32: =SUM(J32:X32) -> 1 | AB32: =$C32*J32 -> 2173106 | AC32: =D32*$J32*$C32 -> 217310.6 | AD32: =E32*$J32*$C32 -> 1086553 | AE32: =F32*$J32*$C32 -> 0 | AF32: =G32*$J32*$C32 -> 869242.4 | AG32: =H32*$J32*$C32 -> 0 | AH32: =$C32*K32 -> 0 | AI32: =$C32*L32 -> 0 | AJ32: =$C32*N32 -> 0 | AK32: =$C32*O32 -> 0 | AL32: =$C32*P32 -> 0 | AM32: =$C32*Q32 -> 0 | AN32: =$C32*R32 -> 0 | AO32: =$C32*S32 -> 52364 | AP32: =$C32*T32 -> 0 | AQ32: =$C32*U32 -> 26182 | ... AT32: =$C32*X32 -> 52364
B33: Nyrond | C33: 2618200 | D33: 0.15 | E33: 0.85 | I33: =SUM(D33:H33) -> 1 | J33: 0.79 | L33: 0.03 | O33: =0.1*0.09 -> 0.009 | Q33: =0.9*0.09 -> 0.081 | R33: 0.02 | S33: 0.05 | T33: 0.01 | U33: 0.01 | Z33: =SUM(J33:X33) -> 1 | AB33: =$C33*J33 -> 2068378 | AC33: =D33*$J33*$C33 -> 310256.7 | AD33: =E33*$J33*$C33 -> 1758121.3 | AE33: =F33*$J33*$C33 -> 0 | AF33: =G33*$J33*$C33 -> 0 | AG33: =H33*$J33*$C33 -> 0 | AH33: =$C33*K33 -> 0 | AI33: =$C33*L33 -> 78546 | AJ33: =$C33*N33 -> 0 | AK33: =$C33*O33 -> 23563.8 | AL33: =$C33*P33 -> 0 | AM33: =$C33*Q33 -> 212074.2 | AN33: =$C33*R33 -> 52364 | AO33: =$C33*S33 -> 130910 | AP33: =$C33*T33 -> 26182 | AQ33: =$C33*U33 -> 26182 | ... AT33: =$C33*X33 -> 0
B34: Onnwal | C34: 85500 | D34: 0.15 | E34: 0.85 | I34: =SUM(D34:H34) -> 1 | J34: 0.79 | L34: 0.09 | O34: 0.01 | Q34: 0.01 | R34: 0.05 | S34: 0.03 | X34: 0.02 | Z34: =SUM(J34:X34) -> 1 | AB34: =$C34*J34 -> 67545 | AC34: =D34*$J34*$C34 -> 10131.75 | AD34: =E34*$J34*$C34 -> 57413.25 | AE34: =F34*$J34*$C34 -> 0 | AF34: =G34*$J34*$C34 -> 0 | AG34: =H34*$J34*$C34 -> 0 | AH34: =$C34*K34 -> 0 | AI34: =$C34*L34 -> 7695 | AJ34: =$C34*N34 -> 0 | AK34: =$C34*O34 -> 855 | AL34: =$C34*P34 -> 0 | AM34: =$C34*Q34 -> 855 | AN34: =$C34*R34 -> 4275 | AO34: =$C34*S34 -> 2565 | AP34: =$C34*T34 -> 0 | AQ34: =$C34*U34 -> 0 | ... AT34: =$C34*X34 -> 1710
B35: Pale | C35: 395000 | E35: 0.4 | G35: 0.6 | I35: =SUM(D35:H35) -> 1 | J35: 0.96 | O35: 0.005 | Q35: 0.005 | S35: 0.02 | X35: 0.01 | Z35: =SUM(J35:X35) -> 1 | AB35: =$C35*J35 -> 379200 | AC35: =D35*$J35*$C35 -> 0 | AD35: =E35*$J35*$C35 -> 151680 | AE35: =F35*$J35*$C35 -> 0 | AF35: =G35*$J35*$C35 -> 227520 | AG35: =H35*$J35*$C35 -> 0 | AH35: =$C35*K35 -> 0 | AI35: =$C35*L35 -> 0 | AJ35: =$C35*N35 -> 0 | AK35: =$C35*O35 -> 1975 | AL35: =$C35*P35 -> 0 | AM35: =$C35*Q35 -> 1975 | AN35: =$C35*R35 -> 0 | AO35: =$C35*S35 -> 7900 | AP35: =$C35*T35 -> 0 | AQ35: =$C35*U35 -> 0 | ... AT35: =$C35*X35 -> 3950
B36: Paynims | C36: 500000 | D36: 0.08 | E36: 0.12 | F36: 0.8 | I36: =SUM(D36:H36) -> 1 | J36: 0.96 | S36: 0.01 | X36: 0.03 | Z36: =SUM(J36:X36) -> 1 | AB36: =$C36*J36 -> 480000 | AC36: =D36*$J36*$C36 -> 38400 | AD36: =E36*$J36*$C36 -> 57600 | AE36: =F36*$J36*$C36 -> 384000 | AF36: =G36*$J36*$C36 -> 0 | AG36: =H36*$J36*$C36 -> 0 | AH36: =$C36*K36 -> 0 | AI36: =$C36*L36 -> 0 | AJ36: =$C36*N36 -> 0 | AK36: =$C36*O36 -> 0 | AL36: =$C36*P36 -> 0 | AM36: =$C36*Q36 -> 0 | AN36: =$C36*R36 -> 0 | AO36: =$C36*S36 -> 5000 | AP36: =$C36*T36 -> 0 | AQ36: =$C36*U36 -> 0 | ... AT36: =$C36*X36 -> 15000
B37: Perrenland | C37: 468000 | D37: 0.08 | E37: 0.46 | F37: 0.06 | G37: 0.4 | I37: =SUM(D37:H37) -> 1 | J37: 0.79 | K37: =0.08*0.9 -> 0.072 | L37: =0.08*0.1 -> 0.008 | O37: 0.015 | Q37: 0.015 | R37: 0.02 | S37: 0.06 | T37: 0.01 | U37: 0.01 | Z37: =SUM(J37:X37) -> 1 | AB37: =$C37*J37 -> 369720 | AC37: =D37*$J37*$C37 -> 29577.6 | AD37: =E37*$J37*$C37 -> 170071.2 | AE37: =F37*$J37*$C37 -> 22183.2 | AF37: =G37*$J37*$C37 -> 147888 | AG37: =H37*$J37*$C37 -> 0 | AH37: =$C37*K37 -> 33696 | AI37: =$C37*L37 -> 3744 | AJ37: =$C37*N37 -> 0 | AK37: =$C37*O37 -> 7020 | AL37: =$C37*P37 -> 0 | AM37: =$C37*Q37 -> 7020 | AN37: =$C37*R37 -> 9360 | AO37: =$C37*S37 -> 28080 | AP37: =$C37*T37 -> 4680 | AQ37: =$C37*U37 -> 4680 | ... AT37: =$C37*X37 -> 0
B38: Pomarj, empire of | C38: 476000 | D38: 0.5 | E38: 0.4 | G38: 0.1 | I38: =SUM(D38:H38) -> 1 | J38: 0.28 | S38: 0.03 | V38: 0.43 | W38: 0.25 | X38: 0.01 | Z38: =SUM(J38:X38) -> 1 | AB38: =$C38*J38 -> 133280 | AC38: =D38*$J38*$C38 -> 66640 | AD38: =E38*$J38*$C38 -> 53312 | AE38: =F38*$J38*$C38 -> 0 | AF38: =G38*$J38*$C38 -> 13328 | AG38: =H38*$J38*$C38 -> 0 | AH38: =$C38*K38 -> 0 | AI38: =$C38*L38 -> 0 | AJ38: =$C38*N38 -> 0 | AK38: =$C38*O38 -> 0 | AL38: =$C38*P38 -> 0 | AM38: =$C38*Q38 -> 0 | AN38: =$C38*R38 -> 0 | AO38: =$C38*S38 -> 14280 | AP38: =$C38*T38 -> 0 | AQ38: =$C38*U38 -> 0 | ... AT38: =$C38*X38 -> 4760
B39: Ratik | C39: 138500 | D39: 0.8 | E39: 0.12 | G39: 0.08 | I39: =SUM(D39:H39) -> 1 | J39: 0.79 | K39: =0.08*0.8 -> 0.064 | L39: =0.08*0.2 -> 0.016 | O39: 0.015 | Q39: 0.015 | R39: 0.02 | S39: 0.06 | T39: 0.01 | U39: 0.01 | Z39: =SUM(J39:X39) -> 1 | AB39: =$C39*J39 -> 109415 | AC39: =D39*$J39*$C39 -> 87532 | AD39: =E39*$J39*$C39 -> 13129.8 | AE39: =F39*$J39*$C39 -> 0 | AF39: =G39*$J39*$C39 -> 8753.2 | AG39: =H39*$J39*$C39 -> 0 | AH39: =$C39*K39 -> 8864 | AI39: =$C39*L39 -> 2216 | AJ39: =$C39*N39 -> 0 | AK39: =$C39*O39 -> 2077.5 | AL39: =$C39*P39 -> 0 | AM39: =$C39*Q39 -> 2077.5 | AN39: =$C39*R39 -> 2770 | AO39: =$C39*S39 -> 8310 | AP39: =$C39*T39 -> 1385 | AQ39: =$C39*U39 -> 1385 | ... AT39: =$C39*X39 -> 0
B40: Rel Astra & Solnor compact | C40: 380000 | D40: 0.2 | E40: 0.8 | I40: =SUM(D40:H40) -> 1 | J40: 0.79 | L40: 0.03 | O40: 0.02 | Q40: 0.02 | R40: 0.02 | S40: 0.09 | T40: 0.01 | U40: 0.02 | Z40: =SUM(J40:X40) -> 1 | AB40: =$C40*J40 -> 300200 | AC40: =D40*$J40*$C40 -> 60040 | AD40: =E40*$J40*$C40 -> 240160 | AE40: =F40*$J40*$C40 -> 0 | AF40: =G40*$J40*$C40 -> 0 | AG40: =H40*$J40*$C40 -> 0 | AH40: =$C40*K40 -> 0 | AI40: =$C40*L40 -> 11400 | AJ40: =$C40*N40 -> 0 | AK40: =$C40*O40 -> 7600 | AL40: =$C40*P40 -> 0 | AM40: =$C40*Q40 -> 7600 | AN40: =$C40*R40 -> 7600 | AO40: =$C40*S40 -> 34200 | AP40: =$C40*T40 -> 3800 | AQ40: =$C40*U40 -> 7600 | ... AT40: =$C40*X40 -> 0
B41: Rovers of the barren | C41: 35000 | F41: 0.15 | G41: 0.85 | I41: =SUM(D41:H41) -> 1 | J41: 0.37 | R41: 0.05 | S41: 0.07 | U41: 0.03 | V41: 0.2 | W41: 0.28 | Z41: =SUM(J41:X41) -> 1 | AB41: =$C41*J41 -> 12950 | AC41: =D41*$J41*$C41 -> 0 | AD41: =E41*$J41*$C41 -> 0 | AE41: =F41*$J41*$C41 -> 1942.5 | AF41: =G41*$J41*$C41 -> 11007.5 | AG41: =H41*$J41*$C41 -> 0 | AH41: =$C41*K41 -> 0 | AI41: =$C41*L41 -> 0 | AJ41: =$C41*N41 -> 0 | AK41: =$C41*O41 -> 0 | AL41: =$C41*P41 -> 0 | AM41: =$C41*Q41 -> 0 | AN41: =$C41*R41 -> 1750 | AO41: =$C41*S41 -> 2450 | AP41: =$C41*T41 -> 0 | AQ41: =$C41*U41 -> 1050 | ... AT41: =$C41*X41 -> 0
...

Sheet Area
A1: by Richard "Longetalos" Di Ioia
B3: Math distance | C3: cm on tool | D3: Darlene (km) | E3: miles | F3: Ratio (km/cm) | G3: Factor from cm2 to km2
B4: Greyhawk to Hardby | C4: 2.93 | D4: 245 | E4: =D4/1.6 -> 153.125 | F4: =D4/C4 -> 83.617747 | I4: Total area of the Flanaess | K4: =SUM(D11:D72)+SUM(I11:I40)+SUM(N11:N18)+SUM(S11:S45)+SUM(X11:X15)+SUM(AC11:AC13) -> 22816957 | L4: km2
B5: Chendl to Willip | C5: 7.1 | D5: 570 | E5: =D5/1.6 -> 356.25 | F5: =D5/C5 -> 80.28169 | K5: =K4*0.386102 -> 8809672.8 | L5: sq. miles
B6: Gradsul to Highport | C6: 9.68 | D6: 798 | E6: =D6/1.6 -> 498.75 | F6: =D6/C6 -> 82.438017
B7: Average ratio | F7: =AVERAGE(F4:F6) -> 82.112485 | G7: =F7*F7 -> 6742.4601
X8: =X11+X13+X14 -> 902613.14 | Y8: =Y11+Y13+Y14 -> 348500.74
D9: =SUM(D11:D72) -> 11667220 | E9: =SUM(E11:E72) -> 4504737.2 | I9: =SUM(I11:I40) -> 2683971.1 | J9: =SUM(J11:J40) -> 1036286.6 | N9: =SUM(N11:N18) -> 547083.22 | O9: =SUM(O11:O18) -> 211229.92 | S9: =SUM(S11:S45) -> 4359202.8 | T9: =SUM(T11:T45) -> 1683096.9 | X9: =SUM(X11:X15) -> 3212917.1 | Y9: =SUM(Y11:Y15) -> 1240513.7 | AC9: =SUM(AC11:AC13) -> 346562.45 | AD9: =SUM(AD11:AD13) -> 133808.46
B10: Countries | C10: Size (CM2) | D10: Area (km2) | E10: Area (sq.miles) | G10: Woodlands | H10: Size (CM2) | I10: Area (km2) | J10: Area (sq.miles) | L10: Swamps | M10: Size (CM2) | N10: Area (km2) | O10: Area (sq.miles) | Q10: Mountains and hills | R10: Size (CM2) | S10: Area (km2) | T10: Area (sq.miles) | V10: Wastelands | W10: Size (CM2) | X10: Area (km2) | Y10: Area (sq.miles) | AA10: Lakes | AB10: Size (CM2) | AC10: Area (km2) | AD10: Area (sq.miles)
B11: Ahlissa (less Almor, Idee, Medegia) | C11: 123.88 | D11: =C11*$G$7 -> 835255.96 | E11: =D11*0.386102 -> 322494 | G11: Adri forest | H11: 26.06 | I11: =H11*$G$7 -> 175708.51 | J11: =I11*0.386102 -> 67841.408 | L11: Cold marshes | M11: 34.84 | N11: =M11*$G$7 -> 234907.31 | O11: =N11*0.386102 -> 90698.183 | Q11: Abbor-alz | R11: 2.98 | S11: =R11*$G$7 -> 20092.531 | T11: =S11*0.386102 -> 7757.7665 | V11: Barren wastes | W11: 37.79 | X11: =W11*$G$7 -> 254797.57 | Y11: =X11*0.386102 -> 98377.851 | AA11: Lake Quag | AB11: 12.43 | AC11: =AB11*$G$7 -> 83808.78 | AD11: =AC11*0.386102 -> 32358.737
B12: Almor | C12: 24.22 | D12: =C12*$G$7 -> 163302.38 | E12: =D12*0.386102 -> 63051.377 | G12: Amedio jungle | H12: 30.74 | I12: =H12*$G$7 -> 207263.22 | J12: =I12*0.386102 -> 80024.746 | L12: Gnatmarsh | M12: 6.06 | N12: =M12*$G$7 -> 40859.308 | O12: =N12*0.386102 -> 15775.861 | Q12: Barrier peaks | R12: 39.88 | S12: =R12*$G$7 -> 268889.31 | T12: =S12*0.386102 -> 103818.7 | V12: Dry Steppes | W12: 165.52 | X12: =W12*$G$7 -> 1116012 | Y12: =X12*0.386102 -> 430894.47 | AA12: Nyr Dyv | AB12: 26.8 | AC12: =AB12*$G$7 -> 180697.93 | AD12: =AC12*0.386102 -> 69767.833
B13: Bandit kingdoms | C13: =65.59-5.57-1.97 -> 58.05 | D13: =C13*$G$7 -> 391399.81 | E13: =D13*0.386102 -> 151120.25 | G13: Axewood | H13: 1.59 | I13: =H13*$G$7 -> 10720.512 | J13: =I13*0.386102 -> 4139.211 | L13: Hool marshes | M13: 10.81 | N13: =M13*$G$7 -> 72885.994 | O13: =N13*0.386102 -> 28141.428 | Q13: Belmu hills | R13: 4.03 | S13: =R13*$G$7 -> 27172.114 | T13: =S13*0.386102 -> 10491.208 | V13: Land of Black ice | W13: 94.11 | X13: =W13*$G$7 -> 634532.92 | Y13: =X13*0.386102 -> 244994.43 | AA13: Whyestil lake | AB13: 12.17 | AC13: =AB13*$G$7 -> 82055.74 | AD13: =AC13*0.386102 -> 31681.885
B14: Bissel | C14: 14.07 | D14: =C14*$G$7 -> 94866.414 | E14: =D14*0.386102 -> 36628.112 | G14: Bramblewood forest | H14: 12.41 | I14: =H14*$G$7 -> 83673.93 | J14: =I14*0.386102 -> 32306.672 | L14: Lone heath | M14: 4.2 | N14: =M14*$G$7 -> 28318.333 | O14: =N14*0.386102 -> 10933.765 | Q14: Bluff hills | R14: 4.28 | S14: =R14*$G$7 -> 28857.729 | T14: =S14*0.386102 -> 11142.027 | V14: Rift canyon | W14: 1.97 | X14: =W14*$G$7 -> 13282.646 | Y14: =X14*0.386102 -> 5128.4564
B15: Blackmoor | C15: 24.51 | D15: =C15*$G$7 -> 165257.7 | E15: =D15*0.386102 -> 63806.328 | G15: Burneal forest | H15: 47.09 | I15: =H15*$G$7 -> 317502.45 | J15: =I15*0.386102 -> 122588.33 | L15: Mistmarsh | M15: 3.01 | N15: =M15*$G$7 -> 20294.805 | O15: =N15*0.386102 -> 7835.8648 | Q15: Cairn hills | R15: 6.06 | S15: =R15*$G$7 -> 40859.308 | T15: =S15*0.386102 -> 15775.861 | V15: Sea of Dust | W15: 177.13 | X15: =W15*$G$7 -> 1194292 | Y15: =X15*0.386102 -> 461118.52
B16: Bone march | C16: 20.69 | D16: =C16*$G$7 -> 139501.5 | E16: =D16*0.386102 -> 53861.808 | G16: Celadon forest | H16: 17.55 | I16: =H16*$G$7 -> 118330.18 | J16: =I16*0.386102 -> 45687.517 | L16: Rushmoor | M16: 5.17 | N16: =M16*$G$7 -> 34858.519 | O16: =N16*0.386102 -> 13458.944 | Q16: Clatspur range | R16: 5.76 | S16: =R16*$G$7 -> 38836.57 | T16: =S16*0.386102 -> 14994.878
B17: Bright desert | C17: 30.83 | D17: =C17*$G$7 -> 207870.05 | E17: =D17*0.386102 -> 80259.041 | G17: Dim Forest | H17: 12.43 | I17: =H17*$G$7 -> 83808.78 | J17: =I17*0.386102 -> 32358.737 | L17: Troll fens | M17: 5.07 | N17: =M17*$G$7 -> 34184.273 | O17: =N17*0.386102 -> 13198.616 | Q17: Corusk mountains | R17: 87.38 | S17: =R17*$G$7 -> 589156.17 | T17: =S17*0.386102 -> 227474.37
B18: Celene | C18: 8.77 | D18: =C18*$G$7 -> 59131.375 | E18: =D18*0.386102 -> 22830.742 | G18: Dreadwood | H18: 8.94 | I18: =H18*$G$7 -> 60277.594 | J18: =I18*0.386102 -> 23273.299 | L18: Vast swamp | M18: 11.98 | N18: =M18*$G$7 -> 80774.673 | O18: =N18*0.386102 -> 31187.263 | Q18: Crystalmist mountains | R18: 65.01 | S18: =R18*$G$7 -> 438327.33 | T18: =S18*0.386102 -> 169239.06
B19: Dullstrand, lands of | C19: 3.11 | D19: =C19*$G$7 -> 20969.051 | E19: =D19*0.386102 -> 8096.1925 | G19: Fellreev forest | H19: 32.58 | I19: =H19*$G$7 -> 219669.35 | J19: =I19*0.386102 -> 84814.776 | Q19: Flinty hills | R19: 12.46 | S19: =R19*$G$7 -> 84011.053 | T19: =S19*0.386102 -> 32436.836
B20: Dyvers, lands of | C20: 1.88 | D20: =C20*$G$7 -> 12675.825 | E20: =D20*0.386102 -> 4894.1614 | G20: Forlorn forest | H20: 10.77 | I20: =H20*$G$7 -> 72616.296 | J20: =I20*0.386102 -> 28037.297 | Q20: Glorioles | R20: 5.13 | S20: =R20*$G$7 -> 34588.821 | T20: =S20*0.386102 -> 13354.813
B21: Ekbir | C21: 24.03 | D21: =C21*$G$7 -> 162021.32 | E21: =D21*0.386102 -> 62556.755 | G21: Gambodge forest | H21: 14.99 | I21: =H21*$G$7 -> 101069.48 | J21: =I21*0.386102 -> 39023.127 | Q21: Good hills | R21: 8.9 | S21: =R21*$G$7 -> 60007.895 | T21: =S21*0.386102 -> 23169.168
B22: Frost barbarians | C22: 25.98 | D22: =C22*$G$7 -> 175169.11 | E22: =D22*0.386102 -> 67633.145 | G22: Gnarley forest | H22: 7.94 | I22: =H22*$G$7 -> 53535.134 | J22: =I22*0.386102 -> 20670.022 | Q22: Griff mountains | R22: 34.92 | S22: =R22*$G$7 -> 235446.71 | T22: =S22*0.386102 -> 90906.445
B23: Furyondy | C23: 78.1 | D23: =C23*$G$7 -> 526586.14 | E23: =D23*0.386102 -> 203315.96 | G23: Grandwood forest | H23: 15.44 | I23: =H23*$G$7 -> 104103.58 | J23: =I23*0.386102 -> 40194.602 | Q23: Gull cliffs | R23: 4.92 | S23: =R23*$G$7 -> 33172.904 | T23: =S23*0.386102 -> 12808.125
B24: Geoff | C24: 12.16 | D24: =C24*$G$7 -> 81988.315 | E24: =D24*0.386102 -> 31655.853 | G24: Hornwood | H24: 6.56 | I24: =H24*$G$7 -> 44230.539 | J24: =I24*0.386102 -> 17077.499 | Q24: Hellfurnaces | R24: 70.79 | S24: =R24*$G$7 -> 477298.75 | T24: =S24*0.386102 -> 184286
B25: Gran March | C25: 16.43 | D25: =C25*$G$7 -> 110778.62 | E25: =D25*0.386102 -> 42771.847 | G25: Hraak forest | H25: 9.27 | I25: =H25*$G$7 -> 62502.606 | J25: =I25*0.386102 -> 24132.381 | Q25: Hestmark highlands | R25: 10.69 | S25: =R25*$G$7 -> 72076.899 | T25: =S25*0.386102 -> 27829.035
B26: Greyhawk, lands of | C26: 5.54 | D26: =C26*$G$7 -> 37353.229 | E26: =D26*0.386102 -> 14422.157 | G26: Loftwood forest | H26: 2.99 | I26: =H26*$G$7 -> 20159.956 | J26: =I26*0.386102 -> 7783.7993 | Q26: Hollow highlands | R26: 2.93 | S26: =R26*$G$7 -> 19755.408 | T26: =S26*0.386102 -> 7627.6026
B27: Hardby, lands of | C27: 1.54 | D27: =C27*$G$7 -> 10383.389 | E27: =D27*0.386102 -> 4009.0471 | G27: Menowood | H27: 5.83 | I27: =H27*$G$7 -> 39308.543 | J27: =I27*0.386102 -> 15177.107 | Q27: Howling hills | R27: 7.45 | S27: =R27*$G$7 -> 50231.328 | T27: =S27*0.386102 -> 19394.416
B28: Horned Society | C28: 24.46 | D28: =C28*$G$7 -> 164920.58 | E28: =D28*0.386102 -> 63676.164 | G28: Nutherwood | H28: 4.05 | I28: =H28*$G$7 -> 27306.964 | J28: =I28*0.386102 -> 10543.273 | Q28: Iron hills | R28: 9.91 | S28: =R28*$G$7 -> 66817.78 | T28: =S28*0.386102 -> 25798.479
B29: Highfolk vale | C29: 9.92 | D29: =C29*$G$7 -> 66885.205 | E29: =D29*0.386102 -> 25824.511 | G29: Oytwood | H29: 3.95 | I29: =H29*$G$7 -> 26632.718 | J29: =I29*0.386102 -> 10282.946 | Q29: Jotens | R29: 13.02 | S29: =R29*$G$7 -> 87786.831 | T29: =S29*0.386102 -> 33894.671
B30: Ice barbarians | C30: =43.8-8.42 -> 35.38 | D30: =C30*$G$7 -> 238548.24 | E30: =D30*0.386102 -> 92103.953 | G30: Phostwood | H30: 15.26 | I30: =H30*$G$7 -> 102889.94 | J30: =I30*0.386102 -> 39726.012 | Q30: Kron hills | R30: 5.76 | S30: =R30*$G$7 -> 38836.57 | T30: =S30*0.386102 -> 14994.878
B31: Idee | C31: 6.3 | D31: =C31*$G$7 -> 42477.499 | E31: =D31*0.386102 -> 16400.647 | G31: Rieuwood | H31: 13.04 | I31: =H31*$G$7 -> 87921.68 | J31: =I31*0.386102 -> 33946.737 | Q31: Little hills | R31: 7.92 | S31: =R31*$G$7 -> 53400.284 | T31: =S31*0.386102 -> 20617.957
B32: Irongate | C32: 0.84 | D32: =C32*$G$7 -> 5663.6665 | E32: =D32*0.386102 -> 2186.753 | G32: Sable wood | H32: 8.42 | I32: =H32*$G$7 -> 56771.514 | J32: =I32*0.386102 -> 21919.595 | Q32: Lorridges | R32: 5.82 | S32: =R32*$G$7 -> 39241.118 | T32: =S32*0.386102 -> 15151.074
B33: Iuz, Homeland of | C33: 43.24 | D33: =C33*$G$7 -> 291543.98 | E33: =D33*0.386102 -> 112565.71 | G33: Silver wood | H33: 3.08 | I33: =H33*$G$7 -> 20766.777 | J33: =I33*0.386102 -> 8018.0942 | Q33: Lortmils | R33: 25.79 | S33: =R33*$G$7 -> 173888.05 | T33: =S33*0.386102 -> 67138.523
B34: Keoland | C34: 49.91 | D34: =C34*$G$7 -> 336516.19 | E34: =D34*0.386102 -> 129929.57 | G34: Spikey forest | H34: 3.57 | I34: =H34*$G$7 -> 24070.583 | J34: =I34*0.386102 -> 9293.7001 | Q34: Mounds of Dawn | R34: 4.37 | S34: =R34*$G$7 -> 29464.551 | T34: =S34*0.386102 -> 11376.322
B35: Ket | C35: 15.74 | D35: =C35*$G$7 -> 106126.32 | E35: =D35*0.386102 -> 40975.585 | G35: Suss forest | H35: 8.97 | I35: =H35*$G$7 -> 60479.867 | J35: =I35*0.386102 -> 23351.398 | Q35: Rakers | R35: 34.39 | S35: =R35*$G$7 -> 231873.2 | T35: =S35*0.386102 -> 89526.708
B36: Lendore isles | C36: =3.42+3.16 -> 6.58 | D36: =C36*$G$7 -> 44365.388 | E36: =D36*0.386102 -> 17129.565 | G36: Tangles forest | H36: 5.57 | I36: =H36*$G$7 -> 37555.503 | J36: =I36*0.386102 -> 14500.255 | Q36: Sepia uplands | R36: 4.18 | S36: =R36*$G$7 -> 28183.483 | T36: =S36*0.386102 -> 10881.699
B37: Lordship of the isles | C37: =0.57+3.42+3.69+4.42 -> 12.1 | D37: =C37*$G$7 -> 81583.768 | E37: =D37*0.386102 -> 31499.656 | G37: Timberway forest | H37: 8.21 | I37: =H37*$G$7 -> 55355.598 | J37: =I37*0.386102 -> 21372.907 | Q37: Spine ridge | R37: 5.6 | S37: =R37*$G$7 -> 37757.777 | T37: =S37*0.386102 -> 14578.353
B38: North kingdom | C38: 90.61 | D38: =C38*$G$7 -> 610934.31 | E38: =D38*0.386102 -> 235882.96 | G38: Udgru forest | H38: 11.84 | I38: =H38*$G$7 -> 79830.728 | J38: =I38*0.386102 -> 30822.804 | Q38: Stark mounds | R38: 4.91 | S38: =R38*$G$7 -> 33105.479 | T38: =S38*0.386102 -> 12782.092
B39: Nyrond (less Almor) | C39: 95.14 | D39: =C39*$G$7 -> 641477.66 | E39: =D39*0.386102 -> 247675.81 | G39: Welkwood | H39: 5 | I39: =H39*$G$7 -> 33712.301 | J39: =I39*0.386102 -> 13016.387 | Q39: Sulhauts mountains | R39: 40.57 | S39: =R39*$G$7 -> 273541.61 | T39: =S39*0.386102 -> 105614.96
B40: Onnwal | C40: 4.59 | D40: =C40*$G$7 -> 30947.892 | E40: =D40*0.386102 -> 11949.043 | G40: Vesve forest | H40: 43.93 | I40: =H40*$G$7 -> 296196.27 | J40: =I40*0.386102 -> 114361.97 | Q40: The Headlands | R40: 2.42 | S40: =R40*$G$7 -> 16316.754 | T40: =S40*0.386102 -> 6299.9312
B41: Pale | C41: 31.16 | D41: =C41*$G$7 -> 210095.06 | E41: =D41*0.386102 -> 81118.122 | Q41: The Tors | R41: 1.36 | S41: =R41*$G$7 -> 9169.7458 | T41: =S41*0.386102 -> 3540.4572
...

Sheet Density
B2: Total | C2: =SUM(C6:C67) -> 11667220 | D2: =SUM(D6:D67) -> 28291630 | E2: =D2/C2 -> 2.4248818 | F2: =D2/(C2*0.386102) -> 6.2804175
B5: Countries | C5: Area (km2) | D5: LGG population | E5: Density (pop / km2) | F5: Density (pop / square mile)
B6: Ahlissa (less Almor, Idee, Medegia) | C6: =Area!D11 -> 835255.96 | D6: =3836100-D7-D26-D45 -> 3536100 | E6: =D6/C6 -> 4.2335525 | F6: =D6/(C6*0.386102) -> 10.964855
B7: Almor | C7: =Area!D12 -> 163302.38 | D7: 100000 | E7: =D7/C7 -> 0.61236093 | F7: =D7/(C7*0.386102) -> 1.5860082
B8: Bandit kingdoms | C8: =Area!D13 -> 391399.81 | D8: 475200 | E8: =D8/C8 -> 1.2141038 | F8: =D8/(C8*0.386102) -> 3.1445157
B9: Bissel | C9: =Area!D14 -> 94866.414 | D9: 123880 | E9: =D9/C9 -> 1.3058362 | F9: =D9/(C9*0.386102) -> 3.3821017
B10: Blackmoor | C10: =Area!D15 -> 165257.7 | D10: 110000 | E10: =D10/C10 -> 0.66562709 | F10: =D10/(C10*0.386102) -> 1.7239669
B11: Bone march | C11: =Area!D16 -> 139501.5 | D11: 310000 | E11: =D11/C11 -> 2.2221983 | F11: =D11/(C11*0.386102) -> 5.7554696
B12: Bright desert | C12: =Area!D17 -> 207870.05 | D12: 26500 | E12: =D12/C12 -> 0.12748349 | F12: =D12/(C12*0.386102) -> 0.33018087
B13: Celene | C13: =Area!D18 -> 59131.375 | D13: 140000 | E13: =D13/C13 -> 2.3676094 | F13: =D13/(C13*0.386102) -> 6.1320827
B14: Dullstrand, lands of | C14: =Area!D19 -> 20969.051 | D14: 20000 | E14: =D14/C14 -> 0.9537866 | F14: =D14/(C14*0.386102) -> 2.470297
B15: Dyvers, lands of | C15: =Area!D20 -> 12675.825 | D15: 128000 | E15: =D15/C15 -> 10.097962 | F15: =D15/(C15*0.386102) -> 26.153612
B16: Ekbir | C16: =Area!D21 -> 162021.32 | D16: 1960000 | E16: =D16/C16 -> 12.097174 | F16: =D16/(C16*0.386102) -> 31.331549
B17: Frost barbarians | C17: =Area!D22 -> 175169.11 | D17: 144500 | E17: =D17/C17 -> 0.82491711 | F17: =D17/(C17*0.386102) -> 2.1365264
B18: Furyondy | C18: =Area!D23 -> 526586.14 | D18: 1481800 | E18: =D18/C18 -> 2.8139746 | F18: =D18/(C18*0.386102) -> 7.2881637
... B20: Gran March | C20: =Area!D25 -> 110778.62 | D20: 254600 | E20: =D20/C20 -> 2.2982774 | F20: =D20/(C20*0.386102) -> 5.9525136
B21: Greyhawk, lands of | C21: =Area!D26 -> 37353.229 | D21: =160000-20000-40000 -> 100000 | E21: =D21/C21 -> 2.6771447 | F21: =D21/(C21*0.386102) -> 6.9337758
B22: Hardby, lands of | C22: =Area!D27 -> 10383.389 | D22: =20000 -> 20000 | E22: =D22/C22 -> 1.9261535 | F22: =D22/(C22*0.386102) -> 4.9887166
B23: Horned Society | C23: =Area!D28 -> 164920.58 | D23: 250000 | E23: =D23/C23 -> 1.5158812 | F23: =D23/(C23*0.386102) -> 3.9261159
B24: Highfolk vale | C24: =Area!D29 -> 66885.205 | D24: 46000 | E24: =D24/C24 -> 0.68774552 | F24: =D24/(C24*0.386102) -> 1.7812535
B25: Ice barbarians | C25: =Area!D30 -> 238548.24 | D25: 158800 | E25: =D25/C25 -> 0.66569345 | F25: =D25/(C25*0.386102) -> 1.7241388
B26: Idee | C26: =Area!D31 -> 42477.499 | D26: 150000 | E26: =D26/C26 -> 3.5312814 | F26: =D26/(C26*0.386102) -> 9.1459805
B27: Irongate | C27: =Area!D32 -> 5663.6665 | D27: 71000 | E27: =D27/C27 -> 12.536049 | F27: =D27/(C27*0.386102) -> 32.468231
B28: Iuz, Homeland of | C28: =Area!D33 -> 291543.98 | D28: =700000-D23 -> 450000 | E28: =D28/C28 -> 1.5435064 | F28: =D28/(C28*0.386102) -> 3.9976649
B29: Keoland | C29: =Area!D34 -> 336516.19 | D29: 1800000 | E29: =D29/C29 -> 5.3489255 | F29: =D29/(C29*0.386102) -> 13.853659
B30: Ket | C30: =Area!D35 -> 106126.32 | D30: 275000 | E30: =D30/C30 -> 2.5912516 | F30: =D30/(C30*0.386102) -> 6.7113135
B31: Lendore isles | C31: =Area!D36 -> 44365.388 | D31: 41000 | E31: =D31/C31 -> 0.92414384 | F31: =D31/(C31*0.386102) -> 2.3935226
B32: Lordship of the isles | C32: =Area!D37 -> 81583.768 | D32: 266000 | E32: =D32/C32 -> 3.2604525 | F32: =D32/(C32*0.386102) -> 8.4445367
B33: North kingdom | C33: =Area!D38 -> 610934.31 | D33: 2618200 | E33: =D33/C33 -> 4.2855671 | F33: =D33/(C33*0.386102) -> 11.099572
B34: Nyrond (less Almor) | C34: =Area!D39 -> 641477.66 | D34: =2618200-D7 -> 2518200 | E34: =D34/C34 -> 3.9256239 | F34: =D34/(C34*0.386102) -> 10.167323
B35: Onnwal | C35: =Area!D40 -> 30947.892 | D35: 85500 | E35: =D35/C35 -> 2.7627084 | F35: =D35/(C35*0.386102) -> 7.1553847
B36: Pale | C36: =Area!D41 -> 210095.06 | D36: 395000 | E36: =D36/C36 -> 1.8801013 | F36: =D36/(C36*0.386102) -> 4.8694421
B37: Paynims | C37: =Area!D42 -> 833570.35 | D37: 500000 | E37: =D37/C37 -> 0.5998294 | F37: =D37/(C37*0.386102) -> 1.5535516
B38: Perrenland | C38: =Area!D43 -> 118262.75 | D38: 468000 | E38: =D38/C38 -> 3.95729 | F38: =D38/(C38*0.386102) -> 10.249338
B39: Pomarj (less the Wild Coast) | C39: =Area!D44 -> 141996.21 | D39: =476000-120000 -> 356000 | E39: =D39/C39 -> 2.5071092 | F39: =D39/(C39*0.386102) -> 6.4933856
B40: Ratik | C40: =Area!D45 -> 41466.13 | D40: 138500 | E40: =D40/C40 -> 3.3400754 | F40: =D40/(C40*0.386102) -> 8.6507591
B41: Rel Astra & Solnor compact | C41: =Area!D46 -> 74639.034 | D41: 380000 | E41: =D41/C41 -> 5.0911699 | F41: =D41/(C41*0.386102) -> 13.186075
B42: Rovers of the barren | C42: =Area!D47 -> 190676.77 | D42: 35000 | E42: =D42/C42 -> 0.1835567 | F42: =D42/(C42*0.386102) -> 0.47540988
B43: Sea barons | C43: =Area!D48 -> 31419.864 | D43: 154000 | E43: =D43/C43 -> 4.9013579 | F43: =D43/(C43*0.386102) -> 12.694464
B44: Sea princes | C44: =Area!D49 -> 135725.72 | D44: 420000 | E44: =D44/C44 -> 3.0944761 | F44: =D44/(C44*0.386102) -> 8.0146595
...

Sheet Revised populations
A1: by Richard Di Ioia
A3: For DMs that wish to adjust the LGG populations here is an excel sheet to help you.
A4: This sheet provides two frameworks for finding a population figure of a country:
A5: --- Method #1) Suggest an overall population density of a country based on a few factors and then multiplying that factor by the area (square km) of the country.
A6: --- Method #2) The DM decides the percentage area of the country they want to be "tamed". From there a factor is applied on how many acres an average person needs of food, and the population figure is then calculated.
A8: Enter values in the cells with a Blue value. | K8: =SUM(K13:K74) -> 28291630 | L8: =SUM(L13:L74) -> 34043591 | N8: =SUM(N13:N74) -> 32894546 | T8: =SUM(T13:T74) -> 33469069 | W8: =SUM(W13:W74) -> 37854000
C9: Method #1 | G9: Method #2 | H9: Results | K9: Comparison
G10: Acres per person =
G11: 8 | H11: Method #1 | J11: Method #2 | L11: Method #1 | N11: Method #2
A12: Countries | B12: Area (km2) | C12: Stability | D12: Fertility | E12: Environment | F12: Special | G12: Tamed area (%) | H12: Suggested density (pop / km2) | I12: Suggested population | J12: Suggested population | K12: LGG population | L12: Population | M12: % change | N12: Population | O12: % change | Q12: French LGG | T12: Average of Method #1 and Method #2 | U12: % change from LGG | W12: Gary Holian values | X12: % change from LGG | Y12: % change from Average of M1 & M2
A13: Ahlissa (less Almor, Idee, Medegia) | B13: =Area!D11 -> 835255.96 | C13: 3 | D13: 5 | E13: 3 | F13: 1 | G13: 0.15 | H13: =C13*(D13/3)*(E13/3)*F13 -> 5 | I13: =B13*H13 -> 4176279.8 | J13: =G13*B13*250/$G$11 -> 3915262.3 | K13: =Density!D6 -> 3536100 | L13: =I13 -> 4176279.8 | M13: =(L13-K13)/K13 -> 0.18104121 | N13: =J13 -> 3915262.3 | O13: =(N13-K13)/K13 -> 0.10722613 | Q13: =3836100-Q14-Q33-Q52 -> 3536100 | R13: =K13-Q13 -> 0 | T13: =(L13+N13)/2 -> 4045771.1 | U13: =(T13-K13)/K13 -> 0.14413367 | W13: =10060000-W14-W21-W33-W52 -> 9740000 | X13: =(W13-K13)/K13 -> 1.754447 | Y13: =(W13-T13)/T13 -> 1.4074521
A14: Almor | B14: =Area!D12 -> 163302.38 | C14: 1 | D14: 4 | E14: 3 | F14: 0.5 | G14: 0.02 | H14: =C14*(D14/3)*(E14/3)*F14 -> 0.66666667 | I14: =B14*H14 -> 108868.26 | J14: =G14*B14*250/$G$11 -> 102063.99 | K14: =Density!D7 -> 100000 | L14: =I14 -> 108868.26 | M14: =(L14-K14)/K14 -> 0.088682565 | N14: =J14 -> 102063.99 | O14: =(N14-K14)/K14 -> 0.020639904 | Q14: 100000 | R14: =K14-Q14 -> 0 | T14: =(L14+N14)/2 -> 105466.12 | U14: =(T14-K14)/K14 -> 0.054661234 | W14: 100000 | X14: =(W14-K14)/K14 -> 0 | Y14: =(W14-T14)/T14 -> -0.051828239
A15: Bandit kingdoms | B15: =Area!D13 -> 391399.81 | C15: 2 | D15: 2 | E15: 2 | F15: 1 | G15: 0.03 | H15: =C15*(D15/3)*(E15/3)*F15 -> 0.88888889 | I15: =B15*H15 -> 347910.94 | J15: =G15*B15*250/$G$11 -> 366937.32 | K15: =Density!D8 -> 475200 | L15: =I15 -> 347910.94 | M15: =(L15-K15)/K15 -> -0.26786418 | N15: =J15 -> 366937.32 | O15: =(N15-K15)/K15 -> -0.2278255 | Q15: 475200 | R15: =K15-Q15 -> 0 | T15: =(L15+N15)/2 -> 357424.13 | U15: =(T15-K15)/K15 -> -0.24784484 | W15: 325000 | X15: =(W15-K15)/K15 -> -0.31607744 | Y15: =(W15-T15)/T15 -> -0.090716128
A16: Bissel | B16: =Area!D14 -> 94866.414 | C16: 2 | D16: 4 | E16: 3 | F16: 1 | G16: 0.08 | H16: =C16*(D16/3)*(E16/3)*F16 -> 2.6666667 | I16: =B16*H16 -> 252977.1 | J16: =G16*B16*250/$G$11 -> 237166.04 | K16: =Density!D9 -> 123880 | L16: =I16 -> 252977.1 | M16: =(L16-K16)/K16 -> 1.0421142 | N16: =J16 -> 237166.04 | O16: =(N16-K16)/K16 -> 0.91448204 | Q16: 123800 | R16: =K16-Q16 -> 80 | T16: =(L16+N16)/2 -> 245071.57 | U16: =(T16-K16)/K16 -> 0.97829811 | W16: 125000 | X16: =(W16-K16)/K16 -> 0.0090410074 | Y16: =(W16-T16)/T16 -> -0.48994492
A17: Blackmoor | B17: =Area!D15 -> 165257.7 | C17: 2 | D17: 1 | E17: 1 | F17: 1 | G17: 0.01 | H17: =C17*(D17/3)*(E17/3)*F17 -> 0.22222222 | I17: =B17*H17 -> 36723.933 | J17: =G17*B17*250/$G$11 -> 51643.031 | K17: =Density!D10 -> 110000 | L17: =I17 -> 36723.933 | M17: =(L17-K17)/K17 -> -0.66614606 | N17: =J17 -> 51643.031 | O17: =(N17-K17)/K17 -> -0.5305179 | Q17: 110000 | R17: =K17-Q17 -> 0 | T17: =(L17+N17)/2 -> 44183.482 | U17: =(T17-K17)/K17 -> -0.59833198 | W17: 63000 | X17: =(W17-K17)/K17 -> -0.42727273 | Y17: =(W17-T17)/T17 -> 0.42587224
A18: Bone march | B18: =Area!D16 -> 139501.5 | C18: 1 | D18: 2 | E18: 3 | F18: 1 | G18: 0.03 | H18: =C18*(D18/3)*(E18/3)*F18 -> 0.66666667 | I18: =B18*H18 -> 93001 | J18: =G18*B18*250/$G$11 -> 130782.66 | K18: =Density!D11 -> 310000 | L18: =I18 -> 93001 | M18: =(L18-K18)/K18 -> -0.69999677 | N18: =J18 -> 130782.66 | O18: =(N18-K18)/K18 -> -0.57812046 | Q18: 310000 | R18: =K18-Q18 -> 0 | T18: =(L18+N18)/2 -> 111891.83 | U18: =(T18-K18)/K18 -> -0.63905862 | W18: 165000 | X18: =(W18-K18)/K18 -> -0.46774194 | Y18: =(W18-T18)/T18 -> 0.47463852
A19: Bright desert | B19: =Area!D17 -> 207870.05 | C19: 2 | D19: 1 | E19: 1 | F19: 1 | G19: 0.01 | H19: =C19*(D19/3)*(E19/3)*F19 -> 0.22222222 | I19: =B19*H19 -> 46193.344 | J19: =G19*B19*250/$G$11 -> 64959.389 | K19: =Density!D12 -> 26500 | L19: =I19 -> 46193.344 | M19: =(L19-K19)/K19 -> 0.74314504 | N19: =J19 -> 64959.389 | O19: =(N19-K19)/K19 -> 1.4512977 | Q19: 26500 | R19: =K19-Q19 -> 0 | T19: =(L19+N19)/2 -> 55576.367 | U19: =(T19-K19)/K19 -> 1.0972214 | W19: 21000 | X19: =(W19-K19)/K19 -> -0.20754717 | Y19: =(W19-T19)/T19 -> -0.62214154
A20: Celene | B20: =Area!D18 -> 59131.375 | C20: 5 | D20: 5 | E20: 4 | F20: 0.5 | G20: 0.08 | H20: =C20*(D20/3)*(E20/3)*F20 -> 5.5555556 | I20: =B20*H20 -> 328507.64 | J20: =G20*B20*250/$G$11 -> 147828.44 | K20: =Density!D13 -> 140000 | L20: =I20 -> 328507.64 | M20: =(L20-K20)/K20 -> 1.3464832 | N20: =J20 -> 147828.44 | O20: =(N20-K20)/K20 -> 0.055917419 | Q20: 140000 | R20: =K20-Q20 -> 0 | T20: =(L20+N20)/2 -> 238168.04 | U20: =(T20-K20)/K20 -> 0.70120029 | W20: 48000 | X20: =(W20-K20)/K20 -> -0.65714286 | Y20: =(W20-T20)/T20 -> -0.79846162
A21: Dullstrand, lands of | B21: =Area!D19 -> 20969.051 | C21: 3 | D21: 5 | E21: 3 | F21: 1 | G21: 0.15 | H21: =C21*(D21/3)*(E21/3)*F21 -> 5 | I21: =B21*H21 -> 104845.26 | J21: =G21*B21*250/$G$11 -> 98292.427 | K21: =Density!D14 -> 20000 | L21: =I21 -> 104845.26 | M21: =(L21-K21)/K21 -> 4.2422628 | N21: =J21 -> 98292.427 | O21: =(N21-K21)/K21 -> 3.9146213 | Q21: 20000 | R21: =K21-Q21 -> 0 | T21: =(L21+N21)/2 -> 101568.84 | U21: =(T21-K21)/K21 -> 4.0784421 | W21: 20000 | X21: =(W21-K21)/K21 -> 0 | Y21: =(W21-T21)/T21 -> -0.80308922
A22: Dyvers, lands of | B22: =Area!D20 -> 12675.825 | C22: 3 | D22: 4 | E22: 3 | F22: 2 | G22: 0.3 | H22: =C22*(D22/3)*(E22/3)*F22 -> 8 | I22: =B22*H22 -> 101406.6 | J22: =G22*B22*250/$G$11 -> 118835.86 | K22: =Density!D15 -> 128000 | L22: =I22 -> 101406.6 | M22: =(L22-K22)/K22 -> -0.20776093 | N22: =J22 -> 118835.86 | O22: =(N22-K22)/K22 -> -0.071594843 | Q22: 128000 | R22: =K22-Q22 -> 0 | T22: =(L22+N22)/2 -> 110121.23 | U22: =(T22-K22)/K22 -> -0.13967789 | W22: 121000 | X22: =(W22-K22)/K22 -> -0.0546875 | Y22: =(W22-T22)/T22 -> 0.098789032
A23: Ekbir | B23: =Area!D21 -> 162021.32 | C23: 4 | D23: 3 | E23: 3 | F23: 1 | G23: 0.2 | H23: =C23*(D23/3)*(E23/3)*F23 -> 4 | I23: =B23*H23 -> 648085.27 | J23: =G23*B23*250/$G$11 -> 1012633.2 | K23: =Density!D16 -> 1960000 | L23: =I23 -> 648085.27 | M23: =(L23-K23)/K23 -> -0.66934425 | N23: =J23 -> 1012633.2 | O23: =(N23-K23)/K23 -> -0.48335039 | Q23: 1960000 | R23: =K23-Q23 -> 0 | T23: =(L23+N23)/2 -> 830359.25 | U23: =(T23-K23)/K23 -> -0.57634732 | W23: 1185000 | X23: =(W23-K23)/K23 -> -0.39540816 | Y23: =(W23-T23)/T23 -> 0.42709315
A24: Frost barbarians | B24: =Area!D22 -> 175169.11 | C24: 3 | D24: 2 | E24: 2 | F24: 1 | G24: 0.04 | H24: =C24*(D24/3)*(E24/3)*F24 -> 1.3333333 | I24: =B24*H24 -> 233558.82 | J24: =G24*B24*250/$G$11 -> 218961.39 | K24: =Density!D17 -> 144500 | L24: =I24 -> 233558.82 | M24: =(L24-K24)/K24 -> 0.61632401 | N24: =J24 -> 218961.39 | O24: =(N24-K24)/K24 -> 0.51530376 | Q24: 144500 | R24: =K24-Q24 -> 0 | T24: =(L24+N24)/2 -> 226260.11 | U24: =(T24-K24)/K24 -> 0.56581388 | W24: 295000 | X24: =(W24-K24)/K24 -> 1.0415225 | Y24: =(W24-T24)/T24 -> 0.30380916
A25: Furyondy | B25: =Area!D23 -> 526586.14 | C25: 3 | D25: 3 | E25: 3 | F25: 1 | G25: 0.15 | H25: =C25*(D25/3)*(E25/3)*F25 -> 3 | I25: =B25*H25 -> 1579758.4 | J25: =G25*B25*250/$G$11 -> 2468372.5 | K25: =Density!D18 -> 1481800 | L25: =I25 -> 1579758.4 | M25: =(L25-K25)/K25 -> 0.066107715 | N25: =J25 -> 2468372.5 | O25: =(N25-K25)/K25 -> 0.6657933 | Q25: 1481800 | R25: =K25-Q25 -> 0 | T25: =(L25+N25)/2 -> 2024065.5 | U25: =(T25-K25)/K25 -> 0.36595051 | W25: 1849000 | X25: =(W25-K25)/K25 -> 0.24780672 | Y25: =(W25-T25)/T25 -> -0.086491997
... A27: Gran March | B27: =Area!D25 -> 110778.62 | C27: 4 | D27: 4 | E27: 3 | F27: 1 | G27: 0.15 | H27: =C27*(D27/3)*(E27/3)*F27 -> 5.3333333 | I27: =B27*H27 -> 590819.31 | J27: =G27*B27*250/$G$11 -> 519274.78 | K27: =Density!D20 -> 254600 | L27: =I27 -> 590819.31 | M27: =(L27-K27)/K27 -> 1.3205786 | N27: =J27 -> 519274.78 | O27: =(N27-K27)/K27 -> 1.039571 | Q27: 254600 | R27: =K27-Q27 -> 0 | T27: =(L27+N27)/2 -> 555047.04 | U27: =(T27-K27)/K27 -> 1.1800748 | W27: 302000 | X27: =(W27-K27)/K27 -> 0.18617439 | Y27: =(W27-T27)/T27 -> -0.45590198
A28: Greyhawk, lands of | B28: =Area!D26 -> 37353.229 | C28: 3 | D28: 3 | E28: 3 | F28: 1 | G28: 0.15 | H28: =C28*(D28/3)*(E28/3)*F28 -> 3 | I28: =B28*H28 -> 112059.69 | J28: =G28*B28*250/$G$11 -> 175093.26 | K28: =Density!D21 -> 100000 | L28: =I28 -> 112059.69 | M28: =(L28-K28)/K28 -> 0.12059688 | N28: =J28 -> 175093.26 | O28: =(N28-K28)/K28 -> 0.75093262 | Q28: =160000-40000-20000 -> 100000 | R28: =K28-Q28 -> 0 | T28: =(L28+N28)/2 -> 143576.47 | U28: =(T28-K28)/K28 -> 0.43576475 | W28: 257000 | X28: =(W28-K28)/K28 -> 1.57 | Y28: =(W28-T28)/T28 -> 0.78998684
A29: Hardby, lands of | B29: =Area!D27 -> 10383.389 | C29: 4 | D29: 3 | E29: 3 | F29: 1 | G29: 0.15 | H29: =C29*(D29/3)*(E29/3)*F29 -> 4 | I29: =B29*H29 -> 41533.554 | J29: =G29*B29*250/$G$11 -> 48672.134 | K29: =Density!D22 -> 20000 | L29: =I29 -> 41533.554 | M29: =(L29-K29)/K29 -> 1.0766777 | N29: =J29 -> 48672.134 | O29: =(N29-K29)/K29 -> 1.4336067 | Q29: 20000 | R29: =K29-Q29 -> 0 | T29: =(L29+N29)/2 -> 45102.844 | U29: =(T29-K29)/K29 -> 1.2551422 | W29: =20000 -> 20000 | X29: =(W29-K29)/K29 -> 0 | Y29: =(W29-T29)/T29 -> -0.55656899
A30: Horned Society | B30: =Area!D28 -> 164920.58 | C30: 1 | D30: 3 | E30: 2 | F30: 1 | G30: 0.05 | H30: =C30*(D30/3)*(E30/3)*F30 -> 0.66666667 | I30: =B30*H30 -> 109947.05 | J30: =G30*B30*250/$G$11 -> 257688.4 | K30: =Density!D23 -> 250000 | L30: =I30 -> 109947.05 | M30: =(L30-K30)/K30 -> -0.5602118 | N30: =J30 -> 257688.4 | O30: =(N30-K30)/K30 -> 0.030753595 | Q30: 250000 | R30: =K30-Q30 -> 0 | T30: =(L30+N30)/2 -> 183817.72 | U30: =(T30-K30)/K30 -> -0.2647291 | W30: 250000 | X30: =(W30-K30)/K30 -> 0 | Y30: =(W30-T30)/T30 -> 0.36004295
A31: Highfolk vale | B31: =Area!D29 -> 66885.205 | C31: 4 | D31: 4 | E31: 3 | F31: 1 | G31: 0.15 | H31: =C31*(D31/3)*(E31/3)*F31 -> 5.3333333 | I31: =B31*H31 -> 356721.09 | J31: =G31*B31*250/$G$11 -> 313524.4 | K31: =Density!D24 -> 46000 | L31: =I31 -> 356721.09 | M31: =(L31-K31)/K31 -> 6.7548063 | N31: =J31 -> 313524.4 | O31: =(N31-K31)/K31 -> 5.8157478 | Q31: 46000 | R31: =K31-Q31 -> 0 | T31: =(L31+N31)/2 -> 335122.74 | U31: =(T31-K31)/K31 -> 6.285277 | W31: 52000 | X31: =(W31-K31)/K31 -> 0.13043478 | Y31: =(W31-T31)/T31 -> -0.84483297
A32: Ice barbarians | B32: =Area!D30 -> 238548.24 | C32: 3 | D32: 1 | E32: 2 | F32: 1 | G32: 0.03 | H32: =C32*(D32/3)*(E32/3)*F32 -> 0.66666667 | I32: =B32*H32 -> 159032.16 | J32: =G32*B32*250/$G$11 -> 223638.97 | K32: =Density!D25 -> 158800 | L32: =I32 -> 159032.16 | M32: =(L32-K32)/K32 -> 0.0014619643 | N32: =J32 -> 223638.97 | O32: =(N32-K32)/K32 -> 0.40830589 | Q32: 158800 | R32: =K32-Q32 -> 0 | T32: =(L32+N32)/2 -> 191335.57 | U32: =(T32-K32)/K32 -> 0.20488393 | W32: 263000 | X32: =(W32-K32)/K32 -> 0.65617128 | Y32: =(W32-T32)/T32 -> 0.37454841
A33: Idee | B33: =Area!D31 -> 42477.499 | C33: 2 | D33: 5 | E33: 4 | F33: 1 | G33: 0.15 | H33: =C33*(D33/3)*(E33/3)*F33 -> 4.4444444 | I33: =B33*H33 -> 188788.88 | J33: =G33*B33*250/$G$11 -> 199113.28 | K33: =Density!D26 -> 150000 | L33: =I33 -> 188788.88 | M33: =(L33-K33)/K33 -> 0.25859256 | N33: =J33 -> 199113.28 | O33: =(N33-K33)/K33 -> 0.32742184 | Q33: 150000 | R33: =K33-Q33 -> 0 | T33: =(L33+N33)/2 -> 193951.08 | U33: =(T33-K33)/K33 -> 0.2930072 | W33: 150000 | X33: =(W33-K33)/K33 -> 0 | Y33: =(W33-T33)/T33 -> -0.2266091
A34: Irongate | B34: =Area!D32 -> 5663.6665 | C34: 5 | D34: 5 | E34: 4 | F34: 4 | G34: 0.6 | H34: =C34*(D34/3)*(E34/3)*F34 -> 44.444444 | I34: =B34*H34 -> 251718.51 | J34: =G34*B34*250/$G$11 -> 106193.75 | K34: =Density!D27 -> 71000 | L34: =I34 -> 251718.51 | M34: =(L34-K34)/K34 -> 2.5453312 | N34: =J34 -> 106193.75 | O34: =(N34-K34)/K34 -> 0.49568658 | Q34: 71000 | R34: =K34-Q34 -> 0 | T34: =(L34+N34)/2 -> 178956.13 | U34: =(T34-K34)/K34 -> 1.5205089 | W34: 186000 | X34: =(W34-K34)/K34 -> 1.6197183 | Y34: =(W34-T34)/T34 -> 0.039360878
A35: Iuz, Homeland of | B35: =Area!D33 -> 291543.98 | C35: 2 | D35: 3 | E35: 2 | F35: 1 | G35: 0.03 | H35: =C35*(D35/3)*(E35/3)*F35 -> 1.3333333 | I35: =B35*H35 -> 388725.3 | J35: =G35*B35*250/$G$11 -> 273322.48 | K35: =Density!D28 -> 450000 | L35: =I35 -> 388725.3 | M35: =(L35-K35)/K35 -> -0.136166 | N35: =J35 -> 273322.48 | O35: =(N35-K35)/K35 -> -0.39261672 | Q35: =700000-Q30 -> 450000 | R35: =K35-Q35 -> 0 | T35: =(L35+N35)/2 -> 331023.89 | U35: =(T35-K35)/K35 -> -0.26439136 | W35: 177000 | X35: =(W35-K35)/K35 -> -0.60666667 | Y35: =(W35-T35)/T35 -> -0.46529539
A36: Keoland | B36: =Area!D34 -> 336516.19 | C36: 5 | D36: 5 | E36: 4 | F36: 1 | G36: 0.2 | H36: =C36*(D36/3)*(E36/3)*F36 -> 11.111111 | I36: =B36*H36 -> 3739068.7 | J36: =G36*B36*250/$G$11 -> 2103226.2 | K36: =Density!D29 -> 1800000 | L36: =I36 -> 3739068.7 | M36: =(L36-K36)/K36 -> 1.0772604 | N36: =J36 -> 2103226.2 | O36: =(N36-K36)/K36 -> 0.16845898 | Q36: 1800000 | R36: =K36-Q36 -> 0 | T36: =(L36+N36)/2 -> 2921147.4 | U36: =(T36-K36)/K36 -> 0.62285969 | W36: 1915000 | X36: =(W36-K36)/K36 -> 0.063888889 | Y36: =(W36-T36)/T36 -> -0.34443569
A37: Ket | B37: =Area!D35 -> 106126.32 | C37: 3 | D37: 4 | E37: 3 | F37: 1 | G37: 0.15 | H37: =C37*(D37/3)*(E37/3)*F37 -> 4 | I37: =B37*H37 -> 424505.29 | J37: =G37*B37*250/$G$11 -> 497467.14 | K37: =Density!D30 -> 275000 | L37: =I37 -> 424505.29 | M37: =(L37-K37)/K37 -> 0.5436556 | N37: =J37 -> 497467.14 | O37: =(N37-K37)/K37 -> 0.80897141 | Q37: 275000 | R37: =K37-Q37 -> 0 | T37: =(L37+N37)/2 -> 460986.21 | U37: =(T37-K37)/K37 -> 0.67631351 | W37: 248000 | X37: =(W37-K37)/K37 -> -0.098181818 | Y37: =(W37-T37)/T37 -> -0.46202296
A38: Lendore isles | B38: =Area!D36 -> 44365.388 | C38: 4 | D38: 5 | E38: 3 | F38: 1 | G38: 0.08 | H38: =C38*(D38/3)*(E38/3)*F38 -> 6.6666667 | I38: =B38*H38 -> 295769.25 | J38: =G38*B38*250/$G$11 -> 110913.47 | K38: =Density!D31 -> 41000 | L38: =I38 -> 295769.25 | M38: =(L38-K38)/K38 -> 6.2138842 | N38: =J38 -> 110913.47 | O38: =(N38-K38)/K38 -> 1.7052066 | Q38: 41000 | R38: =K38-Q38 -> 0 | T38: =(L38+N38)/2 -> 203341.36 | U38: =(T38-K38)/K38 -> 3.9595454 | W38: 20000 | X38: =(W38-K38)/K38 -> -0.51219512 | Y38: =(W38-T38)/T38 -> -0.90164323
A39: Lordship of the isles | B39: =Area!D37 -> 81583.768 | C39: 3 | D39: 5 | E39: 3 | F39: 1 | G39: 0.15 | H39: =C39*(D39/3)*(E39/3)*F39 -> 5 | I39: =B39*H39 -> 407918.84 | J39: =G39*B39*250/$G$11 -> 382423.91 | K39: =Density!D32 -> 266000 | L39: =I39 -> 407918.84 | M39: =(L39-K39)/K39 -> 0.53352947 | N39: =J39 -> 382423.91 | O39: =(N39-K39)/K39 -> 0.43768388 | Q39: 266000 | R39: =K39-Q39 -> 0 | T39: =(L39+N39)/2 -> 395171.38 | U39: =(T39-K39)/K39 -> 0.48560667 | W39: 314000 | X39: =(W39-K39)/K39 -> 0.18045113 | Y39: =(W39-T39)/T39 -> -0.20540803
A40: North kingdom | B40: =Area!D38 -> 610934.31 | C40: 3 | D40: 3 | E40: 3 | F40: 1 | G40: 0.15 | H40: =C40*(D40/3)*(E40/3)*F40 -> 3 | I40: =B40*H40 -> 1832802.9 | J40: =G40*B40*250/$G$11 -> 2863754.6 | K40: =Density!D33 -> 2618200 | L40: =I40 -> 1832802.9 | M40: =(L40-K40)/K40 -> -0.29997596 | N40: =J40 -> 2863754.6 | O40: =(N40-K40)/K40 -> 0.093787562 | Q40: 2618200 | R40: =K40-Q40 -> 0 | T40: =(L40+N40)/2 -> 2348278.8 | U40: =(T40-K40)/K40 -> -0.1030942 | W40: 2920000 | X40: =(W40-K40)/K40 -> 0.11527003 | Y40: =(W40-T40)/T40 -> 0.24346395
A41: Nyrond (less Almor) | B41: =Area!D39 -> 641477.66 | C41: 3 | D41: 4 | E41: 3 | F41: 1 | G41: 0.15 | H41: =C41*(D41/3)*(E41/3)*F41 -> 4 | I41: =B41*H41 -> 2565910.6 | J41: =G41*B41*250/$G$11 -> 3006926.5 | K41: =Density!D34 -> 2518200 | L41: =I41 -> 2565910.6 | M41: =(L41-K41)/K41 -> 0.018946324 | N41: =J41 -> 3006926.5 | O41: =(N41-K41)/K41 -> 0.19407772 | Q41: 2781800 | R41: =K41-Q41 -> -263600 | T41: =(L41+N41)/2 -> 2786418.6 | U41: =(T41-K41)/K41 -> 0.10651202 | W41: 4165000 | X41: =(W41-K41)/K41 -> 0.65395918 | Y41: =(W41-T41)/T41 -> 0.4947503
A42: Onnwal | B42: =Area!D40 -> 30947.892 | C42: 3 | D42: 5 | E42: 3 | F42: 1 | G42: 0.15 | H42: =C42*(D42/3)*(E42/3)*F42 -> 5 | I42: =B42*H42 -> 154739.46 | J42: =G42*B42*250/$G$11 -> 145068.24 | K42: =Density!D35 -> 85500 | L42: =I42 -> 154739.46 | M42: =(L42-K42)/K42 -> 0.80981825 | N42: =J42 -> 145068.24 | O42: =(N42-K42)/K42 -> 0.69670461 | Q42: 85500 | R42: =K42-Q42 -> 0 | T42: =(L42+N42)/2 -> 149903.85 | U42: =(T42-K42)/K42 -> 0.75326143 | W42: 152000 | X42: =(W42-K42)/K42 -> 0.77777778 | Y42: =(W42-T42)/T42 -> 0.013983282
A43: Pale | B43: =Area!D41 -> 210095.06 | C43: 4 | D43: 4 | E43: 2 | F43: 1 | G43: 0.05 | H43: =C43*(D43/3)*(E43/3)*F43 -> 3.5555556 | I43: =B43*H43 -> 747004.65 | J43: =G43*B43*250/$G$11 -> 328273.53 | K43: =Density!D36 -> 395000 | L43: =I43 -> 747004.65 | M43: =(L43-K43)/K43 -> 0.89115102 | N43: =J43 -> 328273.53 | O43: =(N43-K43)/K43 -> -0.16892778 | Q43: 395000 | R43: =K43-Q43 -> 0 | T43: =(L43+N43)/2 -> 537639.09 | U43: =(T43-K43)/K43 -> 0.36111162 | W43: 934000 | X43: =(W43-K43)/K43 -> 1.364557 | Y43: =(W43-T43)/T43 -> 0.73722487
...

Sheet Population by age
A2: From 1e DMG | S2: 200 years | AC2: 400 years | AM2: 1200 years | AW2: Average
H3: Children | I3: Young Adult | J3: Mature | K3: Middle-age | L3: Old | M3: Venerable | N3: Breeding age range | O3: # of children | P3: # of surviving children | S3: Children | T3: Young Adult | U3: Mature | V3: Middle-Age | W3: Old | X3: Venerable | Y3: Total | Z3: Able-bodied | AC3: Children | AD3: Young Adult | AE3: Mature | AF3: Middle-Age | AG3: Old | AH3: Venerable | AI3: Total | AJ3: Able-bodied | AM3: Children | AN3: Young Adult | AO3: Mature | AP3: Middle-Age | AQ3: Old | AR3: Venerable | AS3: Total | AT3: Able-bodied | AW3: Children | AX3: Young Adult | AY3: Mature | AZ3: Middle-Age | BA3: Old | BB3: Venerable | BC3: Able-bodied
