Workbook

Sheet Oerth demographics
AU1: Total
AA2: Sub-Total | AC2: =SUM(AC10:AC64) -> 5587709.7 | AD2: =SUM(AD10:AD64) -> 8848411.6 | AE2: =SUM(AE10:AE64) -> 4665214 | AF2: =SUM(AF10:AF64) -> 2497376.5 | AG2: =SUM(AG10:AG64) -> 104542.28 | AH2: =SUM(AH10:AH100) -> 429529.56 | AI2: =SUM(AI10:AI100) -> 562353.94 | AJ2: =SUM(AJ10:AJ100) -> 2500 | AK2: =SUM(AK10:AK100) -> 505049.1 | AL2: =SUM(AL10:AL100) -> 103611 | AM2: =SUM(AM10:AM100) -> 934483 | AN2: =SUM(AN10:AN100) -> 716523.6 | AO2: =SUM(AO10:AO100) -> 1489615.1 | ... AT2: =SUM(AT10:AT100) -> 331890.8
AB3: =SUM(AB10:AB100) -> 21877554 | AH3: =AH2+AI2 -> 991883.5 | AJ3: =AJ2+AK2+AL2+AM2 -> 1545643.1 | AN3: =AN2 -> 716523.6 | AO3: =AO2 -> 1489615.1
AA4: Total | AB4: =AB3 -> 21877554 | AH4: =AH2 -> 429529.56 | AI4: =AI2 -> 562353.94 | AJ4: =AJ2 -> 2500 | AK4: =AK2 -> 505049.1 | AL4: =AL2 -> 103611 | AM4: =AM2 -> 934483 | AN4: =AN2 -> 716523.6 | AO4: =AO2 -> 1489615.1 | ... AT4: =AT2 -> 331890.8 | AU4: =SUM(AB4:AT4) -> 28882630
AA5: Percentage | AB5: =AB4/$AU$4 -> 0.75746406 | AH5: =AH4/$AU$4 -> 0.014871553 | AI5: =AI4/$AU$4 -> 0.019470316 | AJ5: =AJ4/$AU$4 -> 8.6557214e-05 | AK5: =AK4/$AU$4 -> 0.017486257 | AL5: =AL4/$AU$4 -> 0.0035873118 | AM5: =AM4/$AU$4 -> 0.032354498 | AN5: =AN4/$AU$4 -> 0.024808115 | AO5: =AO4/$AU$4 -> 0.051574773 | ... AT5: =AT4/$AU$4 -> 0.011491017
A7: Numbers from LGG. | J7: Percentages
K8: Dwarf | M8: Elf
B9: Country | C9: Total pop | D9: Suel | E9: Oeridian | F9: Bakluni | G9: Flan | H9: Other | I9: Human Tot | J9: Human | K9: Mountain | L9: Hill | M9: Unspec elf | N9: Valley | O9: High | P9: Grey | Q9: Sylvan | R9: Gnome | S9: Halfling | T9: Half-elf | U9: Half-orc | V9: Orc | W9: Goblinoids | X9: Other | Z9: Total | AB9: Human | AC9: Suel | AD9: Oeridian | AE9: Bakluni | AF9: Flan | AG9: Other | AH9: Mountain | AI9: Hill | AJ9: Valley | AK9: High | AL9: Grey | AM9: Sylvan | AN9: Gnome | AO9: Halfling | AP9: Half-elf | AQ9: Half-orc | AR9: Orc | AS9: Goblinoids | AT9: Other
B10: Ahlissa | C10: 3836100 | D10: 0.35 | E10: 0.55 | G10: 0.1 | I10: =SUM(D10:H10) -> 1 | J10: 0.79 | L10: 0.02 | O10: =0.05*0.1 -> 0.005 | Q10: =0.05*0.9 -> 0.045 | R10: 0.02 | S10: 0.09 | T10: 0.01 | U10: 0.01 | X10: 0.01 | Z10: =SUM(J10:X10) -> 1 | AB10: =$C10*J10 -> 3030519 | AC10: =D10*$J10*$C10 -> 1060681.6 | AD10: =E10*$J10*$C10 -> 1666785.5 | AE10: =F10*$J10*$C10 -> 0 | AF10: =G10*$J10*$C10 -> 303051.9 | AG10: =H10*$J10*$C10 -> 0 | AH10: =$C10*K10 -> 0 | AI10: =$C10*L10 -> 76722 | AJ10: =$C10*N10 -> 0 | AK10: =$C10*O10 -> 19180.5 | AL10: =$C10*P10 -> 0 | AM10: =$C10*Q10 -> 172624.5 | AN10: =$C10*R10 -> 76722 | AO10: =$C10*S10 -> 345249 | AP10: =$C10*T10 -> 38361 | AQ10: =$C10*U10 -> 38361 | ... AT10: =$C10*X10 -> 38361
B11: Bandit kingdoms | C11: 475200 | D11: 0.2 | E11: 0.4 | F11: 0.1 | G11: 0.3 | I11: =SUM(D11:H11) -> 1 | J11: 0.79 | L11: 0.01 | O11: 0.015 | Q11: 0.015 | R11: 0.02 | S11: 0.05 | T11: 0.01 | U11: 0.09 | X11: 0 | Z11: =SUM(J11:X11) -> 1 | AB11: =$C11*J11 -> 375408 | AC11: =D11*$J11*$C11 -> 75081.6 | AD11: =E11*$J11*$C11 -> 150163.2 | AE11: =F11*$J11*$C11 -> 37540.8 | AF11: =G11*$J11*$C11 -> 112622.4 | AG11: =H11*$J11*$C11 -> 0 | AH11: =$C11*K11 -> 0 | AI11: =$C11*L11 -> 4752 | AJ11: =$C11*N11 -> 0 | AK11: =$C11*O11 -> 7128 | AL11: =$C11*P11 -> 0 | AM11: =$C11*Q11 -> 7128 | AN11: =$C11*R11 -> 9504 | AO11: =$C11*S11 -> 23760 | AP11: =$C11*T11 -> 4752 | AQ11: =$C11*U11 -> 42768 | ... AT11: =$C11*X11 -> 0
B12: Bissel | C12: 123880 | D12: 0.35 | E12: 0.45 | F12: 0.2 | I12: =SUM(D12:H12) -> 1 | J12: 0.82 | K12: 0.057 | L12: 0.043 | Q12: 0.02 | R12: 0.02 | S12: 0.02 | T12: 0.01 | X12: 0.01 | Z12: =SUM(J12:X12) -> 1 | AB12: =$C12*J12 -> 101581.6 | AC12: =D12*$J12*$C12 -> 35553.56 | AD12: =E12*$J12*$C12 -> 45711.72 | AE12: =F12*$J12*$C12 -> 20316.32 | AF12: =G12*$J12*$C12 -> 0 | AG12: =H12*$J12*$C12 -> 0 | AH12: =$C12*K12 -> 7061.16 | AI12: =$C12*L12 -> 5326.84 | AJ12: =$C12*N12 -> 0 | AK12: =$C12*O12 -> 0 | AL12: =$C12*P12 -> 0 | AM12: =$C12*Q12 -> 2477.6 | AN12: =$C12*R12 -> 2477.6 | AO12: =$C12*S12 -> 2477.6 | AP12: =$C12*T12 -> 1238.8 | AQ12: =$C12*U12 -> 0 | ... AT12: =$C12*X12 -> 1238.8
B13: Blackmoor | C13: 110000 | D13: 0.12 | E13: 0.3 | F13: 0.08 | G13: 0.5 | I13: =SUM(D13:H13) -> 1 | J13: 0.37 | O13: 0.05 | Q13: 0.05 | R13: 0.07 | S13: 0.18 | T13: 0.02 | U13: 0.05 | V13: 0.2 | X13: 0.01 | Z13: =SUM(J13:X13) -> 1 | AB13: =$C13*J13 -> 40700 | AC13: =D13*$J13*$C13 -> 4884 | AD13: =E13*$J13*$C13 -> 12210 | AE13: =F13*$J13*$C13 -> 3256 | AF13: =G13*$J13*$C13 -> 20350 | AG13: =H13*$J13*$C13 -> 0 | AH13: =$C13*K13 -> 0 | AI13: =$C13*L13 -> 0 | AJ13: =$C13*N13 -> 0 | AK13: =$C13*O13 -> 5500 | AL13: =$C13*P13 -> 0 | AM13: =$C13*Q13 -> 5500 | AN13: =$C13*R13 -> 7700 | AO13: =$C13*S13 -> 19800 | AP13: =$C13*T13 -> 2200 | AQ13: =$C13*U13 -> 5500 | ... AT13: =$C13*X13 -> 1100
B14: Bone march | C14: 310000 | D14: 0.12 | E14: 0.8 | G14: 0.08 | I14: =SUM(D14:H14) -> 1 | J14: 0.37 | L14: 0.01 | O14: 0.035 | Q14: 0.035 | R14: 0.1 | S14: 0.18 | T14: 0.03 | U14: 0.04 | V14: 0.2 | Z14: =SUM(J14:X14) -> 1 | AB14: =$C14*J14 -> 114700 | AC14: =D14*$J14*$C14 -> 13764 | AD14: =E14*$J14*$C14 -> 91760 | AE14: =F14*$J14*$C14 -> 0 | AF14: =G14*$J14*$C14 -> 9176 | AG14: =H14*$J14*$C14 -> 0 | AH14: =$C14*K14 -> 0 | AI14: =$C14*L14 -> 3100 | AJ14: =$C14*N14 -> 0 | AK14: =$C14*O14 -> 10850 | AL14: =$C14*P14 -> 0 | AM14: =$C14*Q14 -> 10850 | AN14: =$C14*R14 -> 31000 | AO14: =$C14*S14 -> 55800 | AP14: =$C14*T14 -> 9300 | AQ14: =$C14*U14 -> 12400 | ... AT14: =$C14*X14 -> 0
B15: Bright lands | C15: 26500 | D15: 0.15 | E15: 0.1 | F15: 0.05 | G15: 0.7 | I15: =SUM(D15:H15) -> 1 | J15: 0.79 | L15: 0.2 | X15: 0.01 | Z15: =SUM(J15:X15) -> 1 | AB15: =$C15*J15 -> 20935 | AC15: =D15*$J15*$C15 -> 3140.25 | AD15: =E15*$J15*$C15 -> 2093.5 | AE15: =F15*$J15*$C15 -> 1046.75 | AF15: =G15*$J15*$C15 -> 14654.5 | AG15: =H15*$J15*$C15 -> 0 | AH15: =$C15*K15 -> 0 | AI15: =$C15*L15 -> 5300 | AJ15: =$C15*N15 -> 0 | AK15: =$C15*O15 -> 0 | AL15: =$C15*P15 -> 0 | AM15: =$C15*Q15 -> 0 | AN15: =$C15*R15 -> 0 | AO15: =$C15*S15 -> 0 | AP15: =$C15*T15 -> 0 | AQ15: =$C15*U15 -> 0 | ... AT15: =$C15*X15 -> 265
B16: Celene | C16: 140000 | D16: 0.8 | E16: 0.12 | G16: 0.08 | I16: =SUM(D16:H16) -> 1 | J16: 0.09 | P16: =0.79*0.55 -> 0.4345 | Q16: =0.79*0.45 -> 0.3555 | R16: 0.03 | S16: 0.02 | T16: 0.05 | X16: 0.02 | Z16: =SUM(J16:X16) -> 1 | AB16: =$C16*J16 -> 12600 | AC16: =D16*$J16*$C16 -> 10080 | AD16: =E16*$J16*$C16 -> 1512 | AE16: =F16*$J16*$C16 -> 0 | AF16: =G16*$J16*$C16 -> 1008 | AG16: =H16*$J16*$C16 -> 0 | AH16: =$C16*K16 -> 0 | AI16: =$C16*L16 -> 0 | AJ16: =$C16*N16 -> 0 | AK16: =$C16*O16 -> 0 | AL16: =$C16*P16 -> 60830 | AM16: =$C16*Q16 -> 49770 | AN16: =$C16*R16 -> 4200 | AO16: =$C16*S16 -> 2800 | AP16: =$C16*T16 -> 7000 | AQ16: =$C16*U16 -> 0 | ... AT16: =$C16*X16 -> 2800
B17: Dyvers | C17: 128000 | D17: 0.12 | E17: 0.7 | F17: 0.06 | G17: 0.08 | H17: 0.04 | I17: =SUM(D17:H17) -> 1 | J17: 0.79 | L17: 0.02 | O17: 0.015 | Q17: 0.015 | R17: 0.08 | S17: 0.06 | T17: 0.01 | U17: 0.01 | Z17: =SUM(J17:X17) -> 1 | AB17: =$C17*J17 -> 101120 | AC17: =D17*$J17*$C17 -> 12134.4 | AD17: =E17*$J17*$C17 -> 70784 | AE17: =F17*$J17*$C17 -> 6067.2 | AF17: =G17*$J17*$C17 -> 8089.6 | AG17: =H17*$J17*$C17 -> 4044.8 | AH17: =$C17*K17 -> 0 | AI17: =$C17*L17 -> 2560 | AJ17: =$C17*N17 -> 0 | AK17: =$C17*O17 -> 1920 | AL17: =$C17*P17 -> 0 | AM17: =$C17*Q17 -> 1920 | AN17: =$C17*R17 -> 10240 | AO17: =$C17*S17 -> 7680 | AP17: =$C17*T17 -> 1280 | AQ17: =$C17*U17 -> 1280 | ... AT17: =$C17*X17 -> 0
B18: Ekbir | C18: 1960000 | F18: 1 | I18: =SUM(D18:H18) -> 1 | J18: 0.96 | O18: 0.005 | Q18: 0.005 | S18: 0.02 | X18: 0.01 | Z18: =SUM(J18:X18) -> 1 | AB18: =$C18*J18 -> 1881600 | AC18: =D18*$J18*$C18 -> 0 | AD18: =E18*$J18*$C18 -> 0 | AE18: =F18*$J18*$C18 -> 1881600 | AF18: =G18*$J18*$C18 -> 0 | AG18: =H18*$J18*$C18 -> 0 | AH18: =$C18*K18 -> 0 | AI18: =$C18*L18 -> 0 | AJ18: =$C18*N18 -> 0 | AK18: =$C18*O18 -> 9800 | AL18: =$C18*P18 -> 0 | AM18: =$C18*Q18 -> 9800 | AN18: =$C18*R18 -> 0 | AO18: =$C18*S18 -> 39200 | AP18: =$C18*T18 -> 0 | AQ18: =$C18*U18 -> 0 | ... AT18: =$C18*X18 -> 19600
B19: Frost barbarians | C19: 144500 | D19: 1 | I19: =SUM(D19:H19) -> 1 | J19: 0.96 | K19: 0.01 | L19: 0.01 | S19: 0.01 | X19: 0.01 | Z19: =SUM(J19:X19) -> 1 | AB19: =$C19*J19 -> 138720 | AC19: =D19*$J19*$C19 -> 138720 | AD19: =E19*$J19*$C19 -> 0 | AE19: =F19*$J19*$C19 -> 0 | AF19: =G19*$J19*$C19 -> 0 | AG19: =H19*$J19*$C19 -> 0 | AH19: =$C19*K19 -> 1445 | AI19: =$C19*L19 -> 1445 | AJ19: =$C19*N19 -> 0 | AK19: =$C19*O19 -> 0 | AL19: =$C19*P19 -> 0 | AM19: =$C19*Q19 -> 0 | AN19: =$C19*R19 -> 0 | AO19: =$C19*S19 -> 1445 | AP19: =$C19*T19 -> 0 | AQ19: =$C19*U19 -> 0 | ... AT19: =$C19*X19 -> 1445
B20: Furyondy | C20: 1481800 | D20: 0.12 | E20: 0.75 | F20: 0.08 | G20: 0.05 | I20: =SUM(D20:H20) -> 1 | J20: 0.79 | L20: 0.03 | O20: =0.4*0.09 -> 0.036 | Q20: =0.6*0.09 -> 0.054 | R20: 0.02 | S20: 0.05 | T20: 0.01 | U20: 0.01 | Z20: =SUM(J20:X20) -> 1 | AB20: =$C20*J20 -> 1170622 | AC20: =D20*$J20*$C20 -> 140474.64 | AD20: =E20*$J20*$C20 -> 877966.5 | AE20: =F20*$J20*$C20 -> 93649.76 | AF20: =G20*$J20*$C20 -> 58531.1 | AG20: =H20*$J20*$C20 -> 0 | AH20: =$C20*K20 -> 0 | AI20: =$C20*L20 -> 44454 | AJ20: =$C20*N20 -> 0 | AK20: =$C20*O20 -> 53344.8 | AL20: =$C20*P20 -> 0 | AM20: =$C20*Q20 -> 80017.2 | AN20: =$C20*R20 -> 29636 | AO20: =$C20*S20 -> 74090 | AP20: =$C20*T20 -> 14818 | AQ20: =$C20*U20 -> 14818 | ... AT20: =$C20*X20 -> 0
B21: Geoff | C21: 70000 | D21: 0.3 | E21: 0.25 | G21: 0.45 | I21: =SUM(D21:H21) -> 1 | J21: 0.79 | L21: 0.03 | O21: =0.1*0.09 -> 0.009 | Q21: =0.9*0.09 -> 0.081 | R21: 0.02 | S21: 0.05 | T21: 0.01 | U21: 0.01 | Z21: =SUM(J21:X21) -> 1 | AB21: =$C21*J21 -> 55300 | AC21: =D21*$J21*$C21 -> 16590 | AD21: =E21*$J21*$C21 -> 13825 | AE21: =F21*$J21*$C21 -> 0 | AF21: =G21*$J21*$C21 -> 24885 | AG21: =H21*$J21*$C21 -> 0 | AH21: =$C21*K21 -> 0 | AI21: =$C21*L21 -> 2100 | AJ21: =$C21*N21 -> 0 | AK21: =$C21*O21 -> 630 | AL21: =$C21*P21 -> 0 | AM21: =$C21*Q21 -> 5670 | AN21: =$C21*R21 -> 1400 | AO21: =$C21*S21 -> 3500 | AP21: =$C21*T21 -> 700 | AQ21: =$C21*U21 -> 700 | ... AT21: =$C21*X21 -> 0
B22: Gran March | C22: 254600 | D22: 0.5 | E22: 0.4 | G22: 0.1 | I22: =SUM(D22:H22) -> 1 | J22: 0.79 | L22: 0.05 | Q22: 0.08 | R22: 0.02 | S22: 0.03 | T22: 0.01 | U22: 0.01 | X22: 0.01 | Z22: =SUM(J22:X22) -> 1 | AB22: =$C22*J22 -> 201134 | AC22: =D22*$J22*$C22 -> 100567 | AD22: =E22*$J22*$C22 -> 80453.6 | AE22: =F22*$J22*$C22 -> 0 | AF22: =G22*$J22*$C22 -> 20113.4 | AG22: =H22*$J22*$C22 -> 0 | AH22: =$C22*K22 -> 0 | AI22: =$C22*L22 -> 12730 | AJ22: =$C22*N22 -> 0 | AK22: =$C22*O22 -> 0 | AL22: =$C22*P22 -> 0 | AM22: =$C22*Q22 -> 20368 | AN22: =$C22*R22 -> 5092 | AO22: =$C22*S22 -> 7638 | AP22: =$C22*T22 -> 2546 | AQ22: =$C22*U22 -> 2546 | ... AT22: =$C22*X22 -> 2546
B23: Greyhawk domain | C23: 160000 | D23: 0.34 | E23: 0.42 | F23: 0.08 | G23: 0.1 | H23: 0.06 | I23: =SUM(D23:H23) -> 1 | J23: 0.79 | L23: 0.02 | Q23: 0.03 | R23: 0.05 | S23: 0.09 | T23: 0.01 | U23: 0.01 | Z23: =SUM(J23:X23) -> 1 | AB23: =$C23*J23 -> 126400 | AC23: =D23*$J23*$C23 -> 42976 | AD23: =E23*$J23*$C23 -> 53088 | AE23: =F23*$J23*$C23 -> 10112 | AF23: =G23*$J23*$C23 -> 12640 | AG23: =H23*$J23*$C23 -> 7584 | AH23: =$C23*K23 -> 0 | AI23: =$C23*L23 -> 3200 | AJ23: =$C23*N23 -> 0 | AK23: =$C23*O23 -> 0 | AL23: =$C23*P23 -> 0 | AM23: =$C23*Q23 -> 4800 | AN23: =$C23*R23 -> 8000 | AO23: =$C23*S23 -> 14400 | AP23: =$C23*T23 -> 1600 | AQ23: =$C23*U23 -> 1600 | ... AT23: =$C23*X23 -> 0
B24: Highfolk | C24: 46000 | D24: 0.15 | E24: 0.85 | I24: =SUM(D24:H24) -> 1 | J24: 0.09 | L24: 0.01 | O24: =0.79*0.6 -> 0.474 | Q24: =0.79*0.4 -> 0.316 | R24: 0.02 | S24: 0.03 | T24: 0.05 | U24: 0.01 | Z24: =SUM(J24:X24) -> 1 | AB24: =$C24*J24 -> 4140 | AC24: =D24*$J24*$C24 -> 621 | AD24: =E24*$J24*$C24 -> 3519 | AE24: =F24*$J24*$C24 -> 0 | AF24: =G24*$J24*$C24 -> 0 | AG24: =H24*$J24*$C24 -> 0 | AH24: =$C24*K24 -> 0 | AI24: =$C24*L24 -> 460 | AJ24: =$C24*N24 -> 0 | AK24: =$C24*O24 -> 21804 | AL24: =$C24*P24 -> 0 | AM24: =$C24*Q24 -> 14536 | AN24: =$C24*R24 -> 920 | AO24: =$C24*S24 -> 1380 | AP24: =$C24*T24 -> 2300 | AQ24: =$C24*U24 -> 460 | ... AT24: =$C24*X24 -> 0
B25: Ice barbarians | C25: 158800 | D25: 1 | I25: =SUM(D25:H25) -> 1 | J25: 0.96 | K25: =0.02*0.65 -> 0.013 | L25: =0.02*0.35 -> 0.007 | S25: 0.01 | X25: 0.01 | Z25: =SUM(J25:X25) -> 1 | AB25: =$C25*J25 -> 152448 | AC25: =D25*$J25*$C25 -> 152448 | AD25: =E25*$J25*$C25 -> 0 | AE25: =F25*$J25*$C25 -> 0 | AF25: =G25*$J25*$C25 -> 0 | AG25: =H25*$J25*$C25 -> 0 | AH25: =$C25*K25 -> 2064.4 | AI25: =$C25*L25 -> 1111.6 | AJ25: =$C25*N25 -> 0 | AK25: =$C25*O25 -> 0 | AL25: =$C25*P25 -> 0 | AM25: =$C25*Q25 -> 0 | AN25: =$C25*R25 -> 0 | AO25: =$C25*S25 -> 1588 | AP25: =$C25*T25 -> 0 | AQ25: =$C25*U25 -> 0 | ... AT25: =$C25*X25 -> 1588
B26: Irongate | C26: 71000 | D26: 0.15 | E26: 0.85 | I26: =SUM(D26:H26) -> 1 | J26: 0.83 | L26: 0.15 | S26: 0.01 | X26: 0.01 | Z26: =SUM(J26:X26) -> 1 | AB26: =$C26*J26 -> 58930 | AC26: =D26*$J26*$C26 -> 8839.5 | AD26: =E26*$J26*$C26 -> 50090.5 | AE26: =F26*$J26*$C26 -> 0 | AF26: =G26*$J26*$C26 -> 0 | AG26: =H26*$J26*$C26 -> 0 | AH26: =$C26*K26 -> 0 | AI26: =$C26*L26 -> 10650 | AJ26: =$C26*N26 -> 0 | AK26: =$C26*O26 -> 0 | AL26: =$C26*P26 -> 0 | AM26: =$C26*Q26 -> 0 | AN26: =$C26*R26 -> 0 | AO26: =$C26*S26 -> 710 | AP26: =$C26*T26 -> 0 | AQ26: =$C26*U26 -> 0 | ... AT26: =$C26*X26 -> 710
B27: Iuz, empire of | C27: 700000 | D27: 0.1 | E27: 0.7 | F27: 0.08 | G27: 0.12 | I27: =SUM(D27:H27) -> 1 | J27: 0.25 | R27: 0.02 | S27: 0.05 | U27: 0.03 | V27: 0.45 | W27: 0.1 | X27: 0.1 | Z27: =SUM(J27:X27) -> 1 | AB27: =$C27*J27 -> 175000 | AC27: =D27*$J27*$C27 -> 17500 | AD27: =E27*$J27*$C27 -> 122500 | AE27: =F27*$J27*$C27 -> 14000 | AF27: =G27*$J27*$C27 -> 21000 | AG27: =H27*$J27*$C27 -> 0 | AH27: =$C27*K27 -> 0 | AI27: =$C27*L27 -> 0 | AJ27: =$C27*N27 -> 0 | AK27: =$C27*O27 -> 0 | AL27: =$C27*P27 -> 0 | AM27: =$C27*Q27 -> 0 | AN27: =$C27*R27 -> 14000 | AO27: =$C27*S27 -> 35000 | AP27: =$C27*T27 -> 0 | AQ27: =$C27*U27 -> 21000 | ... AT27: =$C27*X27 -> 70000
B28: Keoland | C28: 1800000 | D28: 0.5 | E28: 0.4 | G28: 0.1 | I28: =SUM(D28:H28) -> 1 | J28: 0.75 | L28: 0.01 | O28: =0.08*0.4 -> 0.032 | Q28: =0.08*0.6 -> 0.048 | R28: 0.06 | S28: 0.05 | T28: 0.02 | X28: 0.03 | Z28: =SUM(J28:X28) -> 1 | AB28: =$C28*J28 -> 1350000 | AC28: =D28*$J28*$C28 -> 675000 | AD28: =E28*$J28*$C28 -> 540000 | AE28: =F28*$J28*$C28 -> 0 | AF28: =G28*$J28*$C28 -> 135000 | AG28: =H28*$J28*$C28 -> 0 | AH28: =$C28*K28 -> 0 | AI28: =$C28*L28 -> 18000 | AJ28: =$C28*N28 -> 0 | AK28: =$C28*O28 -> 57600 | AL28: =$C28*P28 -> 0 | AM28: =$C28*Q28 -> 86400 | AN28: =$C28*R28 -> 108000 | AO28: =$C28*S28 -> 90000 | AP28: =$C28*T28 -> 36000 | AQ28: =$C28*U28 -> 0 | ... AT28: =$C28*X28 -> 54000
B29: Ket | C29: 275000 | D29: 0.08 | E29: 0.12 | F29: 0.8 | I29: =SUM(D29:H29) -> 1 | J29: 0.96 | K29: =0.02*0.3 -> 0.006 | L29: =0.02*0.7 -> 0.014 | S29: 0.01 | X29: 0.01 | Z29: =SUM(J29:X29) -> 1 | AB29: =$C29*J29 -> 264000 | AC29: =D29*$J29*$C29 -> 21120 | AD29: =E29*$J29*$C29 -> 31680 | AE29: =F29*$J29*$C29 -> 211200 | AF29: =G29*$J29*$C29 -> 0 | AG29: =H29*$J29*$C29 -> 0 | AH29: =$C29*K29 -> 1650 | AI29: =$C29*L29 -> 3850 | AJ29: =$C29*N29 -> 0 | AK29: =$C29*O29 -> 0 | AL29: =$C29*P29 -> 0 | AM29: =$C29*Q29 -> 0 | AN29: =$C29*R29 -> 0 | AO29: =$C29*S29 -> 2750 | AP29: =$C29*T29 -> 0 | AQ29: =$C29*U29 -> 0 | ... AT29: =$C29*X29 -> 2750
B30: Lendore isles | C30: 41000 | D30: 0.85 | E30: 0.15 | I30: =SUM(D30:H30) -> 1 | J30: 0.01 | O30: =0.97*0.7 -> 0.679 | P30: =0.97*0.3 -> 0.291 | T30: 0.02 | Z30: =SUM(J30:X30) -> 1 | AB30: =$C30*J30 -> 410 | AC30: =D30*$J30*$C30 -> 348.5 | AD30: =E30*$J30*$C30 -> 61.5 | AE30: =F30*$J30*$C30 -> 0 | AF30: =G30*$J30*$C30 -> 0 | AG30: =H30*$J30*$C30 -> 0 | AH30: =$C30*K30 -> 0 | AI30: =$C30*L30 -> 0 | AJ30: =$C30*N30 -> 0 | AK30: =$C30*O30 -> 27839 | AL30: =$C30*P30 -> 11931 | AM30: =$C30*Q30 -> 0 | AN30: =$C30*R30 -> 0 | AO30: =$C30*S30 -> 0 | AP30: =$C30*T30 -> 820 | AQ30: =$C30*U30 -> 0 | ... AT30: =$C30*X30 -> 0
B31: Lordship of the isles | C31: 266000 | D31: 0.8 | E31: 0.12 | H31: 0.08 | I31: =SUM(D31:H31) -> 1 | J31: 0.79 | L31: 0.03 | O31: 0.09 | R31: 0.02 | S31: 0.05 | T31: 0.01 | U31: 0.01 | Z31: =SUM(J31:X31) -> 1 | AB31: =$C31*J31 -> 210140 | AC31: =D31*$J31*$C31 -> 168112 | AD31: =E31*$J31*$C31 -> 25216.8 | AE31: =F31*$J31*$C31 -> 0 | AF31: =G31*$J31*$C31 -> 0 | AG31: =H31*$J31*$C31 -> 16811.2 | AH31: =$C31*K31 -> 0 | AI31: =$C31*L31 -> 7980 | AJ31: =$C31*N31 -> 0 | AK31: =$C31*O31 -> 23940 | AL31: =$C31*P31 -> 0 | AM31: =$C31*Q31 -> 0 | AN31: =$C31*R31 -> 5320 | AO31: =$C31*S31 -> 13300 | AP31: =$C31*T31 -> 2660 | AQ31: =$C31*U31 -> 2660 | ... AT31: =$C31*X31 -> 0
B32: North kingdom | C32: 2618200 | D32: 0.1 | E32: 0.5 | G32: 0.4 | I32: =SUM(D32:H32) -> 1 | J32: 0.83 | S32: 0.02 | U32: 0.01 | V32: 0.09 | W32: 0.03 | X32: 0.02 | Z32: =SUM(J32:X32) -> 1 | AB32: =$C32*J32 -> 2173106 | AC32: =D32*$J32*$C32 -> 217310.6 | AD32: =E32*$J32*$C32 -> 1086553 | AE32: =F32*$J32*$C32 -> 0 | AF32: =G32*$J32*$C32 -> 869242.4 | AG32: =H32*$J32*$C32 -> 0 | AH32: =$C32*K32 -> 0 | AI32: =$C32*L32 -> 0 | AJ32: =$C32*N32 -> 0 | AK32: =$C32*O32 -> 0 | AL32: =$C32*P32 -> 0 | AM32: =$C32*Q32 -> 0 | AN32: =$C32*R32 -> 0 | AO32: =$C32*S32 -> 52364 | AP32: =$C32*T32 -> 0 | AQ32: =$C32*U32 -> 26182 | ... AT32: =$C32*X32 -> 52364
B33: Nyrond | C33: 2618200 | D33: 0.15 | E33: 0.85 | I33: =SUM(D33:H33) -> 1 | J33: 0.79 | L33: 0.03 | O33: =0.1*0.09 -> 0.009 | Q33: =0.9*0.09 -> 0.081 | R33: 0.02 | S33: 0.05 | T33: 0.01 | U33: 0.01 | Z33: =SUM(J33:X33) -> 1 | AB33: =$C33*J33 -> 2068378 | AC33: =D33*$J33*$C33 -> 310256.7 | AD33: =E33*$J33*$C33 -> 1758121.3 | AE33: =F33*$J33*$C33 -> 0 | AF33: =G33*$J33*$C33 -> 0 | AG33: =H33*$J33*$C33 -> 0 | AH33: =$C33*K33 -> 0 | AI33: =$C33*L33 -> 78546 | AJ33: =$C33*N33 -> 0 | AK33: =$C33*O33 -> 23563.8 | AL33: =$C33*P33 -> 0 | AM33: =$C33*Q33 -> 212074.2 | AN33: =$C33*R33 -> 52364 | AO33: =$C33*S33 -> 130910 | AP33: =$C33*T33 -> 26182 | AQ33: =$C33*U33 -> 26182 | ... AT33: =$C33*X33 -> 0
B34: Onnwal | C34: 85500 | D34: 0.15 | E34: 0.85 | I34: =SUM(D34:H34) -> 1 | J34: 0.79 | L34: 0.09 | O34: 0.01 | Q34: 0.01 | R34: 0.05 | S34: 0.03 | X34: 0.02 | Z34: =SUM(J34:X34) -> 1 | AB34: =$C34*J34 -> 67545 | AC34: =D34*$J34*$C34 -> 10131.75 | AD34: =E34*$J34*$C34 -> 57413.25 | AE34: =F34*$J34*$C34 -> 0 | AF34: =G34*$J34*$C34 -> 0 | AG34: =H34*$J34*$C34 -> 0 | AH34: =$C34*K34 -> 0 | AI34: =$C34*L34 -> 7695 | AJ34: =$C34*N34 -> 0 | AK34: =$C34*O34 -> 855 | AL34: =$C34*P34 -> 0 | AM34: =$C34*Q34 -> 855 | AN34: =$C34*R34 -> 4275 | AO34: =$C34*S34 -> 2565 | AP34: =$C34*T34 -> 0 | AQ34: =$C34*U34 -> 0 | ... AT34: =$C34*X34 -> 1710
B35: Pale | C35: 395000 | E35: 0.4 | G35: 0.6 | I35: =SUM(D35:H35) -> 1 | J35: 0.96 | O35: 0.005 | Q35: 0.005 | S35: 0.02 | X35: 0.01 | Z35: =SUM(J35:X35) -> 1 | AB35: =$C35*J35 -> 379200 | AC35: =D35*$J35*$C35 -> 0 | AD35: =E35*$J35*$C35 -> 151680 | AE35: =F35*$J35*$C35 -> 0 | AF35: =G35*$J35*$C35 -> 227520 | AG35: =H35*$J35*$C35 -> 0 | AH35: =$C35*K35 -> 0 | AI35: =$C35*L35 -> 0 | AJ35: =$C35*N35 -> 0 | AK35: =$C35*O35 -> 1975 | AL35: =$C35*P35 -> 0 | AM35: =$C35*Q35 -> 1975 | AN35: =$C35*R35 -> 0 | AO35: =$C35*S35 -> 7900 | AP35: =$C35*T35 -> 0 | AQ35: =$C35*U35 -> 0 | ... AT35: =$C35*X35 -> 3950
B36: Paynims | C36: 500000 | D36: 0.08 | E36: 0.12 | F36: 0.8 | I36: =SUM(D36:H36) -> 1 | J36: 0.96 | S36: 0.01 | X36: 0.03 | Z36: =SUM(J36:X36) -> 1 | AB36: =$C36*J36 -> 480000 | AC36: =D36*$J36*$C36 -> 38400 | AD36: =E36*$J36*$C36 -> 57600 | AE36: =F36*$J36*$C36 -> 384000 | AF36: =G36*$J36*$C36 -> 0 | AG36: =H36*$J36*$C36 -> 0 | AH36: =$C36*K36 -> 0 | AI36: =$C36*L36 -> 0 | AJ36: =$C36*N36 -> 0 | AK36: =$C36*O36 -> 0 | AL36: =$C36*P36 -> 0 | AM36: =$C36*Q36 -> 0 | AN36: =$C36*R36 -> 0 | AO36: =$C36*S36 -> 5000 | AP36: =$C36*T36 -> 0 | AQ36: =$C36*U36 -> 0 | ... AT36: =$C36*X36 -> 15000
B37: Perrenland | C37: 468000 | D37: 0.08 | E37: 0.46 | F37: 0.06 | G37: 0.4 | I37: =SUM(D37:H37) -> 1 | J37: 0.79 | K37: =0.08*0.9 -> 0.072 | L37: =0.08*0.1 -> 0.008 | O37: 0.015 | Q37: 0.015 | R37: 0.02 | S37: 0.06 | T37: 0.01 | U37: 0.01 | Z37: =SUM(J37:X37) -> 1 | AB37: =$C37*J37 -> 369720 | AC37: =D37*$J37*$C37 -> 29577.6 | AD37: =E37*$J37*$C37 -> 170071.2 | AE37: =F37*$J37*$C37 -> 22183.2 | AF37: =G37*$J37*$C37 -> 147888 | AG37: =H37*$J37*$C37 -> 0 | AH37: =$C37*K37 -> 33696 | AI37: =$C37*L37 -> 3744 | AJ37: =$C37*N37 -> 0 | AK37: =$C37*O37 -> 7020 | AL37: =$C37*P37 -> 0 | AM37: =$C37*Q37 -> 7020 | AN37: =$C37*R37 -> 9360 | AO37: =$C37*S37 -> 28080 | AP37: =$C37*T37 -> 4680 | AQ37: =$C37*U37 -> 4680 | ... AT37: =$C37*X37 -> 0
B38: Pomarj, empire of | C38: 476000 | D38: 0.5 | E38: 0.4 | G38: 0.1 | I38: =SUM(D38:H38) -> 1 | J38: 0.28 | S38: 0.03 | V38: 0.43 | W38: 0.25 | X38: 0.01 | Z38: =SUM(J38:X38) -> 1 | AB38: =$C38*J38 -> 133280 | AC38: =D38*$J38*$C38 -> 66640 | AD38: =E38*$J38*$C38 -> 53312 | AE38: =F38*$J38*$C38 -> 0 | AF38: =G38*$J38*$C38 -> 13328 | AG38: =H38*$J38*$C38 -> 0 | AH38: =$C38*K38 -> 0 | AI38: =$C38*L38 -> 0 | AJ38: =$C38*N38 -> 0 | AK38: =$C38*O38 -> 0 | AL38: =$C38*P38 -> 0 | AM38: =$C38*Q38 -> 0 | AN38: =$C38*R38 -> 0 | AO38: =$C38*S38 -> 14280 | AP38: =$C38*T38 -> 0 | AQ38: =$C38*U38 -> 0 | ... AT38: =$C38*X38 -> 4760
B39: Ratik | C39: 138500 | D39: 0.8 | E39: 0.12 | G39: 0.08 | I39: =SUM(D39:H39) -> 1 | J39: 0.79 | K39: =0.08*0.8 -> 0.064 | L39: =0.08*0.2 -> 0.016 | O39: 0.015 | Q39: 0.015 | R39: 0.02 | S39: 0.06 | T39: 0.01 | U39: 0.01 | Z39: =SUM(J39:X39) -> 1 | AB39: =$C39*J39 -> 109415 | AC39: =D39*$J39*$C39 -> 87532 | AD39: =E39*$J39*$C39 -> 13129.8 | AE39: =F39*$J39*$C39 -> 0 | AF39: =G39*$J39*$C39 -> 8753.2 | AG39: =H39*$J39*$C39 -> 0 | AH39: =$C39*K39 -> 8864 | AI39: =$C39*L39 -> 2216 | AJ39: =$C39*N39 -> 0 | AK39: =$C39*O39 -> 2077.5 | AL39: =$C39*P39 -> 0 | AM39: =$C39*Q39 -> 2077.5 | AN39: =$C39*R39 -> 2770 | AO39: =$C39*S39 -> 8310 | AP39: =$C39*T39 -> 1385 | AQ39: =$C39*U39 -> 1385 | ... AT39: =$C39*X39 -> 0
B40: Rel Astra & Solnor compact | C40: 380000 | D40: 0.2 | E40: 0.8 | I40: =SUM(D40:H40) -> 1 | J40: 0.79 | L40: 0.03 | O40: 0.02 | Q40: 0.02 | R40: 0.02 | S40: 0.09 | T40: 0.01 | U40: 0.02 | Z40: =SUM(J40:X40) -> 1 | AB40: =$C40*J40 -> 300200 | AC40: =D40*$J40*$C40 -> 60040 | AD40: =E40*$J40*$C40 -> 240160 | AE40: =F40*$J40*$C40 -> 0 | AF40: =G40*$J40*$C40 -> 0 | AG40: =H40*$J40*$C40 -> 0 | AH40: =$C40*K40 -> 0 | AI40: =$C40*L40 -> 11400 | AJ40: =$C40*N40 -> 0 | AK40: =$C40*O40 -> 7600 | AL40: =$C40*P40 -> 0 | AM40: =$C40*Q40 -> 7600 | AN40: =$C40*R40 -> 7600 | AO40: =$C40*S40 -> 34200 | AP40: =$C40*T40 -> 3800 | AQ40: =$C40*U40 -> 7600 | ... AT40: =$C40*X40 -> 0
B41: Rovers of the barren | C41: 35000 | F41: 0.15 | G41: 0.85 | I41: =SUM(D41:H41) -> 1 | J41: 0.37 | R41: 0.05 | S41: 0.07 | U41: 0.03 | V41: 0.2 | W41: 0.28 | Z41: =SUM(J41:X41) -> 1 | AB41: =$C41*J41 -> 12950 | AC41: =D41*$J41*$C41 -> 0 | AD41: =E41*$J41*$C41 -> 0 | AE41: =F41*$J41*$C41 -> 1942.5 | AF41: =G41*$J41*$C41 -> 11007.5 | AG41: =H41*$J41*$C41 -> 0 | AH41: =$C41*K41 -> 0 | AI41: =$C41*L41 -> 0 | AJ41: =$C41*N41 -> 0 | AK41: =$C41*O41 -> 0 | AL41: =$C41*P41 -> 0 | AM41: =$C41*Q41 -> 0 | AN41: =$C41*R41 -> 1750 | AO41: =$C41*S41 -> 2450 | AP41: =$C41*T41 -> 0 | AQ41: =$C41*U41 -> 1050 | ... AT41: =$C41*X41 -> 0
B42: Scarlet brotherhood | C42: 50000 | D42: 1 | I42: =SUM(D42:H42) -> 1 | J42: 0.96 | O42: 0.005 | Q42: 0.005 | S42: 0.02 | X42: 0.01 | Z42: =SUM(J42:X42) -> 1 | AB42: =$C42*J42 -> 48000 | AC42: =D42*$J42*$C42 -> 48000 | AD42: =E42*$J42*$C42 -> 0 | AE42: =F42*$J42*$C42 -> 0 | AF42: =G42*$J42*$C42 -> 0 | AG42: =H42*$J42*$C42 -> 0 | AH42: =$C42*K42 -> 0 | AI42: =$C42*L42 -> 0 | AJ42: =$C42*N42 -> 0 | AK42: =$C42*O42 -> 250 | AL42: =$C42*P42 -> 0 | AM42: =$C42*Q42 -> 250 | AN42: =$C42*R42 -> 0 | AO42: =$C42*S42 -> 1000 | AP42: =$C42*T42 -> 0 | AQ42: =$C42*U42 -> 0 | ... AT42: =$C42*X42 -> 500
B43: Sea barons | C43: 154000 | D43: 0.8 | E43: 0.2 | I43: =SUM(D43:H43) -> 1 | J43: 0.79 | L43: 0.03 | O43: 0.025 | Q43: 0.025 | R43: 0.02 | S43: 0.09 | T43: 0.01 | U43: 0.01 | Z43: =SUM(J43:X43) -> 1 | AB43: =$C43*J43 -> 121660 | AC43: =D43*$J43*$C43 -> 97328 | AD43: =E43*$J43*$C43 -> 24332 | AE43: =F43*$J43*$C43 -> 0 | AF43: =G43*$J43*$C43 -> 0 | AG43: =H43*$J43*$C43 -> 0 | AH43: =$C43*K43 -> 0 | AI43: =$C43*L43 -> 4620 | AJ43: =$C43*N43 -> 0 | AK43: =$C43*O43 -> 3850 | AL43: =$C43*P43 -> 0 | AM43: =$C43*Q43 -> 3850 | AN43: =$C43*R43 -> 3080 | AO43: =$C43*S43 -> 13860 | AP43: =$C43*T43 -> 1540 | AQ43: =$C43*U43 -> 1540 | ... AT43: =$C43*X43 -> 0
B44: Sea princes | C44: 420000 | D44: 0.7 | E44: 0.15 | G44: 0.1 | H44: 0.05 | I44: =SUM(D44:H44) -> 1 | J44: 0.79 | L44: 0.03 | O44: 0.02 | Q44: 0.02 | R44: 0.02 | S44: 0.08 | T44: 0.01 | U44: 0.01 | X44: 0.02 | Z44: =SUM(J44:X44) -> 1 | AB44: =$C44*J44 -> 331800 | AC44: =D44*$J44*$C44 -> 232260 | AD44: =E44*$J44*$C44 -> 49770 | AE44: =F44*$J44*$C44 -> 0 | AF44: =G44*$J44*$C44 -> 33180 | AG44: =H44*$J44*$C44 -> 16590 | AH44: =$C44*K44 -> 0 | AI44: =$C44*L44 -> 12600 | AJ44: =$C44*N44 -> 0 | AK44: =$C44*O44 -> 8400 | AL44: =$C44*P44 -> 0 | AM44: =$C44*Q44 -> 8400 | AN44: =$C44*R44 -> 8400 | AO44: =$C44*S44 -> 33600 | AP44: =$C44*T44 -> 4200 | AQ44: =$C44*U44 -> 4200 | ... AT44: =$C44*X44 -> 8400
B45: Shield lands | C45: 27000 | D45: 0.1 | E45: 0.85 | G45: 0.05 | I45: =SUM(D45:H45) -> 1 | J45: 0.79 | L45: 0.03 | O45: 0.025 | Q45: 0.025 | R45: 0.02 | S45: 0.09 | T45: 0.01 | U45: 0.01 | Z45: =SUM(J45:X45) -> 1 | AB45: =$C45*J45 -> 21330 | AC45: =D45*$J45*$C45 -> 2133 | AD45: =E45*$J45*$C45 -> 18130.5 | AE45: =F45*$J45*$C45 -> 0 | AF45: =G45*$J45*$C45 -> 1066.5 | AG45: =H45*$J45*$C45 -> 0 | AH45: =$C45*K45 -> 0 | AI45: =$C45*L45 -> 810 | AJ45: =$C45*N45 -> 0 | AK45: =$C45*O45 -> 675 | AL45: =$C45*P45 -> 0 | AM45: =$C45*Q45 -> 675 | AN45: =$C45*R45 -> 540 | AO45: =$C45*S45 -> 2430 | AP45: =$C45*T45 -> 270 | AQ45: =$C45*U45 -> 270 | ... AT45: =$C45*X45 -> 0
B46: Snow barbarians | C46: 209000 | D46: 1 | I46: =SUM(D46:H46) -> 1 | J46: 0.79 | K46: =0.08*0.6 -> 0.048 | L46: =0.08*0.4 -> 0.032 | O46: 0.015 | Q46: 0.015 | R46: 0.02 | S46: 0.06 | T46: 0.01 | U46: 0.01 | Z46: =SUM(J46:X46) -> 1 | AB46: =$C46*J46 -> 165110 | AC46: =D46*$J46*$C46 -> 165110 | AD46: =E46*$J46*$C46 -> 0 | AE46: =F46*$J46*$C46 -> 0 | AF46: =G46*$J46*$C46 -> 0 | AG46: =H46*$J46*$C46 -> 0 | AH46: =$C46*K46 -> 10032 | AI46: =$C46*L46 -> 6688 | AJ46: =$C46*N46 -> 0 | AK46: =$C46*O46 -> 3135 | AL46: =$C46*P46 -> 0 | AM46: =$C46*Q46 -> 3135 | AN46: =$C46*R46 -> 4180 | AO46: =$C46*S46 -> 12540 | AP46: =$C46*T46 -> 2090 | AQ46: =$C46*U46 -> 2090 | ... AT46: =$C46*X46 -> 0
B47: Sterich | C47: 144000 | D47: 0.25 | E47: 0.4 | G47: 0.35 | I47: =SUM(D47:H47) -> 1 | J47: 0.79 | K47: 0.08 | O47: 0.01 | Q47: 0.01 | R47: 0.03 | S47: 0.06 | T47: 0.01 | U47: 0.01 | Z47: =SUM(J47:X47) -> 1 | AB47: =$C47*J47 -> 113760 | AC47: =D47*$J47*$C47 -> 28440 | AD47: =E47*$J47*$C47 -> 45504 | AE47: =F47*$J47*$C47 -> 0 | AF47: =G47*$J47*$C47 -> 39816 | AG47: =H47*$J47*$C47 -> 0 | AH47: =$C47*K47 -> 11520 | AI47: =$C47*L47 -> 0 | AJ47: =$C47*N47 -> 0 | AK47: =$C47*O47 -> 1440 | AL47: =$C47*P47 -> 0 | AM47: =$C47*Q47 -> 1440 | AN47: =$C47*R47 -> 4320 | AO47: =$C47*S47 -> 8640 | AP47: =$C47*T47 -> 1440 | AQ47: =$C47*U47 -> 1440 | ... AT47: =$C47*X47 -> 0
B48: Stonehold | C48: 55000 | D48: 0.4 | G48: 0.6 | I48: =SUM(D48:H48) -> 1 | J48: 0.96 | L48: 0.01 | V48: 0.02 | X48: 0.01 | Z48: =SUM(J48:X48) -> 1 | AB48: =$C48*J48 -> 52800 | AC48: =D48*$J48*$C48 -> 21120 | AD48: =E48*$J48*$C48 -> 0 | AE48: =F48*$J48*$C48 -> 0 | AF48: =G48*$J48*$C48 -> 31680 | AG48: =H48*$J48*$C48 -> 0 | AH48: =$C48*K48 -> 0 | AI48: =$C48*L48 -> 550 | AJ48: =$C48*N48 -> 0 | AK48: =$C48*O48 -> 0 | AL48: =$C48*P48 -> 0 | AM48: =$C48*Q48 -> 0 | AN48: =$C48*R48 -> 0 | AO48: =$C48*S48 -> 0 | AP48: =$C48*T48 -> 0 | AQ48: =$C48*U48 -> 0 | ... AT48: =$C48*X48 -> 550
B49: Sunndi | C49: 125000 | D49: 0.4 | E49: 0.6 | I49: =SUM(D49:H49) -> 1 | J49: 0.79 | K49: 0.025 | L49: 0.025 | P49: 0.09 | R49: 0.03 | S49: 0.02 | T49: 0.01 | X49: 0.01 | Z49: =SUM(J49:X49) -> 1 | AB49: =$C49*J49 -> 98750 | AC49: =D49*$J49*$C49 -> 39500 | AD49: =E49*$J49*$C49 -> 59250 | AE49: =F49*$J49*$C49 -> 0 | AF49: =G49*$J49*$C49 -> 0 | AG49: =H49*$J49*$C49 -> 0 | AH49: =$C49*K49 -> 3125 | AI49: =$C49*L49 -> 3125 | AJ49: =$C49*N49 -> 0 | AK49: =$C49*O49 -> 0 | AL49: =$C49*P49 -> 11250 | AM49: =$C49*Q49 -> 0 | AN49: =$C49*R49 -> 3750 | AO49: =$C49*S49 -> 2500 | AP49: =$C49*T49 -> 1250 | AQ49: =$C49*U49 -> 0 | ... AT49: =$C49*X49 -> 1250
B50: Tenh | C50: 195000 | G50: 1 | I50: =SUM(D50:H50) -> 1 | J50: 0.78 | L50: 0.03 | O50: 0.02 | Q50: 0.02 | R50: 0.02 | S50: 0.09 | T50: 0.01 | U50: 0.01 | X50: 0.02 | Z50: =SUM(J50:X50) -> 1 | AB50: =$C50*J50 -> 152100 | AC50: =D50*$J50*$C50 -> 0 | AD50: =E50*$J50*$C50 -> 0 | AE50: =F50*$J50*$C50 -> 0 | AF50: =G50*$J50*$C50 -> 152100 | AG50: =H50*$J50*$C50 -> 0 | AH50: =$C50*K50 -> 0 | AI50: =$C50*L50 -> 5850 | AJ50: =$C50*N50 -> 0 | AK50: =$C50*O50 -> 3900 | AL50: =$C50*P50 -> 0 | AM50: =$C50*Q50 -> 3900 | AN50: =$C50*R50 -> 3900 | AO50: =$C50*S50 -> 17550 | AP50: =$C50*T50 -> 1950 | AQ50: =$C50*U50 -> 1950 | ... AT50: =$C50*X50 -> 3900
B51: Tiger nomads | C51: 104000 | F51: 1 | I51: =SUM(D51:H51) -> 1 | J51: 0.96 | O51: 0.005 | Q51: 0.005 | S51: 0.02 | X51: 0.01 | Z51: =SUM(J51:X51) -> 1 | AB51: =$C51*J51 -> 99840 | AC51: =D51*$J51*$C51 -> 0 | AD51: =E51*$J51*$C51 -> 0 | AE51: =F51*$J51*$C51 -> 99840 | AF51: =G51*$J51*$C51 -> 0 | AG51: =H51*$J51*$C51 -> 0 | AH51: =$C51*K51 -> 0 | AI51: =$C51*L51 -> 0 | AJ51: =$C51*N51 -> 0 | AK51: =$C51*O51 -> 520 | AL51: =$C51*P51 -> 0 | AM51: =$C51*Q51 -> 520 | AN51: =$C51*R51 -> 0 | AO51: =$C51*S51 -> 2080 | AP51: =$C51*T51 -> 0 | AQ51: =$C51*U51 -> 0 | ... AT51: =$C51*X51 -> 1040
B52: Tusmit | C52: 273000 | E52: 0.15 | F52: 0.85 | I52: =SUM(D52:H52) -> 1 | J52: 0.79 | K52: 0.08 | O52: 0.015 | Q52: 0.015 | R52: 0.02 | S52: 0.06 | T52: 0.01 | U52: 0.01 | Z52: =SUM(J52:X52) -> 1 | AB52: =$C52*J52 -> 215670 | AC52: =D52*$J52*$C52 -> 0 | AD52: =E52*$J52*$C52 -> 32350.5 | AE52: =F52*$J52*$C52 -> 183319.5 | AF52: =G52*$J52*$C52 -> 0 | AG52: =H52*$J52*$C52 -> 0 | AH52: =$C52*K52 -> 21840 | AI52: =$C52*L52 -> 0 | AJ52: =$C52*N52 -> 0 | AK52: =$C52*O52 -> 4095 | AL52: =$C52*P52 -> 0 | AM52: =$C52*Q52 -> 4095 | AN52: =$C52*R52 -> 5460 | AO52: =$C52*S52 -> 16380 | AP52: =$C52*T52 -> 2730 | AQ52: =$C52*U52 -> 2730 | ... AT52: =$C52*X52 -> 0
B53: Ulek county | C53: 370000 | D53: 0.25 | E53: 0.4 | G53: 0.35 | I53: =SUM(D53:H53) -> 1 | J53: 0.79 | L53: 0.02 | O53: 0.015 | Q53: 0.015 | R53: 0.08 | S53: 0.06 | T53: 0.01 | U53: 0.01 | Z53: =SUM(J53:X53) -> 1 | AB53: =$C53*J53 -> 292300 | AC53: =D53*$J53*$C53 -> 73075 | AD53: =E53*$J53*$C53 -> 116920 | AE53: =F53*$J53*$C53 -> 0 | AF53: =G53*$J53*$C53 -> 102305 | AG53: =H53*$J53*$C53 -> 0 | AH53: =$C53*K53 -> 0 | AI53: =$C53*L53 -> 7400 | AJ53: =$C53*N53 -> 0 | AK53: =$C53*O53 -> 5550 | AL53: =$C53*P53 -> 0 | AM53: =$C53*Q53 -> 5550 | AN53: =$C53*R53 -> 29600 | AO53: =$C53*S53 -> 22200 | AP53: =$C53*T53 -> 3700 | AQ53: =$C53*U53 -> 3700 | ... AT53: =$C53*X53 -> 0
B54: Ulek duchy | C54: 392200 | D54: 0.8 | E54: 0.08 | G54: 0.12 | I54: =SUM(D54:H54) -> 1 | J54: 0.43 | O54: =0.19*0.75 -> 0.1425 | Q54: =0.19*0.25 -> 0.0475 | R54: 0.03 | S54: 0.02 | T54: 0.32 | X54: 0.01 | Z54: =SUM(J54:X54) -> 1 | AB54: =$C54*J54 -> 168646 | AC54: =D54*$J54*$C54 -> 134916.8 | AD54: =E54*$J54*$C54 -> 13491.68 | AE54: =F54*$J54*$C54 -> 0 | AF54: =G54*$J54*$C54 -> 20237.52 | AG54: =H54*$J54*$C54 -> 0 | AH54: =$C54*K54 -> 0 | AI54: =$C54*L54 -> 0 | AJ54: =$C54*N54 -> 0 | AK54: =$C54*O54 -> 55888.5 | AL54: =$C54*P54 -> 0 | AM54: =$C54*Q54 -> 18629.5 | AN54: =$C54*R54 -> 11766 | AO54: =$C54*S54 -> 7844 | AP54: =$C54*T54 -> 125504 | AQ54: =$C54*U54 -> 0 | ... AT54: =$C54*X54 -> 3922
B55: Ulek principality | C55: 538400 | D55: 0.6 | E55: 0.4 | I55: =SUM(D55:H55) -> 1 | J55: 0.53 | K55: =0.3*0.35 -> 0.105 | L55: =0.3*0.65 -> 0.195 | O55: 0.015 | Q55: 0.015 | R55: 0.02 | S55: 0.1 | T55: 0.01 | X55: 0.01 | Z55: =SUM(J55:X55) -> 1 | AB55: =$C55*J55 -> 285352 | AC55: =D55*$J55*$C55 -> 171211.2 | AD55: =E55*$J55*$C55 -> 114140.8 | AE55: =F55*$J55*$C55 -> 0 | AF55: =G55*$J55*$C55 -> 0 | AG55: =H55*$J55*$C55 -> 0 | AH55: =$C55*K55 -> 56532 | AI55: =$C55*L55 -> 104988 | AJ55: =$C55*N55 -> 0 | AK55: =$C55*O55 -> 8076 | AL55: =$C55*P55 -> 0 | AM55: =$C55*Q55 -> 8076 | AN55: =$C55*R55 -> 10768 | AO55: =$C55*S55 -> 53840 | AP55: =$C55*T55 -> 5384 | AQ55: =$C55*U55 -> 0 | ... AT55: =$C55*X55 -> 5384
B56: Ull | C56: 277400 | F56: 1 | I56: =SUM(D56:H56) -> 1 | J56: 0.94 | S56: 0.02 | U56: 0.01 | V56: 0.02 | X56: 0.01 | Z56: =SUM(J56:X56) -> 1 | AB56: =$C56*J56 -> 260756 | AC56: =D56*$J56*$C56 -> 0 | AD56: =E56*$J56*$C56 -> 0 | AE56: =F56*$J56*$C56 -> 260756 | AF56: =G56*$J56*$C56 -> 0 | AG56: =H56*$J56*$C56 -> 0 | AH56: =$C56*K56 -> 0 | AI56: =$C56*L56 -> 0 | AJ56: =$C56*N56 -> 0 | AK56: =$C56*O56 -> 0 | AL56: =$C56*P56 -> 0 | AM56: =$C56*Q56 -> 0 | AN56: =$C56*R56 -> 0 | AO56: =$C56*S56 -> 5548 | AP56: =$C56*T56 -> 0 | AQ56: =$C56*U56 -> 2774 | ... AT56: =$C56*X56 -> 2774
B57: Urnst county | C57: 682200 | D57: 0.5 | E57: 0.4 | H57: 0.1 | I57: =SUM(D57:H57) -> 1 | J57: 0.79 | L57: 0.03 | O57: 0.025 | Q57: 0.025 | R57: 0.02 | S57: 0.09 | T57: 0.01 | U57: 0.01 | Z57: =SUM(J57:X57) -> 1 | AB57: =$C57*J57 -> 538938 | AC57: =D57*$J57*$C57 -> 269469 | AD57: =E57*$J57*$C57 -> 215575.2 | AE57: =F57*$J57*$C57 -> 0 | AF57: =G57*$J57*$C57 -> 0 | AG57: =H57*$J57*$C57 -> 53893.8 | AH57: =$C57*K57 -> 0 | AI57: =$C57*L57 -> 20466 | AJ57: =$C57*N57 -> 0 | AK57: =$C57*O57 -> 17055 | AL57: =$C57*P57 -> 0 | AM57: =$C57*Q57 -> 17055 | AN57: =$C57*R57 -> 13644 | AO57: =$C57*S57 -> 61398 | AP57: =$C57*T57 -> 6822 | AQ57: =$C57*U57 -> 6822 | ... AT57: =$C57*X57 -> 0
B58: Urnst duchy | C58: 751850 | D58: 1 | I58: =SUM(D58:H58) -> 1 | J58: 0.79 | L58: 0.03 | Q58: 0.05 | R58: 0.02 | S58: 0.09 | T58: 0.01 | U58: 0.01 | Z58: =SUM(J58:X58) -> 1 | AB58: =$C58*J58 -> 593961.5 | AC58: =D58*$J58*$C58 -> 593961.5 | AD58: =E58*$J58*$C58 -> 0 | AE58: =F58*$J58*$C58 -> 0 | AF58: =G58*$J58*$C58 -> 0 | AG58: =H58*$J58*$C58 -> 0 | AH58: =$C58*K58 -> 0 | AI58: =$C58*L58 -> 22555.5 | AJ58: =$C58*N58 -> 0 | AK58: =$C58*O58 -> 0 | AL58: =$C58*P58 -> 0 | AM58: =$C58*Q58 -> 37592.5 | AN58: =$C58*R58 -> 15037 | AO58: =$C58*S58 -> 67666.5 | AP58: =$C58*T58 -> 7518.5 | AQ58: =$C58*U58 -> 7518.5 | ... AT58: =$C58*X58 -> 0
B59: Valley of the mage | C59: 10000 | E59: 0.5 | F59: 0.4 | G59: 0.1 | I59: =SUM(D59:H59) -> 1 | J59: 0.37 | N59: 0.25 | R59: 0.18 | S59: 0.1 | T59: 0.05 | X59: 0.05 | Z59: =SUM(J59:X59) -> 1 | AB59: =$C59*J59 -> 3700 | AC59: =D59*$J59*$C59 -> 0 | AD59: =E59*$J59*$C59 -> 1850 | AE59: =F59*$J59*$C59 -> 1480 | AF59: =G59*$J59*$C59 -> 370 | AG59: =H59*$J59*$C59 -> 0 | AH59: =$C59*K59 -> 0 | AI59: =$C59*L59 -> 0 | AJ59: =$C59*N59 -> 2500 | AK59: =$C59*O59 -> 0 | AL59: =$C59*P59 -> 0 | AM59: =$C59*Q59 -> 0 | AN59: =$C59*R59 -> 1800 | AO59: =$C59*S59 -> 1000 | AP59: =$C59*T59 -> 500 | AQ59: =$C59*U59 -> 0 | ... AT59: =$C59*X59 -> 500
B60: Veluna | C60: 668800 | D60: 0.12 | E60: 0.8 | G60: 0.08 | I60: =SUM(D60:H60) -> 1 | J60: 0.79 | L60: 0.02 | O60: 0.09 | R60: 0.05 | S60: 0.03 | T60: 0.01 | U60: 0.01 | Z60: =SUM(J60:X60) -> 1 | AB60: =$C60*J60 -> 528352 | AC60: =D60*$J60*$C60 -> 63402.24 | AD60: =E60*$J60*$C60 -> 422681.6 | AE60: =F60*$J60*$C60 -> 0 | AF60: =G60*$J60*$C60 -> 42268.16 | AG60: =H60*$J60*$C60 -> 0 | AH60: =$C60*K60 -> 0 | AI60: =$C60*L60 -> 13376 | AJ60: =$C60*N60 -> 0 | AK60: =$C60*O60 -> 60192 | AL60: =$C60*P60 -> 0 | AM60: =$C60*Q60 -> 0 | AN60: =$C60*R60 -> 33440 | AO60: =$C60*S60 -> 20064 | AP60: =$C60*T60 -> 6688 | AQ60: =$C60*U60 -> 6688 | ... AT60: =$C60*X60 -> 0
B61: Verbobonc | C61: 177800 | D61: 0.06 | E61: 0.8 | G61: 0.1 | H61: 0.04 | I61: =SUM(D61:H61) -> 1 | J61: 0.79 | L61: 0.02 | Q61: 0.09 | R61: 0.05 | S61: 0.03 | T61: 0.01 | U61: 0.01 | Z61: =SUM(J61:X61) -> 1 | AB61: =$C61*J61 -> 140462 | AC61: =D61*$J61*$C61 -> 8427.72 | AD61: =E61*$J61*$C61 -> 112369.6 | AE61: =F61*$J61*$C61 -> 0 | AF61: =G61*$J61*$C61 -> 14046.2 | AG61: =H61*$J61*$C61 -> 5618.48 | AH61: =$C61*K61 -> 0 | AI61: =$C61*L61 -> 3556 | AJ61: =$C61*N61 -> 0 | AK61: =$C61*O61 -> 0 | AL61: =$C61*P61 -> 0 | AM61: =$C61*Q61 -> 16002 | AN61: =$C61*R61 -> 8890 | AO61: =$C61*S61 -> 5334 | AP61: =$C61*T61 -> 1778 | AQ61: =$C61*U61 -> 1778 | ... AT61: =$C61*X61 -> 0
B62: Wolf nomads | C62: 120000 | E62: 0.85 | G62: 0.15 | I62: =SUM(D62:H62) -> 1 | J62: 0.96 | O62: 0.005 | Q62: 0.005 | S62: 0.02 | X62: 0.01 | Z62: =SUM(J62:X62) -> 1 | AB62: =$C62*J62 -> 115200 | AC62: =D62*$J62*$C62 -> 0 | AD62: =E62*$J62*$C62 -> 97920 | AE62: =F62*$J62*$C62 -> 0 | AF62: =G62*$J62*$C62 -> 17280 | AG62: =H62*$J62*$C62 -> 0 | AH62: =$C62*K62 -> 0 | AI62: =$C62*L62 -> 0 | AJ62: =$C62*N62 -> 0 | AK62: =$C62*O62 -> 600 | AL62: =$C62*P62 -> 0 | AM62: =$C62*Q62 -> 600 | AN62: =$C62*R62 -> 0 | AO62: =$C62*S62 -> 2400 | AP62: =$C62*T62 -> 0 | AQ62: =$C62*U62 -> 0 | ... AT62: =$C62*X62 -> 1200
B63: Yeomanry | C63: 305900 | D63: 0.5 | E63: 0.4 | G63: 0.1 | I63: =SUM(D63:H63) -> 1 | J63: 0.79 | L63: 0.03 | O63: 0.05 | R63: 0.02 | S63: 0.09 | T63: 0.01 | U63: 0.01 | Z63: =SUM(J63:X63) -> 1 | AB63: =$C63*J63 -> 241661 | AC63: =D63*$J63*$C63 -> 120830.5 | AD63: =E63*$J63*$C63 -> 96664.4 | AE63: =F63*$J63*$C63 -> 0 | AF63: =G63*$J63*$C63 -> 24166.1 | AG63: =H63*$J63*$C63 -> 0 | AH63: =$C63*K63 -> 0 | AI63: =$C63*L63 -> 9177 | AJ63: =$C63*N63 -> 0 | AK63: =$C63*O63 -> 15295 | AL63: =$C63*P63 -> 0 | AM63: =$C63*Q63 -> 0 | AN63: =$C63*R63 -> 6118 | AO63: =$C63*S63 -> 27531 | AP63: =$C63*T63 -> 3059 | AQ63: =$C63*U63 -> 3059 | ... AT63: =$C63*X63 -> 0
B64: Zeif | C64: 1628300 | F64: 1 | I64: =SUM(D64:H64) -> 1 | J64: 0.88 | S64: 0.01 | V64: 0.1 | X64: 0.01 | Z64: =SUM(J64:X64) -> 1 | AB64: =$C64*J64 -> 1432904 | AC64: =D64*$J64*$C64 -> 0 | AD64: =E64*$J64*$C64 -> 0 | AE64: =F64*$J64*$C64 -> 1432904 | AF64: =G64*$J64*$C64 -> 0 | AG64: =H64*$J64*$C64 -> 0 | AH64: =$C64*K64 -> 0 | AI64: =$C64*L64 -> 0 | AJ64: =$C64*N64 -> 0 | AK64: =$C64*O64 -> 0 | AL64: =$C64*P64 -> 0 | AM64: =$C64*Q64 -> 0 | AN64: =$C64*R64 -> 0 | AO64: =$C64*S64 -> 16283 | AP64: =$C64*T64 -> 0 | AQ64: =$C64*U64 -> 0 | ... AT64: =$C64*X64 -> 16283
Z65: =SUM(J65:X65) -> 0 | AB65: =$C65*J65 -> 0 | AH65: =$C65*K65 -> 0 | AI65: =$C65*L65 -> 0 | AJ65: =$C65*N65 -> 0 | AK65: =$C65*O65 -> 0 | AL65: =$C65*P65 -> 0 | AM65: =$C65*Q65 -> 0 | AN65: =$C65*R65 -> 0 | AO65: =$C65*S65 -> 0 | AP65: =$C65*T65 -> 0 | AQ65: =$C65*U65 -> 0 | ... AT65: =$C65*X65 -> 0
Z66: =SUM(J66:X66) -> 0 | AB66: =$C66*J66 -> 0 | AH66: =$C66*K66 -> 0 | AI66: =$C66*L66 -> 0 | AJ66: =$C66*N66 -> 0 | AK66: =$C66*O66 -> 0 | AL66: =$C66*P66 -> 0 | AM66: =$C66*Q66 -> 0 | AN66: =$C66*R66 -> 0 | AO66: =$C66*S66 -> 0 | AP66: =$C66*T66 -> 0 | AQ66: =$C66*U66 -> 0 | ... AT66: =$C66*X66 -> 0
Z67: =SUM(J67:X67) -> 0 | AB67: =$C67*J67 -> 0 | AH67: =$C67*K67 -> 0 | AI67: =$C67*L67 -> 0 | AJ67: =$C67*N67 -> 0 | AK67: =$C67*O67 -> 0 | AL67: =$C67*P67 -> 0 | AM67: =$C67*Q67 -> 0 | AN67: =$C67*R67 -> 0 | AO67: =$C67*S67 -> 0 | AP67: =$C67*T67 -> 0 | AQ67: =$C67*U67 -> 0 | ... AT67: =$C67*X67 -> 0
A68: Guess | B68: Gnarley forest | C68: 30000 | J68: 0.4 | O68: 0.1 | Q68: 0.35 | R68: 0.1 | T68: 0.05 | Z68: =SUM(J68:X68) -> 1 | AB68: =$C68*J68 -> 12000 | AH68: =$C68*K68 -> 0 | AI68: =$C68*L68 -> 0 | AJ68: =$C68*N68 -> 0 | AK68: =$C68*O68 -> 3000 | AL68: =$C68*P68 -> 0 | AM68: =$C68*Q68 -> 10500 | AN68: =$C68*R68 -> 3000 | AO68: =$C68*S68 -> 0 | AP68: =$C68*T68 -> 1500 | AQ68: =$C68*U68 -> 0 | ... AT68: =$C68*X68 -> 0
A69: Guess | B69: Vesve | C69: 150000 | J69: 0.4 | O69: 0.06 | Q69: 0.2 | R69: 0.12 | S69: 0.04 | W69: 0.1 | X69: 0.08 | Z69: =SUM(J69:X69) -> 1 | AB69: =$C69*J69 -> 60000 | AH69: =$C69*K69 -> 0 | AI69: =$C69*L69 -> 0 | AJ69: =$C69*N69 -> 0 | AK69: =$C69*O69 -> 9000 | AL69: =$C69*P69 -> 0 | AM69: =$C69*Q69 -> 30000 | AN69: =$C69*R69 -> 18000 | AO69: =$C69*S69 -> 6000 | AP69: =$C69*T69 -> 0 | AQ69: =$C69*U69 -> 0 | ... AT69: =$C69*X69 -> 12000
A70: Guess | B70: Dreadwood | C70: 35000 | J70: 0.15 | Q70: 0.25 | R70: 0.03 | S70: 0.01 | W70: 0.56 | Z70: =SUM(J70:X70) -> 1 | AB70: =$C70*J70 -> 5250 | AH70: =$C70*K70 -> 0 | AI70: =$C70*L70 -> 0 | AJ70: =$C70*N70 -> 0 | AK70: =$C70*O70 -> 0 | AL70: =$C70*P70 -> 0 | AM70: =$C70*Q70 -> 8750 | AN70: =$C70*R70 -> 1050 | AO70: =$C70*S70 -> 350 | AP70: =$C70*T70 -> 0 | AQ70: =$C70*U70 -> 0 | ... AT70: =$C70*X70 -> 0
A71: Guess | B71: Gambodge | C71: 30000 | J71: 0.25 | O71: 0.05 | Q71: 0.4 | R71: 0.1 | S71: 0.05 | W71: 0.15 | Z71: =SUM(J71:X71) -> 1 | AB71: =$C71*J71 -> 7500 | AH71: =$C71*K71 -> 0 | AI71: =$C71*L71 -> 0 | AJ71: =$C71*N71 -> 0 | AK71: =$C71*O71 -> 1500 | AL71: =$C71*P71 -> 0 | AM71: =$C71*Q71 -> 12000 | AN71: =$C71*R71 -> 3000 | AO71: =$C71*S71 -> 1500 | AP71: =$C71*T71 -> 0 | AQ71: =$C71*U71 -> 0 | ... AT71: =$C71*X71 -> 0
A72: Guess | B72: Miscellaneous forests (humans & demi) | C72: 100000 | J72: 0.2 | O72: 0.2 | Q72: 0.4 | R72: 0.1 | S72: 0.1 | Z72: =SUM(J72:X72) -> 1 | AB72: =$C72*J72 -> 20000 | AH72: =$C72*K72 -> 0 | AI72: =$C72*L72 -> 0 | AJ72: =$C72*N72 -> 0 | AK72: =$C72*O72 -> 20000 | AL72: =$C72*P72 -> 0 | AM72: =$C72*Q72 -> 40000 | AN72: =$C72*R72 -> 10000 | AO72: =$C72*S72 -> 10000 | AP72: =$C72*T72 -> 0 | AQ72: =$C72*U72 -> 0 | ... AT72: =$C72*X72 -> 0
A73: Guess | B73: Banner hills | C73: 5000 | J73: 0.15 | L73: 0.25 | R73: 0.35 | S73: 0.25 | Z73: =SUM(J73:X73) -> 1 | AB73: =$C73*J73 -> 750 | AH73: =$C73*K73 -> 0 | AI73: =$C73*L73 -> 1250 | AJ73: =$C73*N73 -> 0 | AK73: =$C73*O73 -> 0 | AL73: =$C73*P73 -> 0 | AM73: =$C73*Q73 -> 0 | AN73: =$C73*R73 -> 1750 | AO73: =$C73*S73 -> 1250 | AP73: =$C73*T73 -> 0 | AQ73: =$C73*U73 -> 0 | ... AT73: =$C73*X73 -> 0
A74: Guess | B74: Cairn hills | C74: 10000 | J74: 0.15 | L74: 0.25 | R74: 0.35 | S74: 0.25 | Z74: =SUM(J74:X74) -> 1 | AB74: =$C74*J74 -> 1500 | AH74: =$C74*K74 -> 0 | AI74: =$C74*L74 -> 2500 | AJ74: =$C74*N74 -> 0 | AK74: =$C74*O74 -> 0 | AL74: =$C74*P74 -> 0 | AM74: =$C74*Q74 -> 0 | AN74: =$C74*R74 -> 3500 | AO74: =$C74*S74 -> 2500 | AP74: =$C74*T74 -> 0 | AQ74: =$C74*U74 -> 0 | ... AT74: =$C74*X74 -> 0
A75: Guess | B75: Flinty hills | C75: 30000 | J75: 0.15 | L75: 0.1 | R75: 0.65 | S75: 0.1 | Z75: =SUM(J75:X75) -> 1 | AB75: =$C75*J75 -> 4500 | AH75: =$C75*K75 -> 0 | AI75: =$C75*L75 -> 3000 | AJ75: =$C75*N75 -> 0 | AK75: =$C75*O75 -> 0 | AL75: =$C75*P75 -> 0 | AM75: =$C75*Q75 -> 0 | AN75: =$C75*R75 -> 19500 | AO75: =$C75*S75 -> 3000 | AP75: =$C75*T75 -> 0 | AQ75: =$C75*U75 -> 0 | ... AT75: =$C75*X75 -> 0
A76: Guess | B76: Good hills | C76: 10000 | J76: 0.2 | R76: 0.4 | S76: 0.4 | Z76: =SUM(J76:X76) -> 1 | AB76: =$C76*J76 -> 2000 | AH76: =$C76*K76 -> 0 | AI76: =$C76*L76 -> 0 | AJ76: =$C76*N76 -> 0 | AK76: =$C76*O76 -> 0 | AL76: =$C76*P76 -> 0 | AM76: =$C76*Q76 -> 0 | AN76: =$C76*R76 -> 4000 | AO76: =$C76*S76 -> 4000 | AP76: =$C76*T76 -> 0 | AQ76: =$C76*U76 -> 0 | ... AT76: =$C76*X76 -> 0
A77: Guess | B77: Headlands | C77: 10000 | J77: 0.2 | R77: 0.4 | S77: 0.4 | Z77: =SUM(J77:X77) -> 1 | AB77: =$C77*J77 -> 2000 | AH77: =$C77*K77 -> 0 | AI77: =$C77*L77 -> 0 | AJ77: =$C77*N77 -> 0 | AK77: =$C77*O77 -> 0 | AL77: =$C77*P77 -> 0 | AM77: =$C77*Q77 -> 0 | AN77: =$C77*R77 -> 4000 | AO77: =$C77*S77 -> 4000 | AP77: =$C77*T77 -> 0 | AQ77: =$C77*U77 -> 0 | ... AT77: =$C77*X77 -> 0
A78: Guess | B78: Hestmark highlands | C78: 10000 | J78: 0.2 | L78: 0.35 | R78: 0.35 | S78: 0.1 | Z78: =SUM(J78:X78) -> 1 | AB78: =$C78*J78 -> 2000 | AH78: =$C78*K78 -> 0 | AI78: =$C78*L78 -> 3500 | AJ78: =$C78*N78 -> 0 | AK78: =$C78*O78 -> 0 | AL78: =$C78*P78 -> 0 | AM78: =$C78*Q78 -> 0 | AN78: =$C78*R78 -> 3500 | AO78: =$C78*S78 -> 1000 | AP78: =$C78*T78 -> 0 | AQ78: =$C78*U78 -> 0 | ... AT78: =$C78*X78 -> 0
A79: Guess | B79: Hollow highlands | C79: 10000 | J79: 0.2 | L79: 0.35 | R79: 0.35 | S79: 0.1 | Z79: =SUM(J79:X79) -> 1 | AB79: =$C79*J79 -> 2000 | AH79: =$C79*K79 -> 0 | AI79: =$C79*L79 -> 3500 | AJ79: =$C79*N79 -> 0 | AK79: =$C79*O79 -> 0 | AL79: =$C79*P79 -> 0 | AM79: =$C79*Q79 -> 0 | AN79: =$C79*R79 -> 3500 | AO79: =$C79*S79 -> 1000 | AP79: =$C79*T79 -> 0 | AQ79: =$C79*U79 -> 0 | ... AT79: =$C79*X79 -> 0
A80: Guess | B80: Iron hills | C80: 20000 | J80: 0.2 | L80: 0.4 | R80: 0.4 | Z80: =SUM(J80:X80) -> 1 | AB80: =$C80*J80 -> 4000 | AH80: =$C80*K80 -> 0 | AI80: =$C80*L80 -> 8000 | AJ80: =$C80*N80 -> 0 | AK80: =$C80*O80 -> 0 | AL80: =$C80*P80 -> 0 | AM80: =$C80*Q80 -> 0 | AN80: =$C80*R80 -> 8000 | AO80: =$C80*S80 -> 0 | AP80: =$C80*T80 -> 0 | AQ80: =$C80*U80 -> 0 | ... AT80: =$C80*X80 -> 0
A81: Guess | B81: Kron hills | C81: 30000 | J81: 0.15 | L81: 0.15 | R81: 0.7 | Z81: =SUM(J81:X81) -> 1 | AB81: =$C81*J81 -> 4500 | AH81: =$C81*K81 -> 0 | AI81: =$C81*L81 -> 4500 | AJ81: =$C81*N81 -> 0 | AK81: =$C81*O81 -> 0 | AL81: =$C81*P81 -> 0 | AM81: =$C81*Q81 -> 0 | AN81: =$C81*R81 -> 21000 | AO81: =$C81*S81 -> 0 | AP81: =$C81*T81 -> 0 | AQ81: =$C81*U81 -> 0 | ... AT81: =$C81*X81 -> 0
A82: Guess | B82: Lorridges | C82: 10000 | J82: 0.2 | L82: 0.4 | R82: 0.4 | Z82: =SUM(J82:X82) -> 1 | AB82: =$C82*J82 -> 2000 | AH82: =$C82*K82 -> 0 | AI82: =$C82*L82 -> 4000 | AJ82: =$C82*N82 -> 0 | AK82: =$C82*O82 -> 0 | AL82: =$C82*P82 -> 0 | AM82: =$C82*Q82 -> 0 | AN82: =$C82*R82 -> 4000 | AO82: =$C82*S82 -> 0 | AP82: =$C82*T82 -> 0 | AQ82: =$C82*U82 -> 0 | ... AT82: =$C82*X82 -> 0
A83: Guess | B83: Miscellaneous hills (humans & demi) | C83: 20000 | J83: 0.15 | L83: 0.45 | R83: 0.35 | S83: 0.05 | Z83: =SUM(J83:X83) -> 1 | AB83: =$C83*J83 -> 3000 | AH83: =$C83*K83 -> 0 | AI83: =$C83*L83 -> 9000 | AJ83: =$C83*N83 -> 0 | AK83: =$C83*O83 -> 0 | AL83: =$C83*P83 -> 0 | AM83: =$C83*Q83 -> 0 | AN83: =$C83*R83 -> 7000 | AO83: =$C83*S83 -> 1000 | AP83: =$C83*T83 -> 0 | AQ83: =$C83*U83 -> 0 | ... AT83: =$C83*X83 -> 0
A84: Guess | B84: Barrier peaks | C84: 20000 | J84: 0.1 | K84: 0.85 | P84: 0.05 | Z84: =SUM(J84:X84) -> 1 | AB84: =$C84*J84 -> 2000 | AH84: =$C84*K84 -> 17000 | AI84: =$C84*L84 -> 0 | AJ84: =$C84*N84 -> 0 | AK84: =$C84*O84 -> 0 | AL84: =$C84*P84 -> 1000 | AM84: =$C84*Q84 -> 0 | AN84: =$C84*R84 -> 0 | AO84: =$C84*S84 -> 0 | AP84: =$C84*T84 -> 0 | AQ84: =$C84*U84 -> 0 | ... AT84: =$C84*X84 -> 0
A85: Guess | B85: Clatspur range | C85: 5000 | J85: 0.1 | K85: 0.85 | P85: 0.05 | Z85: =SUM(J85:X85) -> 1 | AB85: =$C85*J85 -> 500 | AH85: =$C85*K85 -> 4250 | AI85: =$C85*L85 -> 0 | AJ85: =$C85*N85 -> 0 | AK85: =$C85*O85 -> 0 | AL85: =$C85*P85 -> 250 | AM85: =$C85*Q85 -> 0 | AN85: =$C85*R85 -> 0 | AO85: =$C85*S85 -> 0 | AP85: =$C85*T85 -> 0 | AQ85: =$C85*U85 -> 0 | ... AT85: =$C85*X85 -> 0
A86: Guess | B86: Crystalmist mountains | C86: 20000 | J86: 0.1 | K86: 0.85 | P86: 0.05 | Z86: =SUM(J86:X86) -> 1 | AB86: =$C86*J86 -> 2000 | AH86: =$C86*K86 -> 17000 | AI86: =$C86*L86 -> 0 | AJ86: =$C86*N86 -> 0 | AK86: =$C86*O86 -> 0 | AL86: =$C86*P86 -> 1000 | AM86: =$C86*Q86 -> 0 | AN86: =$C86*R86 -> 0 | AO86: =$C86*S86 -> 0 | AP86: =$C86*T86 -> 0 | AQ86: =$C86*U86 -> 0 | ... AT86: =$C86*X86 -> 0
A87: Guess | B87: Glorioles | C87: 27000 | J87: 0.1 | K87: 0.65 | P87: 0.05 | R87: 0.1 | S87: 0.1 | Z87: =SUM(J87:X87) -> 1 | AB87: =$C87*J87 -> 2700 | AH87: =$C87*K87 -> 17550 | AI87: =$C87*L87 -> 0 | AJ87: =$C87*N87 -> 0 | AK87: =$C87*O87 -> 0 | AL87: =$C87*P87 -> 1350 | AM87: =$C87*Q87 -> 0 | AN87: =$C87*R87 -> 2700 | AO87: =$C87*S87 -> 2700 | AP87: =$C87*T87 -> 0 | AQ87: =$C87*U87 -> 0 | ... AT87: =$C87*X87 -> 0
A88: Guess | B88: Griff mountains | C88: 5000 | J88: 0.25 | K88: 0.75 | Z88: =SUM(J88:X88) -> 1 | AB88: =$C88*J88 -> 1250 | AH88: =$C88*K88 -> 3750 | AI88: =$C88*L88 -> 0 | AJ88: =$C88*N88 -> 0 | AK88: =$C88*O88 -> 0 | AL88: =$C88*P88 -> 0 | AM88: =$C88*Q88 -> 0 | AN88: =$C88*R88 -> 0 | AO88: =$C88*S88 -> 0 | AP88: =$C88*T88 -> 0 | AQ88: =$C88*U88 -> 0 | ... AT88: =$C88*X88 -> 0
A89: Guess | B89: Hellfurnaces | C89: 1000 | J89: 0.25 | K89: 0.75 | Z89: =SUM(J89:X89) -> 1 | AB89: =$C89*J89 -> 250 | AH89: =$C89*K89 -> 750 | AI89: =$C89*L89 -> 0 | AJ89: =$C89*N89 -> 0 | AK89: =$C89*O89 -> 0 | AL89: =$C89*P89 -> 0 | AM89: =$C89*Q89 -> 0 | AN89: =$C89*R89 -> 0 | AO89: =$C89*S89 -> 0 | AP89: =$C89*T89 -> 0 | AQ89: =$C89*U89 -> 0 | ... AT89: =$C89*X89 -> 0
A90: Guess | B90: Jotens | C90: 2000 | J90: 0.25 | K90: 0.75 | Z90: =SUM(J90:X90) -> 1 | AB90: =$C90*J90 -> 500 | AH90: =$C90*K90 -> 1500 | AI90: =$C90*L90 -> 0 | AJ90: =$C90*N90 -> 0 | AK90: =$C90*O90 -> 0 | AL90: =$C90*P90 -> 0 | AM90: =$C90*Q90 -> 0 | AN90: =$C90*R90 -> 0 | AO90: =$C90*S90 -> 0 | AP90: =$C90*T90 -> 0 | AQ90: =$C90*U90 -> 0 | ... AT90: =$C90*X90 -> 0
A91: Guess | B91: Lortmils | C91: 200000 | J91: 0.1 | K91: 0.6 | P91: 0.05 | R91: 0.15 | S91: 0.1 | Z91: =SUM(J91:X91) -> 1 | AB91: =$C91*J91 -> 20000 | AH91: =$C91*K91 -> 120000 | AI91: =$C91*L91 -> 0 | AJ91: =$C91*N91 -> 0 | AK91: =$C91*O91 -> 0 | AL91: =$C91*P91 -> 10000 | AM91: =$C91*Q91 -> 0 | AN91: =$C91*R91 -> 30000 | AO91: =$C91*S91 -> 20000 | AP91: =$C91*T91 -> 0 | AQ91: =$C91*U91 -> 0 | ... AT91: =$C91*X91 -> 0
A92: Guess | B92: Rakers | C92: 60000 | J92: 0.1 | K92: 0.75 | P92: 0.05 | R92: 0.1 | Z92: =SUM(J92:X92) -> 1 | AB92: =$C92*J92 -> 6000 | AH92: =$C92*K92 -> 45000 | AI92: =$C92*L92 -> 0 | AJ92: =$C92*N92 -> 0 | AK92: =$C92*O92 -> 0 | AL92: =$C92*P92 -> 3000 | AM92: =$C92*Q92 -> 0 | AN92: =$C92*R92 -> 6000 | AO92: =$C92*S92 -> 0 | AP92: =$C92*T92 -> 0 | AQ92: =$C92*U92 -> 0 | ... AT92: =$C92*X92 -> 0
A93: Guess | B93: Sulhaut mountains | C93: 1000 | J93: 0.1 | K93: 0.9 | Z93: =SUM(J93:X93) -> 1 | AB93: =$C93*J93 -> 100 | AH93: =$C93*K93 -> 900 | AI93: =$C93*L93 -> 0 | AJ93: =$C93*N93 -> 0 | AK93: =$C93*O93 -> 0 | AL93: =$C93*P93 -> 0 | AM93: =$C93*Q93 -> 0 | AN93: =$C93*R93 -> 0 | AO93: =$C93*S93 -> 0 | AP93: =$C93*T93 -> 0 | AQ93: =$C93*U93 -> 0 | ... AT93: =$C93*X93 -> 0
A94: Guess | B94: Yatil | C94: 40000 | J94: 0.1 | K94: 0.75 | P94: 0.05 | R94: 0.1 | Z94: =SUM(J94:X94) -> 1 | AB94: =$C94*J94 -> 4000 | AH94: =$C94*K94 -> 30000 | AI94: =$C94*L94 -> 0 | AJ94: =$C94*N94 -> 0 | AK94: =$C94*O94 -> 0 | AL94: =$C94*P94 -> 2000 | AM94: =$C94*Q94 -> 0 | AN94: =$C94*R94 -> 4000 | AO94: =$C94*S94 -> 0 | AP94: =$C94*T94 -> 0 | AQ94: =$C94*U94 -> 0 | ... AT94: =$C94*X94 -> 0
A95: Guess | B95: Miscellaneous mountains (humans & demi) | C95: 20000 | J95: 0.1 | K95: 0.7 | P95: 0.05 | R95: 0.1 | S95: 0.05 | Z95: =SUM(J95:X95) -> 1 | AB95: =$C95*J95 -> 2000 | AH95: =$C95*K95 -> 14000 | AI95: =$C95*L95 -> 0 | AJ95: =$C95*N95 -> 0 | AK95: =$C95*O95 -> 0 | AL95: =$C95*P95 -> 1000 | AM95: =$C95*Q95 -> 0 | AN95: =$C95*R95 -> 2000 | AO95: =$C95*S95 -> 1000 | AP95: =$C95*T95 -> 0 | AQ95: =$C95*U95 -> 0 | ... AT95: =$C95*X95 -> 0
Z96: =SUM(J96:X96) -> 0 | AB96: =$C96*J96 -> 0 | AH96: =$C96*K96 -> 0 | AI96: =$C96*L96 -> 0 | AJ96: =$C96*N96 -> 0 | AK96: =$C96*O96 -> 0 | AL96: =$C96*P96 -> 0 | AM96: =$C96*Q96 -> 0 | AN96: =$C96*R96 -> 0 | AO96: =$C96*S96 -> 0 | AP96: =$C96*T96 -> 0 | AQ96: =$C96*U96 -> 0 | ... AT96: =$C96*X96 -> 0
Z97: =SUM(J97:X97) -> 0 | AB97: =$C97*J97 -> 0 | AH97: =$C97*K97 -> 0 | AI97: =$C97*L97 -> 0 | AJ97: =$C97*N97 -> 0 | AK97: =$C97*O97 -> 0 | AL97: =$C97*P97 -> 0 | AM97: =$C97*Q97 -> 0 | AN97: =$C97*R97 -> 0 | AO97: =$C97*S97 -> 0 | AP97: =$C97*T97 -> 0 | AQ97: =$C97*U97 -> 0 | ... AT97: =$C97*X97 -> 0
Z98: =SUM(J98:X98) -> 0 | AB98: =$C98*J98 -> 0 | AH98: =$C98*K98 -> 0 | AI98: =$C98*L98 -> 0 | AJ98: =$C98*N98 -> 0 | AK98: =$C98*O98 -> 0 | AL98: =$C98*P98 -> 0 | AM98: =$C98*Q98 -> 0 | AN98: =$C98*R98 -> 0 | AO98: =$C98*S98 -> 0 | AP98: =$C98*T98 -> 0 | AQ98: =$C98*U98 -> 0 | ... AT98: =$C98*X98 -> 0
Z99: =SUM(J99:X99) -> 0 | AB99: =$C99*J99 -> 0 | AH99: =$C99*K99 -> 0 | AI99: =$C99*L99 -> 0 | AJ99: =$C99*N99 -> 0 | AK99: =$C99*O99 -> 0 | AL99: =$C99*P99 -> 0 | AM99: =$C99*Q99 -> 0 | AN99: =$C99*R99 -> 0 | AO99: =$C99*S99 -> 0 | AP99: =$C99*T99 -> 0 | AQ99: =$C99*U99 -> 0 | ... AT99: =$C99*X99 -> 0
Z100: =SUM(J100:X100) -> 0 | AB100: =$C100*J100 -> 0 | AH100: =$C100*K100 -> 0 | AI100: =$C100*L100 -> 0 | AJ100: =$C100*N100 -> 0 | AK100: =$C100*O100 -> 0 | AL100: =$C100*P100 -> 0 | AM100: =$C100*Q100 -> 0 | AN100: =$C100*R100 -> 0 | AO100: =$C100*S100 -> 0 | AP100: =$C100*T100 -> 0 | AQ100: =$C100*U100 -> 0 | ... AT100: =$C100*X100 -> 0

Sheet Area
A1: by Richard "Longetalos" Di Ioia
B3: Math distance | C3: cm on tool | D3: Darlene (km) | E3: miles | F3: Ratio (km/cm) | G3: Factor from cm2 to km2
B4: Greyhawk to Hardby | C4: 2.93 | D4: 245 | E4: =D4/1.6 -> 153.125 | F4: =D4/C4 -> 83.617747 | I4: Total area of the Flanaess | K4: =SUM(D11:D72)+SUM(I11:I40)+SUM(N11:N18)+SUM(S11:S45)+SUM(X11:X15)+SUM(AC11:AC13) -> 22816957 | L4: km2
B5: Chendl to Willip | C5: 7.1 | D5: 570 | E5: =D5/1.6 -> 356.25 | F5: =D5/C5 -> 80.28169 | K5: =K4*0.386102 -> 8809672.8 | L5: sq. miles
B6: Gradsul to Highport | C6: 9.68 | D6: 798 | E6: =D6/1.6 -> 498.75 | F6: =D6/C6 -> 82.438017
B7: Average ratio | F7: =AVERAGE(F4:F6) -> 82.112485 | G7: =F7*F7 -> 6742.4601
X8: =X11+X13+X14 -> 902613.14 | Y8: =Y11+Y13+Y14 -> 348500.74
D9: =SUM(D11:D72) -> 11667220 | E9: =SUM(E11:E72) -> 4504737.2 | I9: =SUM(I11:I40) -> 2683971.1 | J9: =SUM(J11:J40) -> 1036286.6 | N9: =SUM(N11:N18) -> 547083.22 | O9: =SUM(O11:O18) -> 211229.92 | S9: =SUM(S11:S45) -> 4359202.8 | T9: =SUM(T11:T45) -> 1683096.9 | X9: =SUM(X11:X15) -> 3212917.1 | Y9: =SUM(Y11:Y15) -> 1240513.7 | AC9: =SUM(AC11:AC13) -> 346562.45 | AD9: =SUM(AD11:AD13) -> 133808.46
B10: Countries | C10: Size (CM2) | D10: Area (km2) | E10: Area (sq.miles) | G10: Woodlands | H10: Size (CM2) | I10: Area (km2) | J10: Area (sq.miles) | L10: Swamps | M10: Size (CM2) | N10: Area (km2) | O10: Area (sq.miles) | Q10: Mountains and hills | R10: Size (CM2) | S10: Area (km2) | T10: Area (sq.miles) | V10: Wastelands | W10: Size (CM2) | X10: Area (km2) | Y10: Area (sq.miles) | AA10: Lakes | AB10: Size (CM2) | AC10: Area (km2) | AD10: Area (sq.miles)
B11: Ahlissa (less Almor, Idee, Medegia) | C11: 123.88 | D11: =C11*$G$7 -> 835255.96 | E11: =D11*0.386102 -> 322494 | G11: Adri forest | H11: 26.06 | I11: =H11*$G$7 -> 175708.51 | J11: =I11*0.386102 -> 67841.408 | L11: Cold marshes | M11: 34.84 | N11: =M11*$G$7 -> 234907.31 | O11: =N11*0.386102 -> 90698.183 | Q11: Abbor-alz | R11: 2.98 | S11: =R11*$G$7 -> 20092.531 | T11: =S11*0.386102 -> 7757.7665 | V11: Barren wastes | W11: 37.79 | X11: =W11*$G$7 -> 254797.57 | Y11: =X11*0.386102 -> 98377.851 | AA11: Lake Quag | AB11: 12.43 | AC11: =AB11*$G$7 -> 83808.78 | AD11: =AC11*0.386102 -> 32358.737
B12: Almor | C12: 24.22 | D12: =C12*$G$7 -> 163302.38 | E12: =D12*0.386102 -> 63051.377 | G12: Amedio jungle | H12: 30.74 | I12: =H12*$G$7 -> 207263.22 | J12: =I12*0.386102 -> 80024.746 | L12: Gnatmarsh | M12: 6.06 | N12: =M12*$G$7 -> 40859.308 | O12: =N12*0.386102 -> 15775.861 | Q12: Barrier peaks | R12: 39.88 | S12: =R12*$G$7 -> 268889.31 | T12: =S12*0.386102 -> 103818.7 | V12: Dry Steppes | W12: 165.52 | X12: =W12*$G$7 -> 1116012 | Y12: =X12*0.386102 -> 430894.47 | AA12: Nyr Dyv | AB12: 26.8 | AC12: =AB12*$G$7 -> 180697.93 | AD12: =AC12*0.386102 -> 69767.833
B13: Bandit kingdoms | C13: =65.59-5.57-1.97 -> 58.05 | D13: =C13*$G$7 -> 391399.81 | E13: =D13*0.386102 -> 151120.25 | G13: Axewood | H13: 1.59 | I13: =H13*$G$7 -> 10720.512 | J13: =I13*0.386102 -> 4139.211 | L13: Hool marshes | M13: 10.81 | N13: =M13*$G$7 -> 72885.994 | O13: =N13*0.386102 -> 28141.428 | Q13: Belmu hills | R13: 4.03 | S13: =R13*$G$7 -> 27172.114 | T13: =S13*0.386102 -> 10491.208 | V13: Land of Black ice | W13: 94.11 | X13: =W13*$G$7 -> 634532.92 | Y13: =X13*0.386102 -> 244994.43 | AA13: Whyestil lake | AB13: 12.17 | AC13: =AB13*$G$7 -> 82055.74 | AD13: =AC13*0.386102 -> 31681.885
B14: Bissel | C14: 14.07 | D14: =C14*$G$7 -> 94866.414 | E14: =D14*0.386102 -> 36628.112 | G14: Bramblewood forest | H14: 12.41 | I14: =H14*$G$7 -> 83673.93 | J14: =I14*0.386102 -> 32306.672 | L14: Lone heath | M14: 4.2 | N14: =M14*$G$7 -> 28318.333 | O14: =N14*0.386102 -> 10933.765 | Q14: Bluff hills | R14: 4.28 | S14: =R14*$G$7 -> 28857.729 | T14: =S14*0.386102 -> 11142.027 | V14: Rift canyon | W14: 1.97 | X14: =W14*$G$7 -> 13282.646 | Y14: =X14*0.386102 -> 5128.4564
B15: Blackmoor | C15: 24.51 | D15: =C15*$G$7 -> 165257.7 | E15: =D15*0.386102 -> 63806.328 | G15: Burneal forest | H15: 47.09 | I15: =H15*$G$7 -> 317502.45 | J15: =I15*0.386102 -> 122588.33 | L15: Mistmarsh | M15: 3.01 | N15: =M15*$G$7 -> 20294.805 | O15: =N15*0.386102 -> 7835.8648 | Q15: Cairn hills | R15: 6.06 | S15: =R15*$G$7 -> 40859.308 | T15: =S15*0.386102 -> 15775.861 | V15: Sea of Dust | W15: 177.13 | X15: =W15*$G$7 -> 1194292 | Y15: =X15*0.386102 -> 461118.52
B16: Bone march | C16: 20.69 | D16: =C16*$G$7 -> 139501.5 | E16: =D16*0.386102 -> 53861.808 | G16: Celadon forest | H16: 17.55 | I16: =H16*$G$7 -> 118330.18 | J16: =I16*0.386102 -> 45687.517 | L16: Rushmoor | M16: 5.17 | N16: =M16*$G$7 -> 34858.519 | O16: =N16*0.386102 -> 13458.944 | Q16: Clatspur range | R16: 5.76 | S16: =R16*$G$7 -> 38836.57 | T16: =S16*0.386102 -> 14994.878
B17: Bright desert | C17: 30.83 | D17: =C17*$G$7 -> 207870.05 | E17: =D17*0.386102 -> 80259.041 | G17: Dim Forest | H17: 12.43 | I17: =H17*$G$7 -> 83808.78 | J17: =I17*0.386102 -> 32358.737 | L17: Troll fens | M17: 5.07 | N17: =M17*$G$7 -> 34184.273 | O17: =N17*0.386102 -> 13198.616 | Q17: Corusk mountains | R17: 87.38 | S17: =R17*$G$7 -> 589156.17 | T17: =S17*0.386102 -> 227474.37
B18: Celene | C18: 8.77 | D18: =C18*$G$7 -> 59131.375 | E18: =D18*0.386102 -> 22830.742 | G18: Dreadwood | H18: 8.94 | I18: =H18*$G$7 -> 60277.594 | J18: =I18*0.386102 -> 23273.299 | L18: Vast swamp | M18: 11.98 | N18: =M18*$G$7 -> 80774.673 | O18: =N18*0.386102 -> 31187.263 | Q18: Crystalmist mountains | R18: 65.01 | S18: =R18*$G$7 -> 438327.33 | T18: =S18*0.386102 -> 169239.06
B19: Dullstrand, lands of | C19: 3.11 | D19: =C19*$G$7 -> 20969.051 | E19: =D19*0.386102 -> 8096.1925 | G19: Fellreev forest | H19: 32.58 | I19: =H19*$G$7 -> 219669.35 | J19: =I19*0.386102 -> 84814.776 | Q19: Flinty hills | R19: 12.46 | S19: =R19*$G$7 -> 84011.053 | T19: =S19*0.386102 -> 32436.836
B20: Dyvers, lands of | C20: 1.88 | D20: =C20*$G$7 -> 12675.825 | E20: =D20*0.386102 -> 4894.1614 | G20: Forlorn forest | H20: 10.77 | I20: =H20*$G$7 -> 72616.296 | J20: =I20*0.386102 -> 28037.297 | Q20: Glorioles | R20: 5.13 | S20: =R20*$G$7 -> 34588.821 | T20: =S20*0.386102 -> 13354.813
B21: Ekbir | C21: 24.03 | D21: =C21*$G$7 -> 162021.32 | E21: =D21*0.386102 -> 62556.755 | G21: Gambodge forest | H21: 14.99 | I21: =H21*$G$7 -> 101069.48 | J21: =I21*0.386102 -> 39023.127 | Q21: Good hills | R21: 8.9 | S21: =R21*$G$7 -> 60007.895 | T21: =S21*0.386102 -> 23169.168
B22: Frost barbarians | C22: 25.98 | D22: =C22*$G$7 -> 175169.11 | E22: =D22*0.386102 -> 67633.145 | G22: Gnarley forest | H22: 7.94 | I22: =H22*$G$7 -> 53535.134 | J22: =I22*0.386102 -> 20670.022 | Q22: Griff mountains | R22: 34.92 | S22: =R22*$G$7 -> 235446.71 | T22: =S22*0.386102 -> 90906.445
B23: Furyondy | C23: 78.1 | D23: =C23*$G$7 -> 526586.14 | E23: =D23*0.386102 -> 203315.96 | G23: Grandwood forest | H23: 15.44 | I23: =H23*$G$7 -> 104103.58 | J23: =I23*0.386102 -> 40194.602 | Q23: Gull cliffs | R23: 4.92 | S23: =R23*$G$7 -> 33172.904 | T23: =S23*0.386102 -> 12808.125
B24: Geoff | C24: 12.16 | D24: =C24*$G$7 -> 81988.315 | E24: =D24*0.386102 -> 31655.853 | G24: Hornwood | H24: 6.56 | I24: =H24*$G$7 -> 44230.539 | J24: =I24*0.386102 -> 17077.499 | Q24: Hellfurnaces | R24: 70.79 | S24: =R24*$G$7 -> 477298.75 | T24: =S24*0.386102 -> 184286
B25: Gran March | C25: 16.43 | D25: =C25*$G$7 -> 110778.62 | E25: =D25*0.386102 -> 42771.847 | G25: Hraak forest | H25: 9.27 | I25: =H25*$G$7 -> 62502.606 | J25: =I25*0.386102 -> 24132.381 | Q25: Hestmark highlands | R25: 10.69 | S25: =R25*$G$7 -> 72076.899 | T25: =S25*0.386102 -> 27829.035
B26: Greyhawk, lands of | C26: 5.54 | D26: =C26*$G$7 -> 37353.229 | E26: =D26*0.386102 -> 14422.157 | G26: Loftwood forest | H26: 2.99 | I26: =H26*$G$7 -> 20159.956 | J26: =I26*0.386102 -> 7783.7993 | Q26: Hollow highlands | R26: 2.93 | S26: =R26*$G$7 -> 19755.408 | T26: =S26*0.386102 -> 7627.6026
B27: Hardby, lands of | C27: 1.54 | D27: =C27*$G$7 -> 10383.389 | E27: =D27*0.386102 -> 4009.0471 | G27: Menowood | H27: 5.83 | I27: =H27*$G$7 -> 39308.543 | J27: =I27*0.386102 -> 15177.107 | Q27: Howling hills | R27: 7.45 | S27: =R27*$G$7 -> 50231.328 | T27: =S27*0.386102 -> 19394.416
B28: Horned Society | C28: 24.46 | D28: =C28*$G$7 -> 164920.58 | E28: =D28*0.386102 -> 63676.164 | G28: Nutherwood | H28: 4.05 | I28: =H28*$G$7 -> 27306.964 | J28: =I28*0.386102 -> 10543.273 | Q28: Iron hills | R28: 9.91 | S28: =R28*$G$7 -> 66817.78 | T28: =S28*0.386102 -> 25798.479
B29: Highfolk vale | C29: 9.92 | D29: =C29*$G$7 -> 66885.205 | E29: =D29*0.386102 -> 25824.511 | G29: Oytwood | H29: 3.95 | I29: =H29*$G$7 -> 26632.718 | J29: =I29*0.386102 -> 10282.946 | Q29: Jotens | R29: 13.02 | S29: =R29*$G$7 -> 87786.831 | T29: =S29*0.386102 -> 33894.671
B30: Ice barbarians | C30: =43.8-8.42 -> 35.38 | D30: =C30*$G$7 -> 238548.24 | E30: =D30*0.386102 -> 92103.953 | G30: Phostwood | H30: 15.26 | I30: =H30*$G$7 -> 102889.94 | J30: =I30*0.386102 -> 39726.012 | Q30: Kron hills | R30: 5.76 | S30: =R30*$G$7 -> 38836.57 | T30: =S30*0.386102 -> 14994.878
B31: Idee | C31: 6.3 | D31: =C31*$G$7 -> 42477.499 | E31: =D31*0.386102 -> 16400.647 | G31: Rieuwood | H31: 13.04 | I31: =H31*$G$7 -> 87921.68 | J31: =I31*0.386102 -> 33946.737 | Q31: Little hills | R31: 7.92 | S31: =R31*$G$7 -> 53400.284 | T31: =S31*0.386102 -> 20617.957
B32: Irongate | C32: 0.84 | D32: =C32*$G$7 -> 5663.6665 | E32: =D32*0.386102 -> 2186.753 | G32: Sable wood | H32: 8.42 | I32: =H32*$G$7 -> 56771.514 | J32: =I32*0.386102 -> 21919.595 | Q32: Lorridges | R32: 5.82 | S32: =R32*$G$7 -> 39241.118 | T32: =S32*0.386102 -> 15151.074
B33: Iuz, Homeland of | C33: 43.24 | D33: =C33*$G$7 -> 291543.98 | E33: =D33*0.386102 -> 112565.71 | G33: Silver wood | H33: 3.08 | I33: =H33*$G$7 -> 20766.777 | J33: =I33*0.386102 -> 8018.0942 | Q33: Lortmils | R33: 25.79 | S33: =R33*$G$7 -> 173888.05 | T33: =S33*0.386102 -> 67138.523
B34: Keoland | C34: 49.91 | D34: =C34*$G$7 -> 336516.19 | E34: =D34*0.386102 -> 129929.57 | G34: Spikey forest | H34: 3.57 | I34: =H34*$G$7 -> 24070.583 | J34: =I34*0.386102 -> 9293.7001 | Q34: Mounds of Dawn | R34: 4.37 | S34: =R34*$G$7 -> 29464.551 | T34: =S34*0.386102 -> 11376.322
B35: Ket | C35: 15.74 | D35: =C35*$G$7 -> 106126.32 | E35: =D35*0.386102 -> 40975.585 | G35: Suss forest | H35: 8.97 | I35: =H35*$G$7 -> 60479.867 | J35: =I35*0.386102 -> 23351.398 | Q35: Rakers | R35: 34.39 | S35: =R35*$G$7 -> 231873.2 | T35: =S35*0.386102 -> 89526.708
B36: Lendore isles | C36: =3.42+3.16 -> 6.58 | D36: =C36*$G$7 -> 44365.388 | E36: =D36*0.386102 -> 17129.565 | G36: Tangles forest | H36: 5.57 | I36: =H36*$G$7 -> 37555.503 | J36: =I36*0.386102 -> 14500.255 | Q36: Sepia uplands | R36: 4.18 | S36: =R36*$G$7 -> 28183.483 | T36: =S36*0.386102 -> 10881.699
B37: Lordship of the isles | C37: =0.57+3.42+3.69+4.42 -> 12.1 | D37: =C37*$G$7 -> 81583.768 | E37: =D37*0.386102 -> 31499.656 | G37: Timberway forest | H37: 8.21 | I37: =H37*$G$7 -> 55355.598 | J37: =I37*0.386102 -> 21372.907 | Q37: Spine ridge | R37: 5.6 | S37: =R37*$G$7 -> 37757.777 | T37: =S37*0.386102 -> 14578.353
B38: North kingdom | C38: 90.61 | D38: =C38*$G$7 -> 610934.31 | E38: =D38*0.386102 -> 235882.96 | G38: Udgru forest | H38: 11.84 | I38: =H38*$G$7 -> 79830.728 | J38: =I38*0.386102 -> 30822.804 | Q38: Stark mounds | R38: 4.91 | S38: =R38*$G$7 -> 33105.479 | T38: =S38*0.386102 -> 12782.092
B39: Nyrond (less Almor) | C39: 95.14 | D39: =C39*$G$7 -> 641477.66 | E39: =D39*0.386102 -> 247675.81 | G39: Welkwood | H39: 5 | I39: =H39*$G$7 -> 33712.301 | J39: =I39*0.386102 -> 13016.387 | Q39: Sulhauts mountains | R39: 40.57 | S39: =R39*$G$7 -> 273541.61 | T39: =S39*0.386102 -> 105614.96
B40: Onnwal | C40: 4.59 | D40: =C40*$G$7 -> 30947.892 | E40: =D40*0.386102 -> 11949.043 | G40: Vesve forest | H40: 43.93 | I40: =H40*$G$7 -> 296196.27 | J40: =I40*0.386102 -> 114361.97 | Q40: The Headlands | R40: 2.42 | S40: =R40*$G$7 -> 16316.754 | T40: =S40*0.386102 -> 6299.9312
B41: Pale | C41: 31.16 | D41: =C41*$G$7 -> 210095.06 | E41: =D41*0.386102 -> 81118.122 | Q41: The Tors | R41: 1.36 | S41: =R41*$G$7 -> 9169.7458 | T41: =S41*0.386102 -> 3540.4572
B42: Paynims | C42: 123.63 | D42: =C42*$G$7 -> 833570.35 | E42: =D42*0.386102 -> 321843.18 | G42: All areas are based off this map. | Q42: Tusman hills | R42: =3.33+14.06 -> 17.39 | S42: =R42*$G$7 -> 117251.38 | T42: =S42*0.386102 -> 45270.993
B43: Perrenland | C43: 17.54 | D43: =C43*$G$7 -> 118262.75 | E43: =D43*0.386102 -> 45661.485 | Q43: Ulsprue | R43: 9.95 | S43: =R43*$G$7 -> 67087.478 | T43: =S43*0.386102 -> 25902.61
B44: Pomarj (less the Wild Coast) | C44: 21.06 | D44: =C44*$G$7 -> 141996.21 | E44: =D44*0.386102 -> 54825.021 | Q44: Yatil mountains | R44: 76.67 | S44: =R44*$G$7 -> 516944.42 | T44: =S44*0.386102 -> 199593.27
B45: Ratik | C45: 6.15 | D45: =C45*$G$7 -> 41466.13 | E45: =D45*0.386102 -> 16010.156 | Q45: Yecha hills | R45: 2.93 | S45: =R45*$G$7 -> 19755.408 | T45: =S45*0.386102 -> 7627.6026
B46: Rel Astra & Solnor compact | C46: 11.07 | D46: =C46*$G$7 -> 74639.034 | E46: =D46*0.386102 -> 28818.28
B47: Rovers of the barren | C47: 28.28 | D47: =C47*$G$7 -> 190676.77 | E47: =D47*0.386102 -> 73620.683
B48: Sea barons | C48: =1.9+0.8+1.56+0.4 -> 4.66 | D48: =C48*$G$7 -> 31419.864 | E48: =D48*0.386102 -> 12131.272
B49: Sea princes | C49: 20.13 | D49: =C49*$G$7 -> 135725.72 | E49: =D49*0.386102 -> 52403.973
B50: See of Medegia | C50: 19.96 | D50: =C50*$G$7 -> 134579.5 | E50: =D50*0.386102 -> 51961.416
B51: Shield lands | C51: 20.73 | D51: =C51*$G$7 -> 139771.2 | E51: =D51*0.386102 -> 53965.939
B52: Snow barbarians | C52: 31.34 | D52: =C52*$G$7 -> 211308.7 | E52: =D52*0.386102 -> 81586.712
B53: Sterich | C53: 17.52 | D53: =C53*$G$7 -> 118127.9 | E53: =D53*0.386102 -> 45609.419
B54: Stonehold | C54: 39.92 | D54: =C54*$G$7 -> 269159.01 | E54: =D54*0.386102 -> 103922.83
B55: Sunndi | C55: 21.12 | D55: =C55*$G$7 -> 142400.76 | E55: =D55*0.386102 -> 54981.218
B56: Tenh | C56: 17.92 | D56: =C56*$G$7 -> 120824.89 | E56: =D56*0.386102 -> 46650.73
B57: Tiger nomads | C57: 49.85 | D57: =C57*$G$7 -> 336111.64 | E57: =D57*0.386102 -> 129773.38
B58: Tilvanot peninsula | C58: 42.62 | D58: =C58*$G$7 -> 287363.65 | E58: =D58*0.386102 -> 110951.68
B59: Tusmit | C59: 20.53 | D59: =C59*$G$7 -> 138422.71 | E59: =D59*0.386102 -> 53445.284
B60: Ulek county | C60: 10.05 | D60: =C60*$G$7 -> 67761.724 | E60: =D60*0.386102 -> 26162.937
... B62: Ulek principality | C62: 16.56 | D62: =C62*$G$7 -> 111655.14 | E62: =D62*0.386102 -> 43110.273
B63: Ull | C63: 28.14 | D63: =C63*$G$7 -> 189732.83 | E63: =D63*0.386102 -> 73256.225 | G63: Hepmonaland area is based off the map from the Scarlet Brotherhood book -- excludes the Isle of Singing Stones. | N63: Amedio area is based off the map from the Scarlet Brotherhood book -- excludes the islands
B64: Urnst county | C64: 26.05 | D64: =C64*$G$7 -> 175641.09 | E64: =D64*0.386102 -> 67815.375 | G64: Countries | H64: Area (sq.miles) | I64: Area (km2) | N64: Countries | O64: Area (sq.miles) | P64: Area (km2)
B65: Urnst duchy | C65: 22.35 | D65: =C65*$G$7 -> 150693.98 | E65: =D65*0.386102 -> 58183.249 | G65: Hepmonaland | H65: =2167920 -> 2167920 | I65: =H65*2.589988110336 -> 5614887 | N65: Amedio | O65: 362545 | P65: =O65*2.589988110336 -> 938987.24
B66: Valley of the mage | C66: 5.18 | D66: =C66*$G$7 -> 34925.944 | E66: =D66*0.386102 -> 13484.977
B67: Veluna | C67: 26.06 | D67: =C67*$G$7 -> 175708.51 | E67: =D67*0.386102 -> 67841.408
B68: Verbobonc, lands of | C68: 3.01 | D68: =C68*$G$7 -> 20294.805 | E68: =D68*0.386102 -> 7835.8648
B69: Wild coast | C69: 10.42 | D69: =C69*$G$7 -> 70256.435 | E69: =D69*0.386102 -> 27126.15
B70: Wolf nomads | C70: 60.5 | D70: =C70*$G$7 -> 407918.84 | E70: =D70*0.386102 -> 157498.28
B71: Yeomanry | C71: 18.79 | D71: =C71*$G$7 -> 126690.83 | E71: =D71*0.386102 -> 48915.581
B72: Zeif | C72: 77.48 | D72: =C72*$G$7 -> 522405.81 | E72: =D72*0.386102 -> 201701.93

Sheet Density
B2: Total | C2: =SUM(C6:C67) -> 11667220 | D2: =SUM(D6:D67) -> 28291630 | E2: =D2/C2 -> 2.4248818 | F2: =D2/(C2*0.386102) -> 6.2804175
B5: Countries | C5: Area (km2) | D5: LGG population | E5: Density (pop / km2) | F5: Density (pop / square mile)
B6: Ahlissa (less Almor, Idee, Medegia) | C6: =Area!D11 -> 835255.96 | D6: =3836100-D7-D26-D45 -> 3536100 | E6: =D6/C6 -> 4.2335525 | F6: =D6/(C6*0.386102) -> 10.964855
B7: Almor | C7: =Area!D12 -> 163302.38 | D7: 100000 | E7: =D7/C7 -> 0.61236093 | F7: =D7/(C7*0.386102) -> 1.5860082
B8: Bandit kingdoms | C8: =Area!D13 -> 391399.81 | D8: 475200 | E8: =D8/C8 -> 1.2141038 | F8: =D8/(C8*0.386102) -> 3.1445157
B9: Bissel | C9: =Area!D14 -> 94866.414 | D9: 123880 | E9: =D9/C9 -> 1.3058362 | F9: =D9/(C9*0.386102) -> 3.3821017
B10: Blackmoor | C10: =Area!D15 -> 165257.7 | D10: 110000 | E10: =D10/C10 -> 0.66562709 | F10: =D10/(C10*0.386102) -> 1.7239669
B11: Bone march | C11: =Area!D16 -> 139501.5 | D11: 310000 | E11: =D11/C11 -> 2.2221983 | F11: =D11/(C11*0.386102) -> 5.7554696
B12: Bright desert | C12: =Area!D17 -> 207870.05 | D12: 26500 | E12: =D12/C12 -> 0.12748349 | F12: =D12/(C12*0.386102) -> 0.33018087
B13: Celene | C13: =Area!D18 -> 59131.375 | D13: 140000 | E13: =D13/C13 -> 2.3676094 | F13: =D13/(C13*0.386102) -> 6.1320827
B14: Dullstrand, lands of | C14: =Area!D19 -> 20969.051 | D14: 20000 | E14: =D14/C14 -> 0.9537866 | F14: =D14/(C14*0.386102) -> 2.470297
B15: Dyvers, lands of | C15: =Area!D20 -> 12675.825 | D15: 128000 | E15: =D15/C15 -> 10.097962 | F15: =D15/(C15*0.386102) -> 26.153612
B16: Ekbir | C16: =Area!D21 -> 162021.32 | D16: 1960000 | E16: =D16/C16 -> 12.097174 | F16: =D16/(C16*0.386102) -> 31.331549
B17: Frost barbarians | C17: =Area!D22 -> 175169.11 | D17: 144500 | E17: =D17/C17 -> 0.82491711 | F17: =D17/(C17*0.386102) -> 2.1365264
B18: Furyondy | C18: =Area!D23 -> 526586.14 | D18: 1481800 | E18: =D18/C18 -> 2.8139746 | F18: =D18/(C18*0.386102) -> 7.2881637
... B20: Gran March | C20: =Area!D25 -> 110778.62 | D20: 254600 | E20: =D20/C20 -> 2.2982774 | F20: =D20/(C20*0.386102) -> 5.9525136
B21: Greyhawk, lands of | C21: =Area!D26 -> 37353.229 | D21: =160000-20000-40000 -> 100000 | E21: =D21/C21 -> 2.6771447 | F21: =D21/(C21*0.386102) -> 6.9337758
B22: Hardby, lands of | C22: =Area!D27 -> 10383.389 | D22: =20000 -> 20000 | E22: =D22/C22 -> 1.9261535 | F22: =D22/(C22*0.386102) -> 4.9887166
B23: Horned Society | C23: =Area!D28 -> 164920.58 | D23: 250000 | E23: =D23/C23 -> 1.5158812 | F23: =D23/(C23*0.386102) -> 3.9261159
B24: Highfolk vale | C24: =Area!D29 -> 66885.205 | D24: 46000 | E24: =D24/C24 -> 0.68774552 | F24: =D24/(C24*0.386102) -> 1.7812535
B25: Ice barbarians | C25: =Area!D30 -> 238548.24 | D25: 158800 | E25: =D25/C25 -> 0.66569345 | F25: =D25/(C25*0.386102) -> 1.7241388
B26: Idee | C26: =Area!D31 -> 42477.499 | D26: 150000 | E26: =D26/C26 -> 3.5312814 | F26: =D26/(C26*0.386102) -> 9.1459805
B27: Irongate | C27: =Area!D32 -> 5663.6665 | D27: 71000 | E27: =D27/C27 -> 12.536049 | F27: =D27/(C27*0.386102) -> 32.468231
B28: Iuz, Homeland of | C28: =Area!D33 -> 291543.98 | D28: =700000-D23 -> 450000 | E28: =D28/C28 -> 1.5435064 | F28: =D28/(C28*0.386102) -> 3.9976649
B29: Keoland | C29: =Area!D34 -> 336516.19 | D29: 1800000 | E29: =D29/C29 -> 5.3489255 | F29: =D29/(C29*0.386102) -> 13.853659
B30: Ket | C30: =Area!D35 -> 106126.32 | D30: 275000 | E30: =D30/C30 -> 2.5912516 | F30: =D30/(C30*0.386102) -> 6.7113135
B31: Lendore isles | C31: =Area!D36 -> 44365.388 | D31: 41000 | E31: =D31/C31 -> 0.92414384 | F31: =D31/(C31*0.386102) -> 2.3935226
B32: Lordship of the isles | C32: =Area!D37 -> 81583.768 | D32: 266000 | E32: =D32/C32 -> 3.2604525 | F32: =D32/(C32*0.386102) -> 8.4445367
B33: North kingdom | C33: =Area!D38 -> 610934.31 | D33: 2618200 | E33: =D33/C33 -> 4.2855671 | F33: =D33/(C33*0.386102) -> 11.099572
B34: Nyrond (less Almor) | C34: =Area!D39 -> 641477.66 | D34: =2618200-D7 -> 2518200 | E34: =D34/C34 -> 3.9256239 | F34: =D34/(C34*0.386102) -> 10.167323
B35: Onnwal | C35: =Area!D40 -> 30947.892 | D35: 85500 | E35: =D35/C35 -> 2.7627084 | F35: =D35/(C35*0.386102) -> 7.1553847
B36: Pale | C36: =Area!D41 -> 210095.06 | D36: 395000 | E36: =D36/C36 -> 1.8801013 | F36: =D36/(C36*0.386102) -> 4.8694421
B37: Paynims | C37: =Area!D42 -> 833570.35 | D37: 500000 | E37: =D37/C37 -> 0.5998294 | F37: =D37/(C37*0.386102) -> 1.5535516
B38: Perrenland | C38: =Area!D43 -> 118262.75 | D38: 468000 | E38: =D38/C38 -> 3.95729 | F38: =D38/(C38*0.386102) -> 10.249338
B39: Pomarj (less the Wild Coast) | C39: =Area!D44 -> 141996.21 | D39: =476000-120000 -> 356000 | E39: =D39/C39 -> 2.5071092 | F39: =D39/(C39*0.386102) -> 6.4933856
B40: Ratik | C40: =Area!D45 -> 41466.13 | D40: 138500 | E40: =D40/C40 -> 3.3400754 | F40: =D40/(C40*0.386102) -> 8.6507591
B41: Rel Astra & Solnor compact | C41: =Area!D46 -> 74639.034 | D41: 380000 | E41: =D41/C41 -> 5.0911699 | F41: =D41/(C41*0.386102) -> 13.186075
B42: Rovers of the barren | C42: =Area!D47 -> 190676.77 | D42: 35000 | E42: =D42/C42 -> 0.1835567 | F42: =D42/(C42*0.386102) -> 0.47540988
B43: Sea barons | C43: =Area!D48 -> 31419.864 | D43: 154000 | E43: =D43/C43 -> 4.9013579 | F43: =D43/(C43*0.386102) -> 12.694464
B44: Sea princes | C44: =Area!D49 -> 135725.72 | D44: 420000 | E44: =D44/C44 -> 3.0944761 | F44: =D44/(C44*0.386102) -> 8.0146595
B45: See of Medegia | C45: =Area!D50 -> 134579.5 | D45: 50000 | E45: =D45/C45 -> 0.3715276 | F45: =D45/(C45*0.386102) -> 0.96225246
B46: Shield lands | C46: =Area!D51 -> 139771.2 | D46: 27000 | E46: =D46/C46 -> 0.19317284 | F46: =D46/(C46*0.386102) -> 0.50031558
B47: Snow barbarians | C47: =Area!D52 -> 211308.7 | D47: 209000 | E47: =D47/C47 -> 0.98907427 | F47: =D47/(C47*0.386102) -> 2.5616917
B48: Sterich | C48: =Area!D53 -> 118127.9 | D48: 144000 | E48: =D48/C48 -> 1.2190177 | F48: =D48/(C48*0.386102) -> 3.1572426
B49: Stonehold | C49: =Area!D54 -> 269159.01 | D49: 55000 | E49: =D49/C49 -> 0.20434018 | F49: =D49/(C49*0.386102) -> 0.52923885
B50: Sunndi | C50: =Area!D55 -> 142400.76 | D50: 125000 | E50: =D50/C50 -> 0.87780431 | F50: =D50/(C50*0.386102) -> 2.2735037
B51: Tenh | C51: =Area!D56 -> 120824.89 | D51: 195000 | E51: =D51/C51 -> 1.6139059 | F51: =D51/(C51*0.386102) -> 4.1799989
... B63: Verbobonc, lands of | C63: =Area!D68 -> 20294.805 | D63: 177800 | E63: =D63/C63 -> 8.7608627 | F63: =D63/(C63*0.386102) -> 22.690539
B64: Wild coast | C64: =Area!D69 -> 70256.435 | D64: =40000+120000 -> 160000 | E64: =D64/C64 -> 2.2773715 | F64: =D64/(C64*0.386102) -> 5.8983675
B65: Wolf nomads | C65: =Area!D70 -> 407918.84 | D65: 120000 | E65: =D65/C65 -> 0.29417617 | F65: =D65/(C65*0.386102) -> 0.76191309
B66: Yeomanry | C66: =Area!D71 -> 126690.83 | D66: 305900 | E66: =D66/C66 -> 2.4145395 | F66: =D66/(C66*0.386102) -> 6.2536311
B67: Zeif | C67: =Area!D72 -> 522405.81 | D67: 1628300 | E67: =D67/C67 -> 3.1169255 | F67: =D67/(C67*0.386102) -> 8.0728033

Sheet Revised populations
A1: by Richard Di Ioia
A3: For DMs that wish to adjust the LGG populations here is an excel sheet to help you.
A4: This sheet provides two frameworks for finding a population figure of a country:
A5: --- Method #1) Suggest an overall population density of a country based on a few factors and then multiplying that factor by the area (square km) of the country.
A6: --- Method #2) The DM decides the percentage area of the country they want to be "tamed". From there a factor is applied on how many acres an average person needs of food, and the population figure is then calculated.
A8: Enter values in the cells with a Blue value. | K8: =SUM(K13:K74) -> 28291630 | L8: =SUM(L13:L74) -> 34043591 | N8: =SUM(N13:N74) -> 32894546 | T8: =SUM(T13:T74) -> 33469069 | W8: =SUM(W13:W74) -> 37854000
C9: Method #1 | G9: Method #2 | H9: Results | K9: Comparison
G10: Acres per person =
G11: 8 | H11: Method #1 | J11: Method #2 | L11: Method #1 | N11: Method #2
A12: Countries | B12: Area (km2) | C12: Stability | D12: Fertility | E12: Environment | F12: Special | G12: Tamed area (%) | H12: Suggested density (pop / km2) | I12: Suggested population | J12: Suggested population | K12: LGG population | L12: Population | M12: % change | N12: Population | O12: % change | Q12: French LGG | T12: Average of Method #1 and Method #2 | U12: % change from LGG | W12: Gary Holian values | X12: % change from LGG | Y12: % change from Average of M1 & M2
A13: Ahlissa (less Almor, Idee, Medegia) | B13: =Area!D11 -> 835255.96 | C13: 3 | D13: 5 | E13: 3 | F13: 1 | G13: 0.15 | H13: =C13*(D13/3)*(E13/3)*F13 -> 5 | I13: =B13*H13 -> 4176279.8 | J13: =G13*B13*250/$G$11 -> 3915262.3 | K13: =Density!D6 -> 3536100 | L13: =I13 -> 4176279.8 | M13: =(L13-K13)/K13 -> 0.18104121 | N13: =J13 -> 3915262.3 | O13: =(N13-K13)/K13 -> 0.10722613 | Q13: =3836100-Q14-Q33-Q52 -> 3536100 | R13: =K13-Q13 -> 0 | T13: =(L13+N13)/2 -> 4045771.1 | U13: =(T13-K13)/K13 -> 0.14413367 | W13: =10060000-W14-W21-W33-W52 -> 9740000 | X13: =(W13-K13)/K13 -> 1.754447 | Y13: =(W13-T13)/T13 -> 1.4074521
A14: Almor | B14: =Area!D12 -> 163302.38 | C14: 1 | D14: 4 | E14: 3 | F14: 0.5 | G14: 0.02 | H14: =C14*(D14/3)*(E14/3)*F14 -> 0.66666667 | I14: =B14*H14 -> 108868.26 | J14: =G14*B14*250/$G$11 -> 102063.99 | K14: =Density!D7 -> 100000 | L14: =I14 -> 108868.26 | M14: =(L14-K14)/K14 -> 0.088682565 | N14: =J14 -> 102063.99 | O14: =(N14-K14)/K14 -> 0.020639904 | Q14: 100000 | R14: =K14-Q14 -> 0 | T14: =(L14+N14)/2 -> 105466.12 | U14: =(T14-K14)/K14 -> 0.054661234 | W14: 100000 | X14: =(W14-K14)/K14 -> 0 | Y14: =(W14-T14)/T14 -> -0.051828239
A15: Bandit kingdoms | B15: =Area!D13 -> 391399.81 | C15: 2 | D15: 2 | E15: 2 | F15: 1 | G15: 0.03 | H15: =C15*(D15/3)*(E15/3)*F15 -> 0.88888889 | I15: =B15*H15 -> 347910.94 | J15: =G15*B15*250/$G$11 -> 366937.32 | K15: =Density!D8 -> 475200 | L15: =I15 -> 347910.94 | M15: =(L15-K15)/K15 -> -0.26786418 | N15: =J15 -> 366937.32 | O15: =(N15-K15)/K15 -> -0.2278255 | Q15: 475200 | R15: =K15-Q15 -> 0 | T15: =(L15+N15)/2 -> 357424.13 | U15: =(T15-K15)/K15 -> -0.24784484 | W15: 325000 | X15: =(W15-K15)/K15 -> -0.31607744 | Y15: =(W15-T15)/T15 -> -0.090716128
A16: Bissel | B16: =Area!D14 -> 94866.414 | C16: 2 | D16: 4 | E16: 3 | F16: 1 | G16: 0.08 | H16: =C16*(D16/3)*(E16/3)*F16 -> 2.6666667 | I16: =B16*H16 -> 252977.1 | J16: =G16*B16*250/$G$11 -> 237166.04 | K16: =Density!D9 -> 123880 | L16: =I16 -> 252977.1 | M16: =(L16-K16)/K16 -> 1.0421142 | N16: =J16 -> 237166.04 | O16: =(N16-K16)/K16 -> 0.91448204 | Q16: 123800 | R16: =K16-Q16 -> 80 | T16: =(L16+N16)/2 -> 245071.57 | U16: =(T16-K16)/K16 -> 0.97829811 | W16: 125000 | X16: =(W16-K16)/K16 -> 0.0090410074 | Y16: =(W16-T16)/T16 -> -0.48994492
A17: Blackmoor | B17: =Area!D15 -> 165257.7 | C17: 2 | D17: 1 | E17: 1 | F17: 1 | G17: 0.01 | H17: =C17*(D17/3)*(E17/3)*F17 -> 0.22222222 | I17: =B17*H17 -> 36723.933 | J17: =G17*B17*250/$G$11 -> 51643.031 | K17: =Density!D10 -> 110000 | L17: =I17 -> 36723.933 | M17: =(L17-K17)/K17 -> -0.66614606 | N17: =J17 -> 51643.031 | O17: =(N17-K17)/K17 -> -0.5305179 | Q17: 110000 | R17: =K17-Q17 -> 0 | T17: =(L17+N17)/2 -> 44183.482 | U17: =(T17-K17)/K17 -> -0.59833198 | W17: 63000 | X17: =(W17-K17)/K17 -> -0.42727273 | Y17: =(W17-T17)/T17 -> 0.42587224
A18: Bone march | B18: =Area!D16 -> 139501.5 | C18: 1 | D18: 2 | E18: 3 | F18: 1 | G18: 0.03 | H18: =C18*(D18/3)*(E18/3)*F18 -> 0.66666667 | I18: =B18*H18 -> 93001 | J18: =G18*B18*250/$G$11 -> 130782.66 | K18: =Density!D11 -> 310000 | L18: =I18 -> 93001 | M18: =(L18-K18)/K18 -> -0.69999677 | N18: =J18 -> 130782.66 | O18: =(N18-K18)/K18 -> -0.57812046 | Q18: 310000 | R18: =K18-Q18 -> 0 | T18: =(L18+N18)/2 -> 111891.83 | U18: =(T18-K18)/K18 -> -0.63905862 | W18: 165000 | X18: =(W18-K18)/K18 -> -0.46774194 | Y18: =(W18-T18)/T18 -> 0.47463852
A19: Bright desert | B19: =Area!D17 -> 207870.05 | C19: 2 | D19: 1 | E19: 1 | F19: 1 | G19: 0.01 | H19: =C19*(D19/3)*(E19/3)*F19 -> 0.22222222 | I19: =B19*H19 -> 46193.344 | J19: =G19*B19*250/$G$11 -> 64959.389 | K19: =Density!D12 -> 26500 | L19: =I19 -> 46193.344 | M19: =(L19-K19)/K19 -> 0.74314504 | N19: =J19 -> 64959.389 | O19: =(N19-K19)/K19 -> 1.4512977 | Q19: 26500 | R19: =K19-Q19 -> 0 | T19: =(L19+N19)/2 -> 55576.367 | U19: =(T19-K19)/K19 -> 1.0972214 | W19: 21000 | X19: =(W19-K19)/K19 -> -0.20754717 | Y19: =(W19-T19)/T19 -> -0.62214154
A20: Celene | B20: =Area!D18 -> 59131.375 | C20: 5 | D20: 5 | E20: 4 | F20: 0.5 | G20: 0.08 | H20: =C20*(D20/3)*(E20/3)*F20 -> 5.5555556 | I20: =B20*H20 -> 328507.64 | J20: =G20*B20*250/$G$11 -> 147828.44 | K20: =Density!D13 -> 140000 | L20: =I20 -> 328507.64 | M20: =(L20-K20)/K20 -> 1.3464832 | N20: =J20 -> 147828.44 | O20: =(N20-K20)/K20 -> 0.055917419 | Q20: 140000 | R20: =K20-Q20 -> 0 | T20: =(L20+N20)/2 -> 238168.04 | U20: =(T20-K20)/K20 -> 0.70120029 | W20: 48000 | X20: =(W20-K20)/K20 -> -0.65714286 | Y20: =(W20-T20)/T20 -> -0.79846162
A21: Dullstrand, lands of | B21: =Area!D19 -> 20969.051 | C21: 3 | D21: 5 | E21: 3 | F21: 1 | G21: 0.15 | H21: =C21*(D21/3)*(E21/3)*F21 -> 5 | I21: =B21*H21 -> 104845.26 | J21: =G21*B21*250/$G$11 -> 98292.427 | K21: =Density!D14 -> 20000 | L21: =I21 -> 104845.26 | M21: =(L21-K21)/K21 -> 4.2422628 | N21: =J21 -> 98292.427 | O21: =(N21-K21)/K21 -> 3.9146213 | Q21: 20000 | R21: =K21-Q21 -> 0 | T21: =(L21+N21)/2 -> 101568.84 | U21: =(T21-K21)/K21 -> 4.0784421 | W21: 20000 | X21: =(W21-K21)/K21 -> 0 | Y21: =(W21-T21)/T21 -> -0.80308922
A22: Dyvers, lands of | B22: =Area!D20 -> 12675.825 | C22: 3 | D22: 4 | E22: 3 | F22: 2 | G22: 0.3 | H22: =C22*(D22/3)*(E22/3)*F22 -> 8 | I22: =B22*H22 -> 101406.6 | J22: =G22*B22*250/$G$11 -> 118835.86 | K22: =Density!D15 -> 128000 | L22: =I22 -> 101406.6 | M22: =(L22-K22)/K22 -> -0.20776093 | N22: =J22 -> 118835.86 | O22: =(N22-K22)/K22 -> -0.071594843 | Q22: 128000 | R22: =K22-Q22 -> 0 | T22: =(L22+N22)/2 -> 110121.23 | U22: =(T22-K22)/K22 -> -0.13967789 | W22: 121000 | X22: =(W22-K22)/K22 -> -0.0546875 | Y22: =(W22-T22)/T22 -> 0.098789032
A23: Ekbir | B23: =Area!D21 -> 162021.32 | C23: 4 | D23: 3 | E23: 3 | F23: 1 | G23: 0.2 | H23: =C23*(D23/3)*(E23/3)*F23 -> 4 | I23: =B23*H23 -> 648085.27 | J23: =G23*B23*250/$G$11 -> 1012633.2 | K23: =Density!D16 -> 1960000 | L23: =I23 -> 648085.27 | M23: =(L23-K23)/K23 -> -0.66934425 | N23: =J23 -> 1012633.2 | O23: =(N23-K23)/K23 -> -0.48335039 | Q23: 1960000 | R23: =K23-Q23 -> 0 | T23: =(L23+N23)/2 -> 830359.25 | U23: =(T23-K23)/K23 -> -0.57634732 | W23: 1185000 | X23: =(W23-K23)/K23 -> -0.39540816 | Y23: =(W23-T23)/T23 -> 0.42709315
A24: Frost barbarians | B24: =Area!D22 -> 175169.11 | C24: 3 | D24: 2 | E24: 2 | F24: 1 | G24: 0.04 | H24: =C24*(D24/3)*(E24/3)*F24 -> 1.3333333 | I24: =B24*H24 -> 233558.82 | J24: =G24*B24*250/$G$11 -> 218961.39 | K24: =Density!D17 -> 144500 | L24: =I24 -> 233558.82 | M24: =(L24-K24)/K24 -> 0.61632401 | N24: =J24 -> 218961.39 | O24: =(N24-K24)/K24 -> 0.51530376 | Q24: 144500 | R24: =K24-Q24 -> 0 | T24: =(L24+N24)/2 -> 226260.11 | U24: =(T24-K24)/K24 -> 0.56581388 | W24: 295000 | X24: =(W24-K24)/K24 -> 1.0415225 | Y24: =(W24-T24)/T24 -> 0.30380916
A25: Furyondy | B25: =Area!D23 -> 526586.14 | C25: 3 | D25: 3 | E25: 3 | F25: 1 | G25: 0.15 | H25: =C25*(D25/3)*(E25/3)*F25 -> 3 | I25: =B25*H25 -> 1579758.4 | J25: =G25*B25*250/$G$11 -> 2468372.5 | K25: =Density!D18 -> 1481800 | L25: =I25 -> 1579758.4 | M25: =(L25-K25)/K25 -> 0.066107715 | N25: =J25 -> 2468372.5 | O25: =(N25-K25)/K25 -> 0.6657933 | Q25: 1481800 | R25: =K25-Q25 -> 0 | T25: =(L25+N25)/2 -> 2024065.5 | U25: =(T25-K25)/K25 -> 0.36595051 | W25: 1849000 | X25: =(W25-K25)/K25 -> 0.24780672 | Y25: =(W25-T25)/T25 -> -0.086491997
... A27: Gran March | B27: =Area!D25 -> 110778.62 | C27: 4 | D27: 4 | E27: 3 | F27: 1 | G27: 0.15 | H27: =C27*(D27/3)*(E27/3)*F27 -> 5.3333333 | I27: =B27*H27 -> 590819.31 | J27: =G27*B27*250/$G$11 -> 519274.78 | K27: =Density!D20 -> 254600 | L27: =I27 -> 590819.31 | M27: =(L27-K27)/K27 -> 1.3205786 | N27: =J27 -> 519274.78 | O27: =(N27-K27)/K27 -> 1.039571 | Q27: 254600 | R27: =K27-Q27 -> 0 | T27: =(L27+N27)/2 -> 555047.04 | U27: =(T27-K27)/K27 -> 1.1800748 | W27: 302000 | X27: =(W27-K27)/K27 -> 0.18617439 | Y27: =(W27-T27)/T27 -> -0.45590198
A28: Greyhawk, lands of | B28: =Area!D26 -> 37353.229 | C28: 3 | D28: 3 | E28: 3 | F28: 1 | G28: 0.15 | H28: =C28*(D28/3)*(E28/3)*F28 -> 3 | I28: =B28*H28 -> 112059.69 | J28: =G28*B28*250/$G$11 -> 175093.26 | K28: =Density!D21 -> 100000 | L28: =I28 -> 112059.69 | M28: =(L28-K28)/K28 -> 0.12059688 | N28: =J28 -> 175093.26 | O28: =(N28-K28)/K28 -> 0.75093262 | Q28: =160000-40000-20000 -> 100000 | R28: =K28-Q28 -> 0 | T28: =(L28+N28)/2 -> 143576.47 | U28: =(T28-K28)/K28 -> 0.43576475 | W28: 257000 | X28: =(W28-K28)/K28 -> 1.57 | Y28: =(W28-T28)/T28 -> 0.78998684
A29: Hardby, lands of | B29: =Area!D27 -> 10383.389 | C29: 4 | D29: 3 | E29: 3 | F29: 1 | G29: 0.15 | H29: =C29*(D29/3)*(E29/3)*F29 -> 4 | I29: =B29*H29 -> 41533.554 | J29: =G29*B29*250/$G$11 -> 48672.134 | K29: =Density!D22 -> 20000 | L29: =I29 -> 41533.554 | M29: =(L29-K29)/K29 -> 1.0766777 | N29: =J29 -> 48672.134 | O29: =(N29-K29)/K29 -> 1.4336067 | Q29: 20000 | R29: =K29-Q29 -> 0 | T29: =(L29+N29)/2 -> 45102.844 | U29: =(T29-K29)/K29 -> 1.2551422 | W29: =20000 -> 20000 | X29: =(W29-K29)/K29 -> 0 | Y29: =(W29-T29)/T29 -> -0.55656899
A30: Horned Society | B30: =Area!D28 -> 164920.58 | C30: 1 | D30: 3 | E30: 2 | F30: 1 | G30: 0.05 | H30: =C30*(D30/3)*(E30/3)*F30 -> 0.66666667 | I30: =B30*H30 -> 109947.05 | J30: =G30*B30*250/$G$11 -> 257688.4 | K30: =Density!D23 -> 250000 | L30: =I30 -> 109947.05 | M30: =(L30-K30)/K30 -> -0.5602118 | N30: =J30 -> 257688.4 | O30: =(N30-K30)/K30 -> 0.030753595 | Q30: 250000 | R30: =K30-Q30 -> 0 | T30: =(L30+N30)/2 -> 183817.72 | U30: =(T30-K30)/K30 -> -0.2647291 | W30: 250000 | X30: =(W30-K30)/K30 -> 0 | Y30: =(W30-T30)/T30 -> 0.36004295
A31: Highfolk vale | B31: =Area!D29 -> 66885.205 | C31: 4 | D31: 4 | E31: 3 | F31: 1 | G31: 0.15 | H31: =C31*(D31/3)*(E31/3)*F31 -> 5.3333333 | I31: =B31*H31 -> 356721.09 | J31: =G31*B31*250/$G$11 -> 313524.4 | K31: =Density!D24 -> 46000 | L31: =I31 -> 356721.09 | M31: =(L31-K31)/K31 -> 6.7548063 | N31: =J31 -> 313524.4 | O31: =(N31-K31)/K31 -> 5.8157478 | Q31: 46000 | R31: =K31-Q31 -> 0 | T31: =(L31+N31)/2 -> 335122.74 | U31: =(T31-K31)/K31 -> 6.285277 | W31: 52000 | X31: =(W31-K31)/K31 -> 0.13043478 | Y31: =(W31-T31)/T31 -> -0.84483297
A32: Ice barbarians | B32: =Area!D30 -> 238548.24 | C32: 3 | D32: 1 | E32: 2 | F32: 1 | G32: 0.03 | H32: =C32*(D32/3)*(E32/3)*F32 -> 0.66666667 | I32: =B32*H32 -> 159032.16 | J32: =G32*B32*250/$G$11 -> 223638.97 | K32: =Density!D25 -> 158800 | L32: =I32 -> 159032.16 | M32: =(L32-K32)/K32 -> 0.0014619643 | N32: =J32 -> 223638.97 | O32: =(N32-K32)/K32 -> 0.40830589 | Q32: 158800 | R32: =K32-Q32 -> 0 | T32: =(L32+N32)/2 -> 191335.57 | U32: =(T32-K32)/K32 -> 0.20488393 | W32: 263000 | X32: =(W32-K32)/K32 -> 0.65617128 | Y32: =(W32-T32)/T32 -> 0.37454841
A33: Idee | B33: =Area!D31 -> 42477.499 | C33: 2 | D33: 5 | E33: 4 | F33: 1 | G33: 0.15 | H33: =C33*(D33/3)*(E33/3)*F33 -> 4.4444444 | I33: =B33*H33 -> 188788.88 | J33: =G33*B33*250/$G$11 -> 199113.28 | K33: =Density!D26 -> 150000 | L33: =I33 -> 188788.88 | M33: =(L33-K33)/K33 -> 0.25859256 | N33: =J33 -> 199113.28 | O33: =(N33-K33)/K33 -> 0.32742184 | Q33: 150000 | R33: =K33-Q33 -> 0 | T33: =(L33+N33)/2 -> 193951.08 | U33: =(T33-K33)/K33 -> 0.2930072 | W33: 150000 | X33: =(W33-K33)/K33 -> 0 | Y33: =(W33-T33)/T33 -> -0.2266091
A34: Irongate | B34: =Area!D32 -> 5663.6665 | C34: 5 | D34: 5 | E34: 4 | F34: 4 | G34: 0.6 | H34: =C34*(D34/3)*(E34/3)*F34 -> 44.444444 | I34: =B34*H34 -> 251718.51 | J34: =G34*B34*250/$G$11 -> 106193.75 | K34: =Density!D27 -> 71000 | L34: =I34 -> 251718.51 | M34: =(L34-K34)/K34 -> 2.5453312 | N34: =J34 -> 106193.75 | O34: =(N34-K34)/K34 -> 0.49568658 | Q34: 71000 | R34: =K34-Q34 -> 0 | T34: =(L34+N34)/2 -> 178956.13 | U34: =(T34-K34)/K34 -> 1.5205089 | W34: 186000 | X34: =(W34-K34)/K34 -> 1.6197183 | Y34: =(W34-T34)/T34 -> 0.039360878
A35: Iuz, Homeland of | B35: =Area!D33 -> 291543.98 | C35: 2 | D35: 3 | E35: 2 | F35: 1 | G35: 0.03 | H35: =C35*(D35/3)*(E35/3)*F35 -> 1.3333333 | I35: =B35*H35 -> 388725.3 | J35: =G35*B35*250/$G$11 -> 273322.48 | K35: =Density!D28 -> 450000 | L35: =I35 -> 388725.3 | M35: =(L35-K35)/K35 -> -0.136166 | N35: =J35 -> 273322.48 | O35: =(N35-K35)/K35 -> -0.39261672 | Q35: =700000-Q30 -> 450000 | R35: =K35-Q35 -> 0 | T35: =(L35+N35)/2 -> 331023.89 | U35: =(T35-K35)/K35 -> -0.26439136 | W35: 177000 | X35: =(W35-K35)/K35 -> -0.60666667 | Y35: =(W35-T35)/T35 -> -0.46529539
A36: Keoland | B36: =Area!D34 -> 336516.19 | C36: 5 | D36: 5 | E36: 4 | F36: 1 | G36: 0.2 | H36: =C36*(D36/3)*(E36/3)*F36 -> 11.111111 | I36: =B36*H36 -> 3739068.7 | J36: =G36*B36*250/$G$11 -> 2103226.2 | K36: =Density!D29 -> 1800000 | L36: =I36 -> 3739068.7 | M36: =(L36-K36)/K36 -> 1.0772604 | N36: =J36 -> 2103226.2 | O36: =(N36-K36)/K36 -> 0.16845898 | Q36: 1800000 | R36: =K36-Q36 -> 0 | T36: =(L36+N36)/2 -> 2921147.4 | U36: =(T36-K36)/K36 -> 0.62285969 | W36: 1915000 | X36: =(W36-K36)/K36 -> 0.063888889 | Y36: =(W36-T36)/T36 -> -0.34443569
A37: Ket | B37: =Area!D35 -> 106126.32 | C37: 3 | D37: 4 | E37: 3 | F37: 1 | G37: 0.15 | H37: =C37*(D37/3)*(E37/3)*F37 -> 4 | I37: =B37*H37 -> 424505.29 | J37: =G37*B37*250/$G$11 -> 497467.14 | K37: =Density!D30 -> 275000 | L37: =I37 -> 424505.29 | M37: =(L37-K37)/K37 -> 0.5436556 | N37: =J37 -> 497467.14 | O37: =(N37-K37)/K37 -> 0.80897141 | Q37: 275000 | R37: =K37-Q37 -> 0 | T37: =(L37+N37)/2 -> 460986.21 | U37: =(T37-K37)/K37 -> 0.67631351 | W37: 248000 | X37: =(W37-K37)/K37 -> -0.098181818 | Y37: =(W37-T37)/T37 -> -0.46202296
A38: Lendore isles | B38: =Area!D36 -> 44365.388 | C38: 4 | D38: 5 | E38: 3 | F38: 1 | G38: 0.08 | H38: =C38*(D38/3)*(E38/3)*F38 -> 6.6666667 | I38: =B38*H38 -> 295769.25 | J38: =G38*B38*250/$G$11 -> 110913.47 | K38: =Density!D31 -> 41000 | L38: =I38 -> 295769.25 | M38: =(L38-K38)/K38 -> 6.2138842 | N38: =J38 -> 110913.47 | O38: =(N38-K38)/K38 -> 1.7052066 | Q38: 41000 | R38: =K38-Q38 -> 0 | T38: =(L38+N38)/2 -> 203341.36 | U38: =(T38-K38)/K38 -> 3.9595454 | W38: 20000 | X38: =(W38-K38)/K38 -> -0.51219512 | Y38: =(W38-T38)/T38 -> -0.90164323
A39: Lordship of the isles | B39: =Area!D37 -> 81583.768 | C39: 3 | D39: 5 | E39: 3 | F39: 1 | G39: 0.15 | H39: =C39*(D39/3)*(E39/3)*F39 -> 5 | I39: =B39*H39 -> 407918.84 | J39: =G39*B39*250/$G$11 -> 382423.91 | K39: =Density!D32 -> 266000 | L39: =I39 -> 407918.84 | M39: =(L39-K39)/K39 -> 0.53352947 | N39: =J39 -> 382423.91 | O39: =(N39-K39)/K39 -> 0.43768388 | Q39: 266000 | R39: =K39-Q39 -> 0 | T39: =(L39+N39)/2 -> 395171.38 | U39: =(T39-K39)/K39 -> 0.48560667 | W39: 314000 | X39: =(W39-K39)/K39 -> 0.18045113 | Y39: =(W39-T39)/T39 -> -0.20540803
A40: North kingdom | B40: =Area!D38 -> 610934.31 | C40: 3 | D40: 3 | E40: 3 | F40: 1 | G40: 0.15 | H40: =C40*(D40/3)*(E40/3)*F40 -> 3 | I40: =B40*H40 -> 1832802.9 | J40: =G40*B40*250/$G$11 -> 2863754.6 | K40: =Density!D33 -> 2618200 | L40: =I40 -> 1832802.9 | M40: =(L40-K40)/K40 -> -0.29997596 | N40: =J40 -> 2863754.6 | O40: =(N40-K40)/K40 -> 0.093787562 | Q40: 2618200 | R40: =K40-Q40 -> 0 | T40: =(L40+N40)/2 -> 2348278.8 | U40: =(T40-K40)/K40 -> -0.1030942 | W40: 2920000 | X40: =(W40-K40)/K40 -> 0.11527003 | Y40: =(W40-T40)/T40 -> 0.24346395
A41: Nyrond (less Almor) | B41: =Area!D39 -> 641477.66 | C41: 3 | D41: 4 | E41: 3 | F41: 1 | G41: 0.15 | H41: =C41*(D41/3)*(E41/3)*F41 -> 4 | I41: =B41*H41 -> 2565910.6 | J41: =G41*B41*250/$G$11 -> 3006926.5 | K41: =Density!D34 -> 2518200 | L41: =I41 -> 2565910.6 | M41: =(L41-K41)/K41 -> 0.018946324 | N41: =J41 -> 3006926.5 | O41: =(N41-K41)/K41 -> 0.19407772 | Q41: 2781800 | R41: =K41-Q41 -> -263600 | T41: =(L41+N41)/2 -> 2786418.6 | U41: =(T41-K41)/K41 -> 0.10651202 | W41: 4165000 | X41: =(W41-K41)/K41 -> 0.65395918 | Y41: =(W41-T41)/T41 -> 0.4947503
A42: Onnwal | B42: =Area!D40 -> 30947.892 | C42: 3 | D42: 5 | E42: 3 | F42: 1 | G42: 0.15 | H42: =C42*(D42/3)*(E42/3)*F42 -> 5 | I42: =B42*H42 -> 154739.46 | J42: =G42*B42*250/$G$11 -> 145068.24 | K42: =Density!D35 -> 85500 | L42: =I42 -> 154739.46 | M42: =(L42-K42)/K42 -> 0.80981825 | N42: =J42 -> 145068.24 | O42: =(N42-K42)/K42 -> 0.69670461 | Q42: 85500 | R42: =K42-Q42 -> 0 | T42: =(L42+N42)/2 -> 149903.85 | U42: =(T42-K42)/K42 -> 0.75326143 | W42: 152000 | X42: =(W42-K42)/K42 -> 0.77777778 | Y42: =(W42-T42)/T42 -> 0.013983282
A43: Pale | B43: =Area!D41 -> 210095.06 | C43: 4 | D43: 4 | E43: 2 | F43: 1 | G43: 0.05 | H43: =C43*(D43/3)*(E43/3)*F43 -> 3.5555556 | I43: =B43*H43 -> 747004.65 | J43: =G43*B43*250/$G$11 -> 328273.53 | K43: =Density!D36 -> 395000 | L43: =I43 -> 747004.65 | M43: =(L43-K43)/K43 -> 0.89115102 | N43: =J43 -> 328273.53 | O43: =(N43-K43)/K43 -> -0.16892778 | Q43: 395000 | R43: =K43-Q43 -> 0 | T43: =(L43+N43)/2 -> 537639.09 | U43: =(T43-K43)/K43 -> 0.36111162 | W43: 934000 | X43: =(W43-K43)/K43 -> 1.364557 | Y43: =(W43-T43)/T43 -> 0.73722487
A44: Paynims | B44: =Area!D42 -> 833570.35 | C44: 2 | D44: 3 | E44: 1 | F44: 1 | G44: 0.03 | H44: =C44*(D44/3)*(E44/3)*F44 -> 0.66666667 | I44: =B44*H44 -> 555713.57 | J44: =G44*B44*250/$G$11 -> 781472.2 | K44: =Density!D37 -> 500000 | L44: =I44 -> 555713.57 | M44: =(L44-K44)/K44 -> 0.11142713 | N44: =J44 -> 781472.2 | O44: =(N44-K44)/K44 -> 0.5629444 | Q44: 500000 | R44: =K44-Q44 -> 0 | T44: =(L44+N44)/2 -> 668592.88 | U44: =(T44-K44)/K44 -> 0.33718577 | W44: 500000 | X44: =(W44-K44)/K44 -> 0 | Y44: =(W44-T44)/T44 -> -0.25216075
A45: Perrenland | B45: =Area!D43 -> 118262.75 | C45: 3 | D45: 3 | E45: 2 | F45: 1 | G45: 0.1 | H45: =C45*(D45/3)*(E45/3)*F45 -> 2 | I45: =B45*H45 -> 236525.5 | J45: =G45*B45*250/$G$11 -> 369571.1 | K45: =Density!D38 -> 468000 | L45: =I45 -> 236525.5 | M45: =(L45-K45)/K45 -> -0.49460363 | N45: =J45 -> 369571.1 | O45: =(N45-K45)/K45 -> -0.21031817 | Q45: 468000 | R45: =K45-Q45 -> 0 | T45: =(L45+N45)/2 -> 303048.3 | U45: =(T45-K45)/K45 -> -0.3524609 | W45: 612000 | X45: =(W45-K45)/K45 -> 0.30769231 | Y45: =(W45-T45)/T45 -> 1.0194801
A46: Pomarj (less the Wild Coast) | B46: =Area!D44 -> 141996.21 | C46: 1 | D46: 5 | E46: 3 | F46: 1 | G46: 0.05 | H46: =C46*(D46/3)*(E46/3)*F46 -> 1.6666667 | I46: =B46*H46 -> 236660.35 | J46: =G46*B46*250/$G$11 -> 221869.08 | K46: =Density!D39 -> 356000 | L46: =I46 -> 236660.35 | M46: =(L46-K46)/K46 -> -0.33522373 | N46: =J46 -> 221869.08 | O46: =(N46-K46)/K46 -> -0.37677225 | Q46: =476000-120000 -> 356000 | R46: =K46-Q46 -> 0 | T46: =(L46+N46)/2 -> 229264.72 | U46: =(T46-K46)/K46 -> -0.35599799 | W46: 186000 | X46: =(W46-K46)/K46 -> -0.47752809 | Y46: =(W46-T46)/T46 -> -0.18871074
A47: Ratik | B47: =Area!D45 -> 41466.13 | C47: 3 | D47: 3 | E47: 2 | F47: 1 | G47: 0.08 | H47: =C47*(D47/3)*(E47/3)*F47 -> 2 | I47: =B47*H47 -> 82932.26 | J47: =G47*B47*250/$G$11 -> 103665.32 | K47: =Density!D40 -> 138500 | L47: =I47 -> 82932.26 | M47: =(L47-K47)/K47 -> -0.40121112 | N47: =J47 -> 103665.32 | O47: =(N47-K47)/K47 -> -0.2515139 | Q47: 138500 | R47: =K47-Q47 -> 0 | T47: =(L47+N47)/2 -> 93298.792 | U47: =(T47-K47)/K47 -> -0.32636251 | W47: 396000 | X47: =(W47-K47)/K47 -> 1.8592058 | Y47: =(W47-T47)/T47 -> 3.2444279
A48: Rel Astra & Solnor compact | B48: =Area!D46 -> 74639.034 | C48: 3 | D48: 5 | E48: 4 | F48: 1 | G48: 0.2 | H48: =C48*(D48/3)*(E48/3)*F48 -> 6.6666667 | I48: =B48*H48 -> 497593.56 | J48: =G48*B48*250/$G$11 -> 466493.96 | K48: =Density!D41 -> 380000 | L48: =I48 -> 497593.56 | M48: =(L48-K48)/K48 -> 0.30945673 | N48: =J48 -> 466493.96 | O48: =(N48-K48)/K48 -> 0.22761569 | Q48: 380000 | R48: =K48-Q48 -> 0 | T48: =(L48+N48)/2 -> 482043.76 | U48: =(T48-K48)/K48 -> 0.26853621 | W48: 350000 | X48: =(W48-K48)/K48 -> -0.078947368 | Y48: =(W48-T48)/T48 -> -0.27392484
A49: Rovers of the barren | B49: =Area!D47 -> 190676.77 | C49: 1 | D49: 2 | E49: 2 | F49: 1 | G49: 0.02 | H49: =C49*(D49/3)*(E49/3)*F49 -> 0.44444444 | I49: =B49*H49 -> 84745.232 | J49: =G49*B49*250/$G$11 -> 119172.98 | K49: =Density!D42 -> 35000 | L49: =I49 -> 84745.232 | M49: =(L49-K49)/K49 -> 1.4212924 | N49: =J49 -> 119172.98 | O49: =(N49-K49)/K49 -> 2.4049424 | Q49: 35000 | R49: =K49-Q49 -> 0 | T49: =(L49+N49)/2 -> 101959.11 | U49: =(T49-K49)/K49 -> 1.9131174 | W49: 115000 | X49: =(W49-K49)/K49 -> 2.2857143 | Y49: =(W49-T49)/T49 -> 0.12790316
A50: Sea barons | B50: =Area!D48 -> 31419.864 | C50: 3 | D50: 4 | E50: 3 | F50: 1 | G50: 0.15 | H50: =C50*(D50/3)*(E50/3)*F50 -> 4 | I50: =B50*H50 -> 125679.46 | J50: =G50*B50*250/$G$11 -> 147280.61 | K50: =Density!D43 -> 154000 | L50: =I50 -> 125679.46 | M50: =(L50-K50)/K50 -> -0.18389963 | N50: =J50 -> 147280.61 | O50: =(N50-K50)/K50 -> -0.043632378 | Q50: 154000 | R50: =K50-Q50 -> 0 | T50: =(L50+N50)/2 -> 136480.04 | U50: =(T50-K50)/K50 -> -0.113766 | W50: 209000 | X50: =(W50-K50)/K50 -> 0.35714286 | Y50: =(W50-T50)/T50 -> 0.53135951
A51: Sea princes | B51: =Area!D49 -> 135725.72 | C51: 2 | D51: 5 | E51: 3 | F51: 1 | G51: 0.15 | H51: =C51*(D51/3)*(E51/3)*F51 -> 3.3333333 | I51: =B51*H51 -> 452419.08 | J51: =G51*B51*250/$G$11 -> 636214.33 | K51: =Density!D44 -> 420000 | L51: =I51 -> 452419.08 | M51: =(L51-K51)/K51 -> 0.077188275 | N51: =J51 -> 636214.33 | O51: =(N51-K51)/K51 -> 0.51479601 | Q51: 420000 | R51: =K51-Q51 -> 0 | T51: =(L51+N51)/2 -> 544316.7 | U51: =(T51-K51)/K51 -> 0.29599214 | W51: 362000 | X51: =(W51-K51)/K51 -> -0.13809524 | Y51: =(W51-T51)/T51 -> -0.334946
A52: See of Medegia | B52: =Area!D50 -> 134579.5 | C52: 1 | D52: 5 | E52: 4 | F52: 0.5 | G52: 0.01 | H52: =C52*(D52/3)*(E52/3)*F52 -> 1.1111111 | I52: =B52*H52 -> 149532.78 | J52: =G52*B52*250/$G$11 -> 42056.095 | K52: =Density!D45 -> 50000 | L52: =I52 -> 149532.78 | M52: =(L52-K52)/K52 -> 1.9906557 | N52: =J52 -> 42056.095 | O52: =(N52-K52)/K52 -> -0.1588781 | Q52: 50000 | R52: =K52-Q52 -> 0 | T52: =(L52+N52)/2 -> 95794.439 | U52: =(T52-K52)/K52 -> 0.91588878 | W52: 50000 | X52: =(W52-K52)/K52 -> 0 | Y52: =(W52-T52)/T52 -> -0.47804903
A53: Shield lands | B53: =Area!D51 -> 139771.2 | C53: 1 | D53: 3 | E53: 3 | F53: 0.5 | G53: 0.01 | H53: =C53*(D53/3)*(E53/3)*F53 -> 0.5 | I53: =B53*H53 -> 69885.599 | J53: =G53*B53*250/$G$11 -> 43678.5 | K53: =Density!D46 -> 27000 | L53: =I53 -> 69885.599 | M53: =(L53-K53)/K53 -> 1.5883555 | N53: =J53 -> 43678.5 | O53: =(N53-K53)/K53 -> 0.61772221 | Q53: 27000 | R53: =K53-Q53 -> 0 | T53: =(L53+N53)/2 -> 56782.05 | U53: =(T53-K53)/K53 -> 1.1030389 | W53: 196000 | X53: =(W53-K53)/K53 -> 6.2592593 | Y53: =(W53-T53)/T53 -> 2.4517951
A54: Snow barbarians | B54: =Area!D52 -> 211308.7 | C54: 3 | D54: 2 | E54: 2 | F54: 1 | G54: 0.03 | H54: =C54*(D54/3)*(E54/3)*F54 -> 1.3333333 | I54: =B54*H54 -> 281744.93 | J54: =G54*B54*250/$G$11 -> 198101.91 | K54: =Density!D47 -> 209000 | L54: =I54 -> 281744.93 | M54: =(L54-K54)/K54 -> 0.34806189 | N54: =J54 -> 198101.91 | O54: =(N54-K54)/K54 -> -0.052143985 | Q54: 209000 | R54: =K54-Q54 -> 0 | T54: =(L54+N54)/2 -> 239923.42 | U54: =(T54-K54)/K54 -> 0.14795895 | W54: 391000 | X54: =(W54-K54)/K54 -> 0.8708134 | Y54: =(W54-T54)/T54 -> 0.62968667
A55: Sterich | B55: =Area!D53 -> 118127.9 | C55: 2 | D55: 4 | E55: 3 | F55: 0.75 | G55: 0.04 | H55: =C55*(D55/3)*(E55/3)*F55 -> 2 | I55: =B55*H55 -> 236255.8 | J55: =G55*B55*250/$G$11 -> 147659.88 | K55: =Density!D48 -> 144000 | L55: =I55 -> 236255.8 | M55: =(L55-K55)/K55 -> 0.6406653 | N55: =J55 -> 147659.88 | O55: =(N55-K55)/K55 -> 0.025415814 | Q55: 144000 | R55: =K55-Q55 -> 0 | T55: =(L55+N55)/2 -> 191957.84 | U55: =(T55-K55)/K55 -> 0.33304056 | W55: 295000 | X55: =(W55-K55)/K55 -> 1.0486111 | Y55: =(W55-T55)/T55 -> 0.53679579
A56: Stonehold | B56: =Area!D54 -> 269159.01 | C56: 2 | D56: 2 | E56: 1 | F56: 1 | G56: 0.02 | H56: =C56*(D56/3)*(E56/3)*F56 -> 0.44444444 | I56: =B56*H56 -> 119626.23 | J56: =G56*B56*250/$G$11 -> 168224.38 | K56: =Density!D49 -> 55000 | L56: =I56 -> 119626.23 | M56: =(L56-K56)/K56 -> 1.1750223 | N56: =J56 -> 168224.38 | O56: =(N56-K56)/K56 -> 2.0586251 | Q56: 55000 | R56: =K56-Q56 -> 0 | T56: =(L56+N56)/2 -> 143925.3 | U56: =(T56-K56)/K56 -> 1.6168237 | W56: 141000 | X56: =(W56-K56)/K56 -> 1.5636364 | Y56: =(W56-T56)/T56 -> -0.02032515
A57: Sunndi | B57: =Area!D55 -> 142400.76 | C57: 3 | D57: 5 | E57: 4 | F57: 1 | G57: 0.15 | H57: =C57*(D57/3)*(E57/3)*F57 -> 6.6666667 | I57: =B57*H57 -> 949338.39 | J57: =G57*B57*250/$G$11 -> 667503.55 | K57: =Density!D50 -> 125000 | L57: =I57 -> 949338.39 | M57: =(L57-K57)/K57 -> 6.5947071 | N57: =J57 -> 667503.55 | O57: =(N57-K57)/K57 -> 4.3400284 | Q57: 125000 | R57: =K57-Q57 -> 0 | T57: =(L57+N57)/2 -> 808420.97 | U57: =(T57-K57)/K57 -> 5.4673678 | W57: 506000 | X57: =(W57-K57)/K57 -> 3.048 | Y57: =(W57-T57)/T57 -> -0.37408848
A58: Tenh | B58: =Area!D56 -> 120824.89 | C58: 1 | D58: 4 | E58: 2 | F58: 1 | G58: 0.05 | H58: =C58*(D58/3)*(E58/3)*F58 -> 0.88888889 | I58: =B58*H58 -> 107399.9 | J58: =G58*B58*250/$G$11 -> 188788.88 | K58: =Density!D51 -> 195000 | L58: =I58 -> 107399.9 | M58: =(L58-K58)/K58 -> -0.44923129 | N58: =J58 -> 188788.88 | O58: =(N58-K58)/K58 -> -0.031851877 | Q58: 195000 | R58: =K58-Q58 -> 0 | T58: =(L58+N58)/2 -> 148094.39 | U58: =(T58-K58)/K58 -> -0.24054158 | W58: 503000 | X58: =(W58-K58)/K58 -> 1.5794872 | Y58: =(W58-T58)/T58 -> 2.3964824
... A70: Verbobonc, lands of | B70: =Area!D68 -> 20294.805 | C70: 3 | D70: 5 | E70: 3 | F70: 2 | G70: 0.3 | H70: =C70*(D70/3)*(E70/3)*F70 -> 10 | I70: =B70*H70 -> 202948.05 | J70: =G70*B70*250/$G$11 -> 190263.8 | K70: =Density!D63 -> 177800 | L70: =I70 -> 202948.05 | M70: =(L70-K70)/K70 -> 0.1414401 | N70: =J70 -> 190263.8 | O70: =(N70-K70)/K70 -> 0.070100097 | Q70: 177800 | R70: =K70-Q70 -> 0 | T70: =(L70+N70)/2 -> 196605.92 | U70: =(T70-K70)/K70 -> 0.1057701 | W70: 139000 | X70: =(W70-K70)/K70 -> -0.21822272 | Y70: =(W70-T70)/T70 -> -0.29300197
A71: Wild coast | B71: =Area!D69 -> 70256.435 | C71: 2 | D71: 5 | E71: 2 | F71: 1 | G71: 0.05 | H71: =C71*(D71/3)*(E71/3)*F71 -> 2.2222222 | I71: =B71*H71 -> 156125.41 | J71: =G71*B71*250/$G$11 -> 109775.68 | K71: =Density!D64 -> 160000 | L71: =I71 -> 156125.41 | M71: =(L71-K71)/K71 -> -0.024216185 | N71: =J71 -> 109775.68 | O71: =(N71-K71)/K71 -> -0.313902 | Q71: =40000+120000 -> 160000 | R71: =K71-Q71 -> 0 | T71: =(L71+N71)/2 -> 132950.54 | U71: =(T71-K71)/K71 -> -0.16905909 | W71: 160000 | X71: =(W71-K71)/K71 -> 0 | Y71: =(W71-T71)/T71 -> 0.20345502
A72: Wolf nomads | B72: =Area!D70 -> 407918.84 | C72: 2 | D72: 3 | E72: 2 | F72: 1 | G72: 0.03 | H72: =C72*(D72/3)*(E72/3)*F72 -> 1.3333333 | I72: =B72*H72 -> 543891.78 | J72: =G72*B72*250/$G$11 -> 382423.91 | K72: =Density!D65 -> 120000 | L72: =I72 -> 543891.78 | M72: =(L72-K72)/K72 -> 3.5324315 | N72: =J72 -> 382423.91 | O72: =(N72-K72)/K72 -> 2.1868659 | Q72: 120000 | R72: =K72-Q72 -> 0 | T72: =(L72+N72)/2 -> 463157.85 | U72: =(T72-K72)/K72 -> 2.8596487 | W72: 182000 | X72: =(W72-K72)/K72 -> 0.51666667 | Y72: =(W72-T72)/T72 -> -0.60704542
A73: Yeomanry | B73: =Area!D71 -> 126690.83 | C73: 3 | D73: 5 | E73: 2 | F73: 1 | G73: 0.1 | H73: =C73*(D73/3)*(E73/3)*F73 -> 3.3333333 | I73: =B73*H73 -> 422302.75 | J73: =G73*B73*250/$G$11 -> 395908.83 | K73: =Density!D66 -> 305900 | L73: =I73 -> 422302.75 | M73: =(L73-K73)/K73 -> 0.38052551 | N73: =J73 -> 395908.83 | O73: =(N73-K73)/K73 -> 0.29424267 | Q73: 305900 | R73: =K73-Q73 -> 0 | T73: =(L73+N73)/2 -> 409105.79 | U73: =(T73-K73)/K73 -> 0.33738409 | W73: 378000 | X73: =(W73-K73)/K73 -> 0.23569794 | Y73: =(W73-T73)/T73 -> -0.076033616
A74: Zeif | B74: =Area!D72 -> 522405.81 | C74: 4 | D74: 3 | E74: 2 | F74: 1 | G74: 0.1 | H74: =C74*(D74/3)*(E74/3)*F74 -> 2.6666667 | I74: =B74*H74 -> 1393082.2 | J74: =G74*B74*250/$G$11 -> 1632518.2 | K74: =Density!D67 -> 1628300 | L74: =I74 -> 1393082.2 | M74: =(L74-K74)/K74 -> -0.14445608 | N74: =J74 -> 1632518.2 | O74: =(N74-K74)/K74 -> 0.0025905315 | Q74: 1628300 | R74: =K74-Q74 -> 0 | T74: =(L74+N74)/2 -> 1512800.2 | U74: =(T74-K74)/K74 -> -0.070932774 | W74: 976000 | X74: =(W74-K74)/K74 -> -0.40060185 | Y74: =(W74-T74)/T74 -> -0.35483878
A76: New countries | B76: Area (km2) | C76: Stability | D76: Fertility | E76: Environment | F76: Special | G76: Tamed area (%) | H76: Suggested density (pop / km2) | I76: Suggested population | J76: Suggested population | K76: LGG population | L76: Population | M76: % change | N76: Population | O76: % change
A77: Western Olman island | B77: 6500 | C77: 4 | D77: 4 | E77: 3 | F77: 1 | G77: 0.2 | H77: =C77*(D77/3)*(E77/3)*F77 -> 5.3333333 | I77: =B77*H77 -> 34666.667 | J77: =G77*B77*250/$G$11 -> 40625 | L77: =I77 -> 34666.667 | M77: =(L77-K77)/K77 -> #DIV/0! | N77: =J77 -> 40625 | O77: =(N77-K77)/K77 -> #DIV/0! | T77: =(L77+N77)/2 -> 37645.833
A78: Hepmonaland | B78: 5614887 | C78: 2 | D78: 2 | E78: 3 | F78: 1 | G78: 0.03 | H78: =C78*(D78/3)*(E78/3)*F78 -> 1.3333333 | I78: =B78*H78 -> 7486516 | J78: =G78*B78*250/$G$11 -> 5263956.6 | L78: =I78 -> 7486516 | M78: =(L78-K78)/K78 -> #DIV/0! | N78: =J78 -> 5263956.6 | O78: =(N78-K78)/K78 -> #DIV/0!
A79: Amedio | B79: 938987.24 | C79: 2 | D79: 2 | E79: 2 | F79: 1 | G79: 0.02 | H79: =C79*(D79/3)*(E79/3)*F79 -> 0.88888889 | I79: =B79*H79 -> 834655.32 | J79: =G79*B79*250/$G$11 -> 586867.02 | L79: =I79 -> 834655.32 | M79: =(L79-K79)/K79 -> #DIV/0! | N79: =J79 -> 586867.02 | O79: =(N79-K79)/K79 -> #DIV/0!
A82: Stability factor: how secure does the population feel to have and raise children
A83: 5 = Country has been stable for several centuries.
A84: 4 = Country has been stable for a few decades.
A85: 3 = Country has occasional border skirmishes with its neighbors.
A86: 2 = Country is constantly under threat, either internal civil war or by external factors.
A87: 1 = Country is recovering from a being conquered or numerous civil wars.
A89: Fertility factor: how easy is it to get food to feed the population
A90: 5 = The country is a breadbasket. Excellent soil and two harvests per year.
A91: 4 = The country has good soil and natural hunting grounds.
A92: 3 = The country has average soil and a moderate amunt of hunting grounds.
A93: 2 = The country is difficult to grow food in.
A94: 1 = The country is real hard to farm and the livestock is difficult to feed.
... A102: 1 = The climate is harsh and it is dangerous to live here.

Sheet Population by age
A2: From 1e DMG | S2: 200 years | AC2: 400 years | AM2: 1200 years | AW2: Average
H3: Children | I3: Young Adult | J3: Mature | K3: Middle-age | L3: Old | M3: Venerable | N3: Breeding age range | O3: # of children | P3: # of surviving children | S3: Children | T3: Young Adult | U3: Mature | V3: Middle-Age | W3: Old | X3: Venerable | Y3: Total | Z3: Able-bodied | AC3: Children | AD3: Young Adult | AE3: Mature | AF3: Middle-Age | AG3: Old | AH3: Venerable | AI3: Total | AJ3: Able-bodied | AM3: Children | AN3: Young Adult | AO3: Mature | AP3: Middle-Age | AQ3: Old | AR3: Venerable | AS3: Total | AT3: Able-bodied | AW3: Children | AX3: Young Adult | AY3: Mature | AZ3: Middle-Age | BA3: Old | BB3: Venerable | BC3: Able-bodied
G4: Dwarf | H4: 1 to 34 | I4: 35 to 50 | J4: 51 to 150 | K4: 151 to 250 | L4: 251 to 350 | M4: 351 to 450 | N4: 42 to 100 | O4: =D85 -> 4 | P4: =D86 -> 3.6 | R4: Dwarf | S4: =D89 -> 186.624 | T4: =D90 -> 80.8632 | U4: =D91 -> 330 | V4: =D737 -> 0 | W4: =D93 -> 0 | X4: =D94 -> 0 | Y4: =SUM(S4:X4) -> 597.4872 | Z4: =U4+10/15*T4+V4 -> 383.9088 | AB4: Dwarf | AC4: =D97 -> 201.55392 | AD4: =D98 -> 203.24598 | AE4: =D99 -> 321.408 | AF4: =D100 -> 347.04 | AG4: =D101 -> 280.5 | AH4: =D102 -> 108 | AI4: =SUM(AC4:AH4) -> 1461.7479 | AJ4: =AE4+10/15*AD4+AF4 -> 803.94532 | AL4: Dwarf | AM4: =D105 -> 2396.1 | AN4: =D106 -> 1038.2176 | AO4: =D107 -> 4236.9309 | AP4: =D108 -> 2578.5362 | AQ4: =D109 -> 2084.1385 | AR4: =D110 -> 895.32509 | AS4: =SUM(AM4:AR4) -> 13229.248 | AT4: =AO4+10/15*AN4+AP4 -> 7507.6122 | AV4: Dwarf | AW4: =34/450 -> 0.075555556 | AX4: =16/450 -> 0.035555556 | AY4: =100/450 -> 0.22222222 | AZ4: =100/450 -> 0.22222222 | BA4: =100/450 -> 0.22222222 | BB4: =100/450 -> 0.22222222 | BD4: By age straight line
M5: 450 | N5: =(42+100)/2 -> 71 | S5: =S4/$Y4 -> 0.31234811 | T5: =T4/$Y4 -> 0.1353388 | U5: =U4/$Y4 -> 0.55231309 | V5: =V4/$Y4 -> 0 | W5: =W4/$Y4 -> 0 | X5: =X4/$Y4 -> 0 | Z5: =Z4/$Y4 -> 0.64253895 | AC5: =AC4/$AI4 -> 0.13788555 | AD5: =AD4/$AI4 -> 0.13904311 | AE5: =AE4/$AI4 -> 0.21987923 | AF5: =AF4/$AI4 -> 0.2374144 | AG5: =AG4/$AI4 -> 0.19189355 | AH5: =AH4/$AI4 -> 0.073884149 | AJ5: =AJ4/$AI4 -> 0.54998904 | AM5: =AM4/$AS4 -> 0.1811214 | AN5: =AN4/$AS4 -> 0.078478953 | AO5: =AO4/$AS4 -> 0.32026997 | AP5: =AP4/$AS4 -> 0.19491177 | AQ5: =AQ4/$AS4 -> 0.1575402 | AR5: =AR4/$AS4 -> 0.067677699 | AT5: =AT4/$AS4 -> 0.56750104 | AW5: =(S5+AC5+AM5)/3 -> 0.21045169 | AX5: =(T5+AD5+AN5)/3 -> 0.11762029 | AY5: =(U5+AE5+AO5)/3 -> 0.36415409 | AZ5: =(V5+AF5+AP5)/3 -> 0.14410872 | BA5: =(W5+AG5+AQ5)/3 -> 0.11647792 | BB5: =(X5+AH5+AR5)/3 -> 0.047187283 | BC5: =(AT5+AJ5+Z5)/3 -> 0.58667634
G6: Elves | H6: 1 to 99 | I6: 100 to 175 | J6: 176 to 550 | K6: 551 to 875 | L6: 876 to 1200 | M6: 1200 to 1600 | N6: 137 to 363 | O6: =D129 -> 3.9 | P6: =D130 -> 3.7 | R6: Elves | S6: =D133 -> 72.9825 | T6: =D134 -> 0 | U6: =D135 -> 100 | V6: =D136 -> 0 | W6: =D137 -> 0 | X6: =D138 -> 0 | Y6: =SUM(S6:X6) -> 172.9825 | Z6: =U6+1/2*T6+V6 -> 100 | AB6: Elves | AC6: =D141 -> 93.660875 | AD6: =D142 -> 69.375 | AE6: =D143 -> 169.375 | AF6: =D144 -> 0 | AG6: =D145 -> 0 | AH6: =D146 -> 0 | AI6: =SUM(AC6:AH6) -> 332.41088 | AJ6: =AE6+1/2*AD6+AF6 -> 204.0625 | AL6: Elves | AM6: =D149 -> 729.26317 | AN6: =D150 -> 338.00729 | AO6: =D151 -> 1229.874 | AP6: =D152 -> 397.12671 | AQ6: =D153 -> 222.59375 | AR6: =D154 -> 0 | AS6: =SUM(AM6:AR6) -> 2916.865 | AT6: =AO6+1/2*AN6+AP6 -> 1796.0044 | AV6: Elves | AW6: =99/1600 -> 0.061875 | AX6: =75/1600 -> 0.046875 | AY6: =375/1600 -> 0.234375 | AZ6: =325/1600 -> 0.203125 | BA6: =325/1600 -> 0.203125 | BB6: =400/1600 -> 0.25 | BD6: By age straight line
M7: 1600 | N7: =(363+137)/2 -> 250 | S7: =S6/$Y6 -> 0.42190684 | T7: =T6/$Y6 -> 0 | U7: =U6/$Y6 -> 0.57809316 | V7: =V6/$Y6 -> 0 | W7: =W6/$Y6 -> 0 | X7: =X6/$Y6 -> 0 | Z7: =Z6/$Y6 -> 0.57809316 | AC7: =AC6/$AI6 -> 0.28176237 | AD7: =AD6/$AI6 -> 0.20870256 | AE7: =AE6/$AI6 -> 0.50953507 | AF7: =AF6/$AI6 -> 0 | AG7: =AG6/$AI6 -> 0 | AH7: =AH6/$AI6 -> 0 | AJ7: =AJ6/$AI6 -> 0.61388635 | AM7: =AM6/$AS6 -> 0.25001609 | AN7: =AN6/$AS6 -> 0.11588034 | AO7: =AO6/$AS6 -> 0.42164243 | AP7: =AP6/$AS6 -> 0.13614847 | AQ7: =AQ6/$AS6 -> 0.076312669 | AR7: =AR6/$AS6 -> 0 | AT7: =AT6/$AS6 -> 0.61573107 | AW7: =(S7+AC7+AM7)/3 -> 0.3178951 | AX7: =(T7+AD7+AN7)/3 -> 0.1081943 | AY7: =(U7+AE7+AO7)/3 -> 0.50309022 | AZ7: =(V7+AF7+AP7)/3 -> 0.045382824 | BA7: =(W7+AG7+AQ7)/3 -> 0.025437556 | BB7: =(X7+AH7+AR7)/3 -> 0 | BC7: =(AT7+AJ7+Z7)/3 -> 0.6025702
G8: Gnome | H8: 1 to 49 | I8: 50 to 90 | J8: 91 to 300 | K8: 301 to 450 | L8: 451 to 600 | M8: 601 to 750 | N8: 70 to 196 | O8: =D189 -> 4.4 | P8: =D190 -> 4.1 | R8: Gnome | S8: =D193 -> 94.708633 | T8: =D194 -> 82.82 | U8: =D195 -> 211.5 | V8: =D196 -> 0 | W8: =D197 -> 0 | X8: =D198 -> 0 | Y8: =SUM(S8:X8) -> 389.02863 | Z8: =U8+T8/2+V8 -> 252.91 | AB8: Gnome | AC8: =D201 -> 243.06139 | AD8: =D202 -> 66.969172 | AE8: =D203 -> 395.65 | AF8: =D204 -> 211.5 | AG8: =D205 -> 0 | AH8: =D206 -> 0 | AI8: =SUM(AC8:AH8) -> 917.18057 | AJ8: =AE8+AD8/2+AF8 -> 640.63459 | AL8: Gnome | AM8: =D209 -> 1583.7681 | AN8: =D210 -> 436.36564 | AO8: =D211 -> 2711.5993 | AP8: =D212 -> 1146.8016 | AQ8: =D213 -> 735.445 | AR8: =D214 -> 305.54977 | AS8: =SUM(AM8:AR8) -> 6919.5294 | AT8: =AO8+AN8/2+AP8 -> 4076.5837 | AV8: Gnome | AW8: =49/750 -> 0.065333333 | AX8: =40/750 -> 0.053333333 | AY8: =210/750 -> 0.28 | AZ8: =150/750 -> 0.2 | BA8: =150/750 -> 0.2 | BB8: =150/750 -> 0.2 | BD8: By age straight line
M9: 750 | N9: =(196+70)/2 -> 133 | S9: =S8/$Y8 -> 0.243449 | T9: =T8/$Y8 -> 0.21288921 | U9: =U8/$Y8 -> 0.54366178 | V9: =V8/$Y8 -> 0 | W9: =W8/$Y8 -> 0 | X9: =X8/$Y8 -> 0 | Z9: =Z8/$Y8 -> 0.65010639 | AC9: =AC8/$AI8 -> 0.26500931 | AD9: =AD8/$AI8 -> 0.073016345 | AE9: =AE8/$AI8 -> 0.43137634 | AF9: =AF8/$AI8 -> 0.230598 | AG9: =AG8/$AI8 -> 0 | AH9: =AH8/$AI8 -> 0 | AJ9: =AJ8/$AI8 -> 0.69848251 | AM9: =AM8/$AS8 -> 0.22888379 | AN9: =AN8/$AS8 -> 0.063062907 | AO9: =AO8/$AS8 -> 0.39187626 | AP9: =AP8/$AS8 -> 0.16573404 | AQ9: =AQ8/$AS8 -> 0.10628541 | AR9: =AR8/$AS8 -> 0.044157594 | AT9: =AT8/$AS8 -> 0.58914175 | AW9: =(S9+AC9+AM9)/3 -> 0.2457807 | AX9: =(T9+AD9+AN9)/3 -> 0.11632282 | AY9: =(U9+AE9+AO9)/3 -> 0.45563813 | AZ9: =(V9+AF9+AP9)/3 -> 0.13211068 | BA9: =(W9+AG9+AQ9)/3 -> 0.035428469 | BB9: =(X9+AH9+AR9)/3 -> 0.014719198 | BC9: =(AT9+AJ9+Z9)/3 -> 0.64591022
G10: Halfling | H10: 1 to 21 | I10: 22 to 33 | J10: 34 to 68 | K10: 69 to 101 | L10: 102 to 144 | M10: 145 to 199 | N10: 27 to 51 | O10: =D243 -> 3.2 | P10: =D244 -> 2.5 | R10: Halfling | S10: =D247 -> 295.33386 | T10: =D248 -> 132.24284 | U10: =D249 -> 154.6224 | V10: =D250 -> 159.50521 | W10: =D251 -> 153.28776 | X10: =D252 -> 122.5 | Y10: =SUM(S10:X10) -> 1017.4921 | Z10: =U10+6/12*T10+V10 -> 380.24902 | AB10: Halfling | AC10: =D255 -> 735.74483 | AD10: =D256 -> 290.57264 | AE10: =D257 -> 608.46408 | AF10: =D258 -> 509.12301 | AG10: =D259 -> 543.79304 | AH10: =D260 -> 221.25244 | AI10: =SUM(AC10:AH10) -> 2908.9501 | AJ10: =AE10+6/12*AD10+AF10 -> 1262.8734 | AL10: Halfling | AM10: =D263 -> 67804.173 | AN10: =D264 -> 28003.51 | AO10: =D265 -> 45774.969 | AP10: =D266 -> 40928.207 | AQ10: =D267 -> 42479.171 | AR10: =D268 -> 37223.128 | AS10: =SUM(AM10:AR10) -> 262213.16 | AT10: =AO10+6/12*AN10+AP10 -> 100704.93 | AV10: Halfling | AW10: =21/199 -> 0.10552764 | AX10: =12/199 -> 0.060301508 | AY10: =35/199 -> 0.1758794 | AZ10: =33/199 -> 0.16582915 | BA10: =44/199 -> 0.22110553 | BB10: =54/199 -> 0.27135678 | BD10: By age straight line
M11: 199 | N11: =(27+51)/2 -> 39 | S11: =S10/$Y10 -> 0.29025667 | T11: =T10/$Y10 -> 0.12996941 | U11: =U10/$Y10 -> 0.15196423 | V11: =V10/$Y10 -> 0.1567631 | W11: =W10/$Y10 -> 0.15065254 | X11: =X10/$Y10 -> 0.12039406 | Z11: =Z10/$Y10 -> 0.37371203 | AC11: =AC10/$AI10 -> 0.25292453 | AD11: =AD10/$AI10 -> 0.099889183 | AE11: =AE10/$AI10 -> 0.20916966 | AF11: =AF10/$AI10 -> 0.17501951 | AG11: =AG10/$AI10 -> 0.18693791 | AH11: =AH10/$AI10 -> 0.07605921 | AJ11: =AJ10/$AI10 -> 0.43413376 | AM11: =AM10/$AS10 -> 0.25858417 | AN11: =AN10/$AS10 -> 0.10679674 | AO11: =AO10/$AS10 -> 0.17457159 | AP11: =AP10/$AS10 -> 0.15608754 | AQ11: =AQ10/$AS10 -> 0.16200244 | AR11: =AR10/$AS10 -> 0.14195751 | AT11: =AT10/$AS10 -> 0.38405751 | AW11: =(S11+AC11+AM11)/3 -> 0.26725513 | AX11: =(T11+AD11+AN11)/3 -> 0.11221844 | AY11: =(U11+AE11+AO11)/3 -> 0.17856849 | AZ11: =(V11+AF11+AP11)/3 -> 0.16262338 | BA11: =(W11+AG11+AQ11)/3 -> 0.16653096 | BB11: =(X11+AH11+AR11)/3 -> 0.11280359 | BC11: =(AT11+AJ11+Z11)/3 -> 0.3973011
G12: Human | H12: 1 to 13 | I12: 14 to 20 | J12: 21 to 40 | K12: 41 to 60 | L12: 61 to 90 | M12: 91 to 120 | N12: 17 to 31 | O12: =D30 -> 5 | P12: =D31 -> 2.5 | R12: Human | S12: =D34 -> 498.36106 | T12: =D35 -> 361.628 | U12: =D36 -> 452.00189 | V12: =D37 -> 300.40741 | W12: =D38 -> 286.10229 | X12: =D39 -> 163.77767 | Y12: =SUM(S12:X12) -> 2062.2783 | Z12: =U12+T12*4/7+V12 -> 959.05387 | AB12: Human | AC12: =D42 -> 2970.4634 | AD12: =D43 -> 1844.2531 | AE12: =D44 -> 2329.0012 | AF12: =D45 -> 2017.9414 | AG12: =D46 -> 1989.5197 | AH12: =D47 -> 757.91225 | AI12: =SUM(AC12:AH12) -> 11909.091 | AJ12: =AE12+AD12*4/7+AF12 -> 5400.8015 | AL12: Human | AM12: =D50 -> 8501210.7 | AN12: =D51 -> 2273217.5 | AO12: =D52 -> 4172755.4 | AP12: =D53 -> 3901214.9 | AQ12: =D54 -> 2600809.9 | AR12: =D55 -> 2152394.4 | AS12: =SUM(AM12:AR12) -> 23601603 | AT12: =AO12+AN12*4/7+AP12 -> 9372951.8 | AV12: Human | AW12: =13/120 -> 0.10833333 | AX12: =7/120 -> 0.058333333 | AY12: =20/120 -> 0.16666667 | AZ12: =20/120 -> 0.16666667 | BA12: =30/120 -> 0.25 | BB12: =30/120 -> 0.25 | BD12: By age straight line
A13: From Dragon #141. | M13: 120 | N13: =(17+31)/2 -> 24 | S13: =S12/$Y12 -> 0.24165558 | T13: =T12/$Y12 -> 0.17535364 | U13: =U12/$Y12 -> 0.21917599 | V13: =V12/$Y12 -> 0.14566773 | W13: =W12/$Y12 -> 0.13873117 | X13: =X12/$Y12 -> 0.07941589 | Z13: =Z12/$Y12 -> 0.4650458 | AC13: =AC12/$AI12 -> 0.24942822 | AD13: =AD12/$AI12 -> 0.15486095 | AE13: =AE12/$AI12 -> 0.19556498 | AF13: =AF12/$AI12 -> 0.16944546 | AG13: =AG12/$AI12 -> 0.1670589 | AH13: =AH12/$AI12 -> 0.063641486 | AJ13: =AJ12/$AI12 -> 0.45350241 | AM13: =AM12/$AS12 -> 0.36019633 | AN13: =AN12/$AS12 -> 0.096316234 | AO13: =AO12/$AS12 -> 0.17679966 | AP13: =AP12/$AS12 -> 0.16529449 | AQ13: =AQ12/$AS12 -> 0.11019633 | AR13: =AR12/$AS12 -> 0.09119696 | AT13: =AT12/$AS12 -> 0.397132 | AW13: =(S13+AC13+AM13)/3 -> 0.28376004 | AX13: =(T13+AD13+AN13)/3 -> 0.14217694 | AY13: =(U13+AE13+AO13)/3 -> 0.19718021 | AZ13: =(V13+AF13+AP13)/3 -> 0.16013589 | BA13: =(W13+AG13+AQ13)/3 -> 0.13866213 | BB13: =(X13+AH13+AR13)/3 -> 0.078084779 | BC13: =(AT13+AJ13+Z13)/3 -> 0.43856007
G14: Orc | H14: 1 to 7 | I14: 8 to 10 | J14: 11 to 20 | K14: 21 to 30 | L14: 31 to 40 | M14: 41 to 55 | N14: 9 to 15 | O14: =D287 -> 8.5 | P14: =D288 -> 3.5 | R14: Orc | S14: =D291 -> 3092.2738 | T14: =D292 -> 2079.775 | U14: =D293 -> 757.29154 | V14: =D294 -> 719.42697 | W14: =D295 -> 1168.3927 | X14: =D296 -> 953.78993 | Y14: =SUM(S14:X14) -> 8770.9499 | Z14: =U14+2/3*T14+V14 -> 2863.2352 | AB14: Orc | AC14: =D299 -> 36427.266 | AD14: =D300 -> 12249.969 | AE14: =D301 -> 10407.79 | AF14: =D302 -> 11299.887 | AG14: =D303 -> 12234.464 | AH14: =D304 -> 12452.936 | AI14: =SUM(AC14:AH14) -> 95072.312 | AJ14: =AE14+2/3*AD14+AF14 -> 29874.323 | AL14: Orc | AM14: =D307 -> 500635.91 | AN14: =D308 -> 168356.71 | AO14: =D309 -> 224775.31 | AP14: =D310 -> 221856.15 | AQ14: =D311 -> 126107.7 | AR14: =D312 -> 108092.32 | AS14: =SUM(AM14:AR14) -> 1349824.1 | AT14: =AO14+AN14*4/7+AP14 -> 542835.29 | AV14: Orc | AW14: =7/55 -> 0.12727273 | AX14: =3/55 -> 0.054545455 | AY14: =10/55 -> 0.18181818 | AZ14: =10/55 -> 0.18181818 | BA14: =10/55 -> 0.18181818 | BB14: =15/55 -> 0.27272727 | BD14: By age straight line
M15: 55 | N15: =(9+15)/2 -> 12 | S15: =S14/$Y14 -> 0.3525586 | T15: =T14/$Y14 -> 0.23712084 | U15: =U14/$Y14 -> 0.086340881 | V15: =V14/$Y14 -> 0.082023837 | W15: =W14/$Y14 -> 0.13321164 | X15: =X14/$Y14 -> 0.1087442 | Z15: =Z14/$Y14 -> 0.32644528 | AC15: =AC14/$AI14 -> 0.38315326 | AD15: =AD14/$AI14 -> 0.12884897 | AE15: =AE14/$AI14 -> 0.10947236 | AF15: =AF14/$AI14 -> 0.1188557 | AG15: =AG14/$AI14 -> 0.12868588 | AH15: =AH14/$AI14 -> 0.13098384 | AJ15: =AJ14/$AI14 -> 0.31422737 | AL15: (600 years) | AM15: =AM14/$AS$14 -> 0.37088974 | AN15: =AN14/$AS$14 -> 0.12472492 | AO15: =AO14/$AS$14 -> 0.16652193 | AP15: =AP14/$AS$14 -> 0.1643593 | AQ15: =AQ14/$AS$14 -> 0.093425288 | AR15: =AR14/$AS$14 -> 0.080078818 | AT15: =AT14/$AS14 -> 0.40215261 | AW15: =(S15+AC15+AM15)/3 -> 0.3688672 | AX15: =(T15+AD15+AN15)/3 -> 0.16356491 | AY15: =(U15+AE15+AO15)/3 -> 0.12077839 | AZ15: =(V15+AF15+AP15)/3 -> 0.12174628 | BA15: =(W15+AG15+AQ15)/3 -> 0.11844094 | BB15: =(X15+AH15+AR15)/3 -> 0.10660229 | BC15: =(AT15+AJ15+Z15)/3 -> 0.34760842
A30: HUMANS | B30: Total born | D30: 5 | G30: Born Year -->
B31: Children reaching breeding age | D31: 2.5 | E31: =D31/D30 -> 0.5 | F31: Generation | G31: 0 | H31: =G31+$N$13/2 -> 12 | I31: =H31+$N$13/2 -> 24 | J31: =I31+$N$13/2 -> 36 | K31: =J31+$N$13/2 -> 48 | L31: =K31+$N$13/2 -> 60 | M31: =L31+$N$13/2 -> 72 | N31: =M31+$N$13/2 -> 84 | O31: =N31+$N$13/2 -> 96 | ... DC31: =DB31+$N$13/2 -> 1200
B32: Female to Male ratio | D32: 0.5 | F32: 0 | G32: =50/D32 -> 100
C33: Death Factor | F33: 1 | H33: =G32*$D$32*$D$31/6 -> 20.833333 | I33: =G32*$D$32*4/6*$D$31 -> 83.333333 | J33: =G32*$D$32*$D$31/6 -> 20.833333
B34: Year 200 children = | C34: -0.4 | D34: =(1-C34)*(X40+X41+W40/3) -> 498.36106 | E34: =D34/$D$40 -> 0.24165558 | F34: 2 | J34: =H33*$D$32*$D$31 -> 26.041667 | K34: =I33*$D$32*$D$31 -> 104.16667 | L34: =J33*$D$32*$D$31 -> 26.041667
B35: Year 200 young = | C35: -0.168 | D35: =(1-C35)*(W40*2/3+V39/4+V40/4) -> 361.628 | E35: =D35/$D$40 -> 0.17535364 | F35: 3 | L35: =J34*$D$32*$D$31 -> 32.552083 | M35: =K34*$D$32*$D$31 -> 130.20833 | N35: =L34*$D$32*$D$31 -> 32.552083
B36: Year 200 mature = | C36: 0 | D36: =(1-C36)*(V39*3/4+V40*3/4+U39) -> 452.00189 | E36: =D36/$D$40 -> 0.21917599 | F36: 4 | N36: =L35*$D$32*$D$31 -> 40.690104 | O36: =M35*$D$32*$D$31 -> 162.76042 | P36: =N35*$D$32*$D$31 -> 40.690104
B37: Year 200 middle age = | C37: 0.1 | D37: =(1-C37)*(T38+T39+S38*3/4) -> 300.40741 | E37: =D37/$D$40 -> 0.14566773 | F37: 5 | P37: =N36*$D$32*$D$31 -> 50.86263 | Q37: =O36*$D$32*$D$31 -> 203.45052 | R37: =P36*$D$32*$D$31 -> 50.86263
B38: Year 200 old = | C38: 0.25 | D38: =(1-C38)*(S38/4+R37+R38+Q37) -> 286.10229 | E38: =D38/$D$40 -> 0.13873117 | F38: 6 | R38: =P37*$D$32*$D$31 -> 63.578288 | S38: =Q37*$D$32*$D$31 -> 254.31315 | T38: =R37*$D$32*$D$31 -> 63.578288
B39: Year 200 venerable = | C39: 0.5 | D39: =(1-C39)*(P36+P37+O36+N35+N36) -> 163.77767 | E39: =D39/$D$40 -> 0.07941589 | F39: 7 | T39: =R38*$D$32*$D$31 -> 79.47286 | U39: =S38*$D$32*$D$31 -> 317.89144 | V39: =T38*$D$32*$D$31 -> 79.47286
B40: Year 200 total = | D40: =SUM(D34:D39) -> 2062.2783 | F40: 8 | V40: =T39*$D$32*$D$31 -> 99.341075 | W40: =U39*$D$32*$D$31 -> 397.3643 | X40: =V39*$D$32*$D$31 -> 99.341075
F41: 9 | X41: =V40*$D$32*$D$31 -> 124.17634 | Y41: =W40*$D$32*$D$31 -> 496.70537 | Z41: =X40*$D$32*$D$31 -> 124.17634
B42: Year 400 children = | C42: -0.4 | D42: =(1-C42)*(AN49+AN48+AM48/3) -> 2970.4634 | E42: =D42/$D$48 -> 0.24942822 | F42: 10 | Z42: =X41*$D$32*$D$31 -> 155.22043 | AA42: =Y41*$D$32*$D$31 -> 620.88172 | AB42: =Z41*$D$32*$D$31 -> 155.22043
B43: Year 400 young = | C43: -0.168 | D43: =(1-C43)*(AM48*2/3) -> 1844.2531 | E43: =D43/$D$48 -> 0.15486095 | F43: 11 | AB43: =Z42*$D$32*$D$31 -> 194.02554 | AC43: =AA42*$D$32*$D$31 -> 776.10215 | AD43: =AB42*$D$32*$D$31 -> 194.02554
B44: Year 400 mature = | C44: 0 | D44: =(1-C44)*(AL47+AL48+AK47*2/3) -> 2329.0012 | E44: =D44/$D$48 -> 0.19556498 | F44: 12 | AD44: =AB43*$D$32*$D$31 -> 242.53192 | AE44: =AC43*$D$32*$D$31 -> 970.12768 | AF44: =AD43*$D$32*$D$31 -> 242.53192
B45: Year 400 middle age = | C45: 0.1 | D45: =(1-C45)*(AK47/3+AJ46+AJ47+AI46/2) -> 2017.9414 | E45: =D45/$D$48 -> 0.16944546 | F45: 13 | AF45: =AD44*$D$32*$D$31 -> 303.1649 | AG45: =AE44*$D$32*$D$31 -> 1212.6596 | AH45: =AF44*$D$32*$D$31 -> 303.1649
B46: Year 400 old = | C46: 0.25 | D46: =(1-C46)*(AI46/2+AH46+AH45+AG45) -> 1989.5197 | E46: =D46/$D$48 -> 0.1670589 | F46: 14 | AH46: =AF45*$D$32*$D$31 -> 378.95613 | AI46: =AG45*$D$32*$D$31 -> 1515.8245 | AJ46: =AH45*$D$32*$D$31 -> 378.95613
B47: Year 400 venerable = | C47: 0.5 | D47: =(1-C47)*(AF45+AF44+AE44) -> 757.91225 | E47: =D47/$D$48 -> 0.063641486 | F47: 15 | AJ47: =AH46*$D$32*$D$31 -> 473.69516 | AK47: =AI46*$D$32*$D$31 -> 1894.7806 | AL47: =AJ46*$D$32*$D$31 -> 473.69516
B48: Year 400 total = | D48: =SUM(D42:D47) -> 11909.091 | F48: 16 | AL48: =AJ47*$D$32*$D$31 -> 592.11895 | AM48: =AK47*$D$32*$D$31 -> 2368.4758 | AN48: =AL47*$D$32*$D$31 -> 592.11895
F49: 17 | AN49: =AL48*$D$32*$D$31 -> 740.14868 | AO49: =AM48*$D$32*$D$31 -> 2960.5947 | AP49: =AN48*$D$32*$D$31 -> 740.14868
B50: Year 1200 children = | C50: -0.4 | D50: =(1-C50)*(DC82+DB82*2/3+DB81*2/3) -> 8501210.7 | E50: =D50/$D$56 -> 0.36019633 | F50: 18 | AP50: =AN49*$D$32*$D$31 -> 925.18585 | AQ50: =AO49*$D$32*$D$31 -> 3700.7434 | AR50: =AP49*$D$32*$D$31 -> 925.18585
B51: Year 1200 young = | C51: -0.168 | D51: =(1-C51)*(DA81/3+DB81/3+DB82/3) -> 2273217.5 | E51: =D51/$D$56 -> 0.096316234 | F51: 19 | AR51: =AP50*$D$32*$D$31 -> 1156.4823 | AS51: =AQ50*$D$32*$D$31 -> 4625.9293 | AT51: =AR50*$D$32*$D$31 -> 1156.4823
B52: Year 1200 mature = | C52: 0 | D52: =(1-C52)*(DA81*2/3+CZ80+CZ81) -> 4172755.4 | E52: =D52/$D$56 -> 0.17679966 | F52: 20 | AT52: =AR51*$D$32*$D$31 -> 1445.6029 | AU52: =AS51*$D$32*$D$31 -> 5782.4116 | AV52: =AT51*$D$32*$D$31 -> 1445.6029
B53: Year 1200 middle age = | C53: 0.1 | D53: =(1-C53)*(CY80+CX80+CX79) -> 3901214.9 | E53: =D53/$D$56 -> 0.16529449 | F53: 21 | AV53: =AT52*$D$32*$D$31 -> 1807.0036 | AW53: =AU52*$D$32*$D$31 -> 7228.0145 | AX53: =AV52*$D$32*$D$31 -> 1807.0036
B54: Year 1200 old = | C54: 0.25 | D54: =(1-C54)*(CW79+CV79+CV78) -> 2600809.9 | E54: =D54/$D$56 -> 0.11019633 | F54: 22 | AX54: =AV53*$D$32*$D$31 -> 2258.7545 | AY54: =AW53*$D$32*$D$31 -> 9035.0181 | AZ54: =AX53*$D$32*$D$31 -> 2258.7545
B55: Year 1200 venerable = | C55: 0.5 | D55: =(1-C55)*(CU78+CT78+CT77+CS77) -> 2152394.4 | E55: =D55/$D$56 -> 0.09119696 | F55: 23 | AZ55: =AX54*$D$32*$D$31 -> 2823.4432 | BA55: =AY54*$D$32*$D$31 -> 11293.773 | BB55: =AZ54*$D$32*$D$31 -> 2823.4432
B56: Year 1200 total = | D56: =SUM(D50:D55) -> 23601603 | F56: 24 | BB56: =AZ55*$D$32*$D$31 -> 3529.3039 | BC56: =BA55*$D$32*$D$31 -> 14117.216 | BD56: =BB55*$D$32*$D$31 -> 3529.3039
F57: 25 | BD57: =BB56*$D$32*$D$31 -> 4411.6299 | BE57: =BC56*$D$32*$D$31 -> 17646.52 | BF57: =BD56*$D$32*$D$31 -> 4411.6299
B58: Year | C58: Generations | D58: Total pop | F58: 26 | BF58: =BD57*$D$32*$D$31 -> 5514.5374 | BG58: =BE57*$D$32*$D$31 -> 22058.15 | BH58: =BF57*$D$32*$D$31 -> 5514.5374
B59: 200 | C59: =ROUND((B59-$M$13)/$N$13+0.5,1) &" to "& ROUND(B59/$N$13-0.5,1) -> 3.8 to 7.8 | D59: =SUMPRODUCT($G$32*($D$31*$D$32)^({3.8,4.8,5.8,6.8,7.8})) -> 1916.2146 | F59: 27 | BH59: =BF58*$D$32*$D$31 -> 6893.1718 | BI59: =BG58*$D$32*$D$31 -> 27572.687 | BJ59: =BH58*$D$32*$D$31 -> 6893.1718
B60: 400 | C60: =ROUND((B60-$M$13)/$N$13+0.5,1) &" to "& ROUND(B60/$N$13-0.5,1) -> 12.2 to 16.2 | D60: =SUMPRODUCT($G$32*($D$31*$D$32)^({12.2,13.2,14.2,15.2,16.2})) -> 12487.866 | F60: 28 | BJ60: =BH59*$D$32*$D$31 -> 8616.4647 | BK60: =BI59*$D$32*$D$31 -> 34465.859 | BL60: =BJ59*$D$32*$D$31 -> 8616.4647
B61: 1200 | C61: =ROUND((B61-$M$13)/$N$13+0.5,1) &" to "& ROUND(B61/$N$13-0.5,1) -> 45.5 to 49.5 | D61: =SUMPRODUCT($G$32*($D$31*$D$32)^({45.5,46.5,47.5,48.5,49.5})) -> 21066466 | F61: 29 | BL61: =BJ60*$D$32*$D$31 -> 10770.581 | BM61: =BK60*$D$32*$D$31 -> 43082.324 | BN61: =BL60*$D$32*$D$31 -> 10770.581
B62: 3800 | C62: =ROUND((B62-$M$13)/$N$13+0.5,1) &" to "& ROUND(B62/$N$13-0.5,1) -> 153.8 to 157.8 | D62: =SUMPRODUCT($G$32*($D$31*$D$32)^({153.8,154.8,155.8,156.8,157.8})) -> 6.5909207e+17 | F62: 30 | BN62: =BL61*$D$32*$D$31 -> 13463.226 | BO62: =BM61*$D$32*$D$31 -> 53852.904 | BP62: =BN61*$D$32*$D$31 -> 13463.226
F63: 31 | BP63: =BN62*$D$32*$D$31 -> 16829.033 | BQ63: =BO62*$D$32*$D$31 -> 67316.131 | BR63: =BP62*$D$32*$D$31 -> 16829.033
C64: =100*D30 -> 500 | F64: 32 | BR64: =BP63*$D$32*$D$31 -> 21036.291 | BS64: =BQ63*$D$32*$D$31 -> 84145.163 | BT64: =BR63*$D$32*$D$31 -> 21036.291
B65: Children | C65: =C64*(1+C34) -> 300 | D65: =ROUND((1-C34)*C64-C64,0)&" die as children" -> 200 die as children | E65: =(C64-C65)/C64 -> 0.4 | F65: 33 | BT65: =BR64*$D$32*$D$31 -> 26295.364 | BU65: =BS64*$D$32*$D$31 -> 105181.45 | BV65: =BT64*$D$32*$D$31 -> 26295.364
B66: Young adults (early) | C66: =C65*(1+C35) -> 249.6 | D66: =ROUND((1-C35)*C65-C65,0)&" die before being able to procreate" -> 50 die before being able to procreate | E66: =(C65-C66)/C64 -> 0.1008 | F66: 34 | BV66: =BT65*$D$32*$D$31 -> 32869.204 | BW66: =BU65*$D$32*$D$31 -> 131476.82 | BX66: =BV65*$D$32*$D$31 -> 32869.204
B67: Young adults (late) | C67: =C66 -> 249.6 | D67: =ROUND(C67-(1-C36)*C67,0)&" die before being mature" -> 0 die before being mature | E67: =(C66-C67)/C64 -> 0 | F67: 35 | BX67: =BV66*$D$32*$D$31 -> 41086.505 | BY67: =BW66*$D$32*$D$31 -> 164346.02 | BZ67: =BX66*$D$32*$D$31 -> 41086.505
B68: Mature | C68: =C67*(1-C36) -> 249.6 | D68: =ROUND(C68-(1-C37)*C68,0)&" die before being middle-age" -> 25 die before being middle-age | E68: =(C68-C69)/C64 -> 0.04992 | F68: 36 | BZ68: =BX67*$D$32*$D$31 -> 51358.132 | CA68: =BY67*$D$32*$D$31 -> 205432.53 | CB68: =BZ67*$D$32*$D$31 -> 51358.132
B69: Middle-age | C69: =C68*(1-C37) -> 224.64 | D69: =ROUND(C69-(1-C38)*C69,0)&" die before being old" -> 56 die before being old | E69: =(C69-C70)/C64 -> 0.11232 | F69: 37 | CB69: =BZ68*$D$32*$D$31 -> 64197.665 | CC69: =CA68*$D$32*$D$31 -> 256790.66 | CD69: =CB68*$D$32*$D$31 -> 64197.665
B70: Old | C70: =C69*(1-C38) -> 168.48 | D70: =ROUND(C70-(1-C39)*C70,0)&" die before being venerable" -> 84 die before being venerable | E70: =(C70-C71)/C64 -> 0.16848 | F70: 38 | CD70: =CB69*$D$32*$D$31 -> 80247.081 | CE70: =CC69*$D$32*$D$31 -> 320988.32 | CF70: =CD69*$D$32*$D$31 -> 80247.081
B71: Venerable | C71: =C70*(1-C39) -> 84.24 | E71: =C71/C64 -> 0.16848 | F71: 39 | CF71: =CD70*$D$32*$D$31 -> 100308.85 | CG71: =CE70*$D$32*$D$31 -> 401235.41 | CH71: =CF70*$D$32*$D$31 -> 100308.85
F72: 40 | CH72: =CF71*$D$32*$D$31 -> 125386.06 | CI72: =CG71*$D$32*$D$31 -> 501544.26 | CJ72: =CH71*$D$32*$D$31 -> 125386.06
F73: 41 | CJ73: =CH72*$D$32*$D$31 -> 156732.58 | CK73: =CI72*$D$32*$D$31 -> 626930.32 | CL73: =CJ72*$D$32*$D$31 -> 156732.58
F74: 42 | CL74: =CJ73*$D$32*$D$31 -> 195915.73 | CM74: =CK73*$D$32*$D$31 -> 783662.9 | CN74: =CL73*$D$32*$D$31 -> 195915.73
F75: 43 | CN75: =CL74*$D$32*$D$31 -> 244894.66 | CO75: =CM74*$D$32*$D$31 -> 979578.63 | CP75: =CN74*$D$32*$D$31 -> 244894.66
F76: 44 | CP76: =CN75*$D$32*$D$31 -> 306118.32 | CQ76: =CO75*$D$32*$D$31 -> 1224473.3 | CR76: =CP75*$D$32*$D$31 -> 306118.32
F77: 45 | CR77: =CP76*$D$32*$D$31 -> 382647.9 | CS77: =CQ76*$D$32*$D$31 -> 1530591.6 | CT77: =CR76*$D$32*$D$31 -> 382647.9
F78: 46 | CT78: =CR77*$D$32*$D$31 -> 478309.88 | CU78: =CS77*$D$32*$D$31 -> 1913239.5 | CV78: =CT77*$D$32*$D$31 -> 478309.88
F79: 47 | CV79: =CT78*$D$32*$D$31 -> 597887.34 | CW79: =CU78*$D$32*$D$31 -> 2391549.4 | CX79: =CV78*$D$32*$D$31 -> 597887.34
F80: 48 | CX80: =CV79*$D$32*$D$31 -> 747359.18 | CY80: =CW79*$D$32*$D$31 -> 2989436.7 | CZ80: =CX79*$D$32*$D$31 -> 747359.18
F81: 49 | CZ81: =CX80*$D$32*$D$31 -> 934198.98 | DA81: =CY80*$D$32*$D$31 -> 3736795.9 | DB81: =CZ80*$D$32*$D$31 -> 934198.98
F82: 50 | DB82: =CZ81*$D$32*$D$31 -> 1167748.7 | DC82: =DA81*$D$32*$D$31 -> 4670994.9 | DD82: =DB81*$D$32*$D$31 -> 1167748.7
A85: DWARVES | B85: Total born | D85: 4 | G85: Born Year -->
B86: Children reaching breeding age | D86: 3.6 | E86: =D86/D85 -> 0.9 | F86: Generation | G86: 0 | H86: =G86+$N$5/2 -> 35.5 | I86: =H86+$N$5/2 -> 71 | J86: =I86+$N$5/2 -> 106.5 | K86: =J86+$N$5/2 -> 142 | L86: =K86+$N$5/2 -> 177.5 | M86: =L86+$N$5/2 -> 213 | N86: =M86+$N$5/2 -> 248.5 | O86: =N86+$N$5/2 -> 284 | ... AO86: =AN86+$N$5/2 -> 1207
B87: Female to Male ratio | D87: =1/3 -> 0.33333333 | F87: 0 | G87: =50/D87 -> 150
C88: Death Factor | F88: 1 | H88: =G87*$D$87*$D$86/6 -> 30 | I88: =G87*$D$87*4/6*$D$86 -> 120 | J88: =G87*$D$87*$D$86/6 -> 30
B89: Year 200 children = | C89: -0.08 | D89: =(1-C89)*(M90) -> 186.624 | E89: =D89/$D95 -> 0.24003482 | F89: 2 | J89: =H88*$D$87*$D$86 -> 36 | K89: =I88*$D$87*$D$86 -> 144 | L89: =J88*$D$87*$D$86 -> 36
B90: Year 200 young = | C90: -0.021 | D90: =(1-C90)*(L89+L90) -> 80.8632 | E90: =D90/D95 -> 0.10400583 | F90: 3 | L90: =J89*$D$87*$D$86 -> 43.2 | M90: =K89*$D$87*$D$86 -> 172.8 | N90: =L89*$D$87*$D$86 -> 43.2
B91: Year 200 mature = | C91: 0 | D91: =(1-C91)*(K89+J88+J89+I88) -> 330 | E91: =D91/D95 -> 0.42444429 | F91: 4 | N91: =L90*$D$87*$D$86 -> 51.84 | O91: =M90*$D$87*$D$86 -> 207.36 | P91: =N90*$D$87*$D$86 -> 51.84
B92: Year 200 middle age = | C92: 0 | D92: =(1-C92)*(H88+G87) -> 180 | E92: =D92/D95 -> 0.23151507 | F92: 5 | P92: =N91*$D$87*$D$86 -> 62.208 | Q92: =O91*$D$87*$D$86 -> 248.832 | R92: =P91*$D$87*$D$86 -> 62.208
B93: Year 200 old = | C93: 0.15 | D93: 0 | E93: =D93/D95 -> 0 | F93: 6 | R93: =P92*$D$87*$D$86 -> 74.6496 | S93: =Q92*$D$87*$D$86 -> 298.5984 | T93: =R92*$D$87*$D$86 -> 74.6496
B94: Year 200 venerable = | C94: 0.4 | D94: 0 | E94: =D94/D95 -> 0 | F94: 7 | T94: =R93*$D$87*$D$86 -> 89.57952 | U94: =S93*$D$87*$D$86 -> 358.31808 | V94: =T93*$D$87*$D$86 -> 89.57952
B95: Year 200 total = | D95: =SUM(D89:D94) -> 777.4872 | F95: 8 | V95: =T94*$D$87*$D$86 -> 107.49542 | W95: =U94*$D$87*$D$86 -> 429.9817 | X95: =V94*$D$87*$D$86 -> 107.49542
F96: 9 | X96: =V95*$D$87*$D$86 -> 128.99451 | Y96: =W95*$D$87*$D$86 -> 515.97804 | Z96: =X95*$D$87*$D$86 -> 128.99451
B97: Year 400 children = | C97: -0.08 | D97: =(1-C97)*(R93+R92+Q92/5) -> 201.55392 | E97: =D97/$D103 -> 0.13788555 | F97: 10 | Z97: =X96*$D$87*$D$86 -> 154.79341 | AA97: =Y96*$D$87*$D$86 -> 619.17364 | AB97: =Z96*$D$87*$D$86 -> 154.79341
B98: Year 400 young = | C98: -0.021 | D98: =(1-C98)*(Q92*4/5) -> 203.24598 | E98: =D98/$D103 -> 0.13904311 | F98: 11 | AB98: =Z97*$D$87*$D$86 -> 185.75209 | AC98: =AA97*$D$87*$D$86 -> 743.00837 | AD98: =AB97*$D$87*$D$86 -> 185.75209
B99: Year 400 mature = | C99: 0 | D99: =(1-C99)*(P91+P92+O91) -> 321.408 | E99: =D99/$D103 -> 0.21987923 | F99: 12 | AD99: =AB98*$D$87*$D$86 -> 222.90251 | AE99: =AC98*$D$87*$D$86 -> 891.61004 | AF99: =AD98*$D$87*$D$86 -> 222.90251
B100: Year 400 middle age = | C100: 0 | D100: =(1-C100)*(N90+N91+M90+L90+L89) -> 347.04 | E100: =D100/$D103 -> 0.2374144 | F100: 13 | AF100: =AD99*$D$87*$D$86 -> 267.48301 | AG100: =AE99*$D$87*$D$86 -> 1069.9321 | AH100: =AF99*$D$87*$D$86 -> 267.48301
B101: Year 400 old = | C101: 0.15 | D101: =(1-C101)*(K89+J89+J88+I88) -> 280.5 | E101: =D101/$D103 -> 0.19189355 | F101: 14 | AH101: =AF100*$D$87*$D$86 -> 320.97962 | AI101: =AG100*$D$87*$D$86 -> 1283.9185 | AJ101: =AH100*$D$87*$D$86 -> 320.97962
B102: Year 400 venerable = | C102: 0.4 | D102: =(1-C102)*(G87+H88) -> 108 | E102: =D102/$D103 -> 0.073884149 | F102: 15 | AJ102: =AH101*$D$87*$D$86 -> 385.17554 | AK102: =AI101*$D$87*$D$86 -> 1540.7022 | AL102: =AJ101*$D$87*$D$86 -> 385.17554
B103: Year 400 total = | D103: =SUM(D97:D102) -> 1461.7479 | F103: 16 | AL103: =AJ102*$D$87*$D$86 -> 462.21065 | AM103: =AK102*$D$87*$D$86 -> 1848.8426 | AN103: =AL102*$D$87*$D$86 -> 462.21065
F104: 17 | AN104: =AL103*$D$87*$D$86 -> 554.65278 | AO104: =AM103*$D$87*$D$86 -> 2218.6111 | AP104: =AN103*$D$87*$D$86 -> 554.65278
B105: Year 1200 children = | C105: -0.08 | D105: =(1-C105)*(AO104) -> 2396.1 | E105: =D105/$D111 -> 0.1811214
B106: Year 1200 young = | C106: -0.021 | D106: =(1-C106)*(AN103+AN104) -> 1038.2176 | E106: =D106/$D111 -> 0.078478953
B107: Year 1200 mature = | C107: 0 | D107: =(1-C107)*(AM103+AL103+AL102+AK102) -> 4236.9309 | E107: =D107/$D111 -> 0.32026997
B108: Year 1200 middle age = | C108: 0 | D108: =(1-C108)*(AJ102+AJ101+AI101+AH101+AH100) -> 2578.5362 | E108: =D108/$D111 -> 0.19491177
B109: Year 1200 old = | C109: 0.15 | D109: =(1-C109)*(AG100+AF100+AF99+AE99) -> 2084.1385 | E109: =D109/$D111 -> 0.1575402
B110: Year 1200 venerable = | C110: 0.4 | D110: =(1-C110)*(AD99+AD98+AC98+AB98+AB97) -> 895.32509 | E110: =D110/$D111 -> 0.067677699
B111: Year 1200 total = | D111: =SUM(D105:D110) -> 13229.248
B113: Year | C113: Generations | D113: Total pop
B114: 200 | C114: =ROUND((B114-$M$5)/$N$5+0.5,1) &" to "& ROUND(B114/$N$5-0.5,1) -> -3 to 2.3 | D114: =SUMPRODUCT($G$87*($D$86*$D$87)^({1,2,2.3})) -> 624.14351
B115: 400 | C115: =ROUND((B115-$M$5)/$N$5+0.5,1) &" to "& ROUND(B115/$N$5-0.5,1) -> -0.2 to 5.1 | D115: =SUMPRODUCT($G$87*($D$86*$D$87)^({1,2,3,4,5.1})) -> 1346.3555
B116: 1200 | C116: =ROUND((B116-$M$5)/$N$5+0.5,1) &" to "& ROUND(B116/$N$5-0.5,1) -> 11.1 to 16.4 | D116: =SUMPRODUCT($G$87*($D$86*$D$87)^({11.1,12.1,13.1,14.1,15.1,16.1,16.4})) -> 14253.719
B117: 3800 | C117: =ROUND((B117-$M$5)/$N$5+0.5,1) &" to "& ROUND(B117/$N$5-0.5,1) -> 47.7 to 53 | D117: =SUMPRODUCT($G$87*($D$86*$D$87)^({47.7,48.7,49.7,50.7,51.7,52.7,53})) -> 11270983
C119: =100*D85 -> 400
...

Sheet Sheet1
B3: =SUMPRODUCT(100*(1.25^({1,2,3,4,5,6,7,8,9,10}))) -> 4156.6129
C4: 100 | D4: 1 | E4: 1.25 | F4: =C4*E4 -> 125
C5: 100 | D5: 2 | E5: =1.25^D5 -> 1.5625 | F5: =C5*E5 -> 156.25
C6: 100 | D6: 3 | E6: =1.25^D6 -> 1.953125 | F6: =C6*E6 -> 195.3125
C7: 100 | D7: 4 | E7: =1.25^D7 -> 2.4414062 | F7: =C7*E7 -> 244.14062
C8: 100 | D8: 5 | E8: =1.25^D8 -> 3.0517578 | F8: =C8*E8 -> 305.17578
C9: 100 | D9: 6 | E9: =1.25^D9 -> 3.8146973 | F9: =C9*E9 -> 381.46973
C10: 100 | D10: 7 | E10: =1.25^D10 -> 4.7683716 | F10: =C10*E10 -> 476.83716
C11: 100 | D11: 8 | E11: =1.25^D11 -> 5.9604645 | F11: =C11*E11 -> 596.04645
C12: 100 | D12: 9 | E12: =1.25^D12 -> 7.4505806 | F12: =C12*E12 -> 745.05806
C13: 100 | D13: 10 | E13: =1.25^D13 -> 9.3132257 | F13: =C13*E13 -> 931.32257
F14: =SUM(F4:F13) -> 4156.6129
